Workbook

Sheet INSTRUCTIVO
A1: INSTRUCTIVO
A7: AREA | B7: Definir el area en donde se realizara el analisis
A8: ESPACIO DE TRABAJO | B8: Espacio o area de trabajo suficiente para realizar la labor incluye tareas de digitación,trabajos de escritura, lectura en pantalla , revison de documentos en fisico,atencion telefonica ó atencion a clientes internos y/o externos etc. Identificiacion de uso de cajoneras que reduzcan el espacio para la movilidad de los miembros inferiores
A9: ORDEN Y ASEO | B9: Espacio o area de trabajo suficiente para realizar la labor incluye tareas de digitación,trabajos de escritura, lectura en pantalla , revison de documentos en fisico,atencion telefonica ó atencion a clientes internos y/o externos etc
A10: PLANO | B10: Altura de plano de trabajo permite mantener los hombros relajados, codos flexionados, pies apoyados en el piso y la superficie principal de trabajo
A11: ALCANCES | B11: Los elementos de mayor utilización se encuentran ubicados en una posición cercana al trabajador mouse-teclado-telefono, entre otros.
A12: MOUSE Y TECLADO EN EL MISMO PLANO | B12: Teclado y Mouse a la misma altura, con espacio minimo de 20 cm. por delante del teclado y mouse para el apoyo de los antebrazos, sobre la superficie principal de trabajo. ó uso de los apoyabrazos de la silla, los cuales cuentan con mecanisos de graduacion en amplitud y altura para el apoyo de los antebrazos.
A13: BORDES DE PRESION | B13: Hay elementos que produzcan presión sobre las muñecas (incluye bordes del teclado o del portatelcado y pad mouse con elevada almohadilla de apoyo para muñeca o el uso de apoyamuñecas)
A14: PORTATIL | B14: En caso de PC portátil se cuenta con teclado mouse externo y pantalla adicional (o base para portatil)
A15: UBICACIÓN FRONTAL | B15: Ubicación del VDT frontal al colaborador
A16: ALTURA VISUAL | B16: Altura adecuada del VDT respecto a la horizontal (14" en el 1/4 superior, 17" en el 1/3 medio)
A17: DISTANCIA | B17: Distancia del VDT adecuada (14" 40 a 70 cm., 17" 55 a 75 cm.)
A18: REFLEJOS | B18: Ausencia de reflejos en el VDT
... A23: CABLEADO | B23: El cableado en general se encuentra organizado y su longitud permite el ajuste del puesto de trabajo

Sheet CRITERIOS DE STANFORT
A2: CRITERIO | B2: PARAMETRO ERGONOMICO
A3: Altura pantalla | B3: El borde superior de la pantalla de los monitores de 14 pulgadas debe coincidir con la altura visual del usuario o estar levemente por debajo, para los monitores de 17 pulgadas con el borde superior del tercio medio de la pantalla y con los de 21 pulgadas hacia la mitad de la pantalla.
B4: Evitar al máximo la altura que comprometen cuello en flexión o extensión.
A5: Ubicación de la pantalla | B5: Debe garantizarse la ubicación frontal del monitor sin que se favorezca compromiso del cuello en rotación.
B6: La ubicación diagonal de los monitores no se recomienda.
A7: Distancia de la pantalla | B7: La distancia recomendada depende del tamaño del monitor. Para 14 pulgadas esta entre 40 cms y 70 cms; 17 pulgadas entre 55 cms y 75 cms y de 21 pulgadas, superior a los 70 cms.
A9: Reflejo de la pantalla | B9: Los monitores deben ubicarse en lo posible perpendiculares a las fuentes de luz natural o artificial para evitar los reflejos o brillos sobre los mismos.
B10: El uso de filtros anti-reflejo se pueden utilizar cuando no se controla el reflejo de otra forma (ejemplo: Cambiando de ubicación el mobiliario y/o los equipos o uso de cortinas)
A11: Luz directa | B11: Evitar la ubicación del usuario de frente a las fuentes de luz artificial o natural, que le encandilen. De ser necesario controlar con filtros en las ventanas, persianas o cortinas.
A13: Iluminación en el puesto de trabajo | B13: Contar con ambiente lumínico que se ajuste al sistema de trabajo. La fuente de luz debe estar ubicada justo encima de la superficie de trabajo para iluminar la tarea, el confort lumínico lo refiere el usuario.
A15: Altura del teclado | B15: La altura de la superficie en la que se encuentra el teclado debe coincidir con la altura de los codos a 90 grados de flexión y con el hombro relajado.
A18: Ubicación del teclado | B18: Debe estar ubicado delante del monitor y de frente al usuario para eliminar las rotaciones de tronco por disposiciones diferentes a la frontal. La profundidad útil de la superficie debe garantizar un espacio delante del teclado para apoyar los antebrazos un su primer tercio y logra una alineación de muñeca como se describe en los siguientes criterios.
A21: Apoyo para muñecas | B21: Se debe contar con un espacio entre 15 y 18 cm delante del teclado. Se busca evitar el apoyo de la estructura ósea de la muñeca en el borde de la superficie de trabajo. El apoyo correcto debe estar en la región muscular del antebrazo.
A23: Posición de las muñecas | B23: La muñeca debe estar alineada en ángulo de cero grados o ángulo recto hasta un ángulo de 20 grados de extensión. Se deben evitar las posiciones de muñeca en cualquier desviación ( hacia los lados, arriba o abajo está contraindicado)
A25: Ubicación del ratón | B25: El ratón como elemento de uso frecuente debe estar ubicado dentro del alcance funcional del brazo, sin comprometer el tronco en flexión al interactuar con él. Debe estar en el mismo plano del teclado, bien sea sobre la superficie de trabajo o en el porta teclado.
A27: Ubicación de elementos de uso frecuente | B27: De acuerdo con la frecuencia de uso, la dominancia del usuario y el área de trabajo con que se cuente, deberán ubicarse los elementos de mayor frecuencia dentro del alcance funcional de los brazos, esto con el fin de contrarrestar el esfuerzo innecesario a nivel de la columna por la flexión o inclinación de tronco al alcanzar objetos que se encuentran ubicados por fuera de los alcances funcionales del usuario.
B28: Cabe aclarar que resulta importante promover cambios de posición sedente (sentado) conservando la distribución correcta del peso corporal en la silla y de posturas en bipedestación (de pie).
A29: Mecanismos de la silla | B29: Se espera que los mecanismos de ajuste de altura, profundidad, ángulos de inclinación entre otras, cuenten con un estado de funcionalidad correcto y un programa de mantenimiento preventivo y correctivo. La ubicación de los mecanismos debe ser de fácil maniobrabilidad y acceso desde la posición sentado. Eliminar los requerimientos de fuerza y la utilización de herramientas para su operatividad.
A31: Altura de la sillas | B31: Una vez se logre ajustar la altura de la silla para que coincida la altura del codo a 90 grados de flexión y con la altura de la superficie de trabajo, se debe observar si el usuario queda con sus miembros inferiores alineados (en ángulos de 90 grados en cadera, rodilla y cuello de pie ). Si la condición anterior no se presenta y por lo contrario el muslo no esta paralelo al piso, al usuario se le debe suministrar un reposapiés que la permita alinear sus miembros inferiores y disminuir tensión en columna lumbar.
A33: Respaldo de la silla | B33: La forma del respaldo, sus dimensiones y ajustabilidad deben responder principalmente a la forma de la espalda, por ende a las curvas de la columna. Es importante la comodidad que reporte el usuario frente a este criterio. Debe ofrecer un soporte que favorezca la posición erguida.
A35: Apoyabrazos | B35: No se recomienda para estaciones de trabajo con videoterminal, pero al tenerlo, implica que no limite el acceso debajo de la superficie haciendo que el usuario pierda el apoyo de la espalda en el espaldar de la silla, por la distancia que ellos generan. En lo posible su ajustabilidad garantiza el uso de acuerdo con las características antropométricas del usuario.
A38: Ajuste de la silla | B38: La silla utilizada debe ajustarse a las características del usuario, lo cual se garantiza con mecanismos funcionales y rangos de ajustabilidad que responda a las necesidades de la población trabajadora además de su estructura y estado funcional y estético. Debe favorecer el cumplimiento de los demás parámetros de geometría de conjunto.
A40: Altura superficie | B40: Resulta conveniente que los elementos de trabajo se encuentren a un nivel o altura que permitan ajustar la altura de la silla a la superficie de trabajo. El codo a 90 grados de flexión debe coincidir con la altura de la superficie. Si hay más de una superficie a diferentes alturas se debe contar con elementos de confort que garanticen la geometría de conjunto.
A42: Espacio para miembros inferiores | B42: Debajo de la superficie de trabajo se debe contar con espacio holgado, libre de obstáculos que permitan la ubicación frontal del usuario y la adopción de posturas de descanso para sus miembros inferiores. Retirar cualquier elemento que limite el espacio e interfiera en la geometría de conjunto (entrepaños, cajones, archivos, etc.)
A44: Cables sin canaletas | B44: Colocar los cables dentro de canaletas y/o colocar amarres, previenen que el usuario se enrede en ellos, desconectando el equipo y perdiendo la información y provocando un posible riesgo eléctrico.
A46: Cajón limita espacio | B46: La presencia de cajoneras tanto debajo de la superficie de trabajo como sobre ellas, que interfieran con cualquier elemento para cumplir con los criterios ergonómicos, deberá reubicarse a la altura y profundidad indicada para no interferir en la geometría de conjunto.
A48: Obstáculos área de circulación | B48: La circulación holgada debe garantizarse en las estaciones y áreas de trabajo, evitando obstaculizar la circulación segura de todos los usuarios y/o la sensación de hacinamiento por la ubicación de objetos. La presencia de barreras arquitectónicas debe ser tenida en cuenta al ubicar las estaciones de trabajo, al igual que asignar áreas de acuerdo con las características y necesidades del sistema de trabajo para no generar interferencias.
A51: Higiene postural | B51: El usuario utiliza una mecánica corporal en sus actividades cotidianas en las que minimiza carga física por posiciones alineadas evitando anti gravitación (alejarse del eje corporal), distribuyendo equitativamente el peso corporal en los dos hemicuerpos, junto movimientos dentro de ángulos confortables, evitando maniobras extremas forzadas y/o manipulando o transportando cargas utilizando los segmentos sin generar riesgo para columna vertebral.

Sheet LISTA
F1: LOCATIVO | L1: DISEÑO DEL PUESTO | T1: MONITOR | AB1: DISEÑO DE LA SILLA | AH1: AMBIENTE | AN1: ORGANIZACIONAL | AY1: RECOMENDACIONES | BE1: ELEMENTOS DE CONFORT REQUERIDOS | BI1: MOBILIARIO
A2: N° | B2: ÁREA | C2: IDENTIFICACIÓN | D2: NOMBRE DEL TRABAJADOR | E2: CARGO | F2: ESPACIO DE TRABAJO | H2: ORDEN Y ASEO | J2: CABLEADO | L2: PLANO DE TRABAJO | N2: ALCANCES | P2: MOUSE Y TECLADO EN EL MISMO PLANO | R2: BORDES DE PRESIÓN SOBRE MUÑECAS | T2: PORTÁTIL CON ELEMENTOS | V2: UBICACIÓN FRONTAL | X2: ALTURA VISUAL | Z2: DISTANCIA VDT | AB2: ALTURA | AD2: PROFUNDIDAD ESPALDAR | AF2: ACABADOS | AH2: REFLEJOS | AJ2: ILUMINACIÓN | AL2: TEMPERATURA Y VENTILACIÓN | AN2: HIGIENE POSTURAL | AP2: PAUSAS LABORALES | AR2: CAPACITACIONES | AT2: TOTAL DE CONDICIONES SUBESTÁNDAR ENCONTRADAS | AU2: TOTAL DE CONDICIONES SUBESTÁNDAR CORREGIDAS | AV2: RTA DEL TALLER % CORRECCIÓN | AW2: CONDICIONES DEL PUESTO VALORACIÓN INICIAL | AX2: GRADO DE CORRECCIÓN EN EL TALLER | AY2: LOCATIVO | AZ2: DISEÑO DEL PUESTO | BA2: MONITOR | BB2: SILLA | BC2: AMBIENTE | BD2: ORGANIZACIONAL | BE2: APOYAPIES | BF2: BASE PARA MONITOR CONVENCIONAL | BG2: BASE PARA PORTÁTIL, TECLADO Y MOUSE EXTERNO | BH2: REPOSICIÓN DE SILLA | BI2: MOBILIARIO
F3: CALIF | G3: CORR | H3: CALIF | I3: CORR | J3: CALIF | K3: CORR | L3: CALIF | M3: CORR | N3: CALIF | O3: CORR | P3: CALIF | Q3: CORR | R3: CALIF | S3: CORR | T3: CALIF | U3: CORR | V3: CALIF | W3: CORR | X3: CALIF | Y3: CORR | Z3: CALIF | AA3: CORR | AB3: CALIF | AC3: CORR | AD3: CALIF | AE3: CORR | AF3: CALIF | AG3: CORR | AH3: CALIF | AI3: CORR | AJ3: CALIF | AK3: CORR | AL3: CALIF | AM3: CORR | AN3: CALIF | AO3: CORR | AP3: CALIF | AQ3: CORR | AR3: CALIF | AS3: CORR
A4: N° | B4: ÁREA | C4: IDENTIFICACIÓN | D4: NOMBRE DEL TRABAJADOR | E4: CARGO | F4: ESPACIO DE TRABAJO | G4: ESPACIO DE TRABAJO | H4: ORDEN Y ASEO | I4: ORDEN Y ASEO | J4: CABLEADO | K4: CABLEADO | L4: PLANO DE TRABAJO | M4: PLANO DE TRABAJO | N4: ALCANCES | O4: ALCANCES | P4: MOUSE Y TECLADO EN EL MISMO PLANO | Q4: MOUSE Y TECLADO EN EL MISMO PLANO | R4: BORDES DE PRESIÓN SOBRE MUÑECAS | S4: BORDES DE PRESIÓN SOBRE MUÑECAS | T4: PORTÁTIL CON ELEMENTOS | U4: PORTÁTIL CON ELEMENTOS | V4: UBICACIÓN FRONTAL | W4: UBICACIÓN FRONTAL | X4: ALTURA VISUAL | Y4: ALTURA VISUAL | Z4: DISTANCIA VDT | AA4: DISTANCIA VDT | AB4: ALTURA | AC4: ALTURA | AD4: PROFUNDIDAD ESPALDAR | AE4: PROFUNDIDAD ESPALDAR | AF4: ACABADOS | AG4: ACABADOS | AH4: REFLEJOS | AI4: REFLEJOS | AJ4: ILUMINACIÓN | AK4: ILUMINACIÓN | AL4: TEMPERATURA Y VENTILACIÓN | AM4: TEMPERATURA Y VENTILACIÓN | AN4: HIGIENE POSTURAL | AO4: HIGIENE POSTURAL | AP4: PAUSAS LABORALES | AQ4: PAUSAS LABORALES | AR4: CAPACITACIONES | AS4: CAPACITACIONES | AT4: TOTAL DE CONDICIONES SUBESTÁNDAR ENCONTRADAS | AU4: TOTAL DE CONDICIONES SUBESTÁNDAR CORREGIDAS | AV4: RTA DEL TALLER % CORRECCIÓN | AW4: CONDICIONES DEL PUESTO VALORACIÓN INICIAL | AX4: GRADO DE CORRECCIÓN EN EL TALLER | AY4: LOCATIVO | AZ4: DISEÑO DEL PUESTO | BA4: MONITOR | BB4: SILLA | BC4: AMBIENTE | BD4: ORGANIZACIONAL | BE4: APOYAPIES | BF4: BASE PARA MONITOR CONVENCIONAL | BG4: BASE PARA PORTÁTIL, TECLADO Y MOUSE EXTERNO | BH4: REPOSICIÓN DE SILLA | BI4: MOBILIARIO | BJ4: → | BK4: Esta fila se puede ocultar para la entrega del informe, pero no se puede eliminar porque son las variables de las tablas dinámicas.
A5: 1 | B5: ADMINISTRATIVOS | C5: 12644832 | D5: INGRID OLIVEROS | E5: SECRETARIA EJECUTIVA | F5: 0 | G5: 0 | H5: 0 | I5: 0 | J5: 1 | K5: 0 | L5: 0 | M5: 0 | N5: 0 | O5: 0 | P5: 0 | Q5: 0 | R5: 0 | S5: 0 | T5: 0 | U5: 0 | V5: 0 | W5: 0 | X5: 0 | Y5: 0 | Z5: 0 | AA5: 0 | AB5: 0 | AC5: 0 | AD5: 0 | AE5: 0 | AF5: 0 | AG5: 0 | AH5: 0 | AI5: 0 | AJ5: 0 | AK5: 0 | AL5: 0 | AM5: 0 | AN5: 0 | AO5: 0 | AP5: 0 | AQ5: 0 | AR5: 0 | AS5: 0 | AT5: =SUM(F5,L5,N5,P5,R5,T5,V5,X5,AB5,AD5,AH5,AJ5) -> 0 | AU5: =SUM(G5,M5,O5,Q5,S5,U5,W5,Y5,AC5,AE5,AI5,AK5) -> 0 | AV5: =+AU5/AT5 -> #DIV/0! | AW5: =IF(AND(AT5>=6,AT5<=12),"NO CUMPLE",IF(AND(AT5>2,AT5<=7),"CUMPLE PARCIAL",IF(AND(AT5<=2),"CUMPLE"))) -> CUMPLE | AX5: =IF(AND(AV5<=100%,AV5>=80%),"ALTO",IF(AND(AV5<80%,AV5>50%),"MEDIO",IF(AND(AV5<=50%,AV5>=0%),"BAJO"))) -> #DIV/0!
A6: 2 | B6: ADMINISTRATIVOS | C6: 1065833246 | D6: ARMANDO VILLAZON | E6: COORDINADOS GIT FINANCIERO | F6: 0 | G6: 0 | H6: 1 | I6: 0 | J6: 1 | K6: 0 | L6: 0 | M6: 0 | N6: 0 | O6: 0 | P6: 0 | Q6: 0 | R6: 0 | S6: 0 | T6: 0 | U6: 0 | V6: 0 | W6: 0 | X6: 0 | Y6: 0 | Z6: 0 | AA6: 0 | AB6: 1 | AC6: 0 | AD6: 0 | AE6: 0 | AF6: 0 | AG6: 0 | AH6: 1 | AI6: 0 | AJ6: 0 | AK6: 0 | AL6: 0 | AM6: 0 | AN6: 1 | AO6: 0 | AP6: 0 | AQ6: 0 | AR6: 0 | AS6: 0 | AT6: =SUM(F6,L6,N6,P6,R6,T6,V6,X6,AB6,AD6,AH6,AJ6) -> 2 | AU6: =SUM(G6,M6,O6,Q6,S6,U6,W6,Y6,AC6,AE6,AI6,AK6) -> 0 | AV6: =+AU6/AT6 -> 0 | AW6: =IF(AND(AT6>=6,AT6<=12),"NO CUMPLE",IF(AND(AT6>2,AT6<=7),"CUMPLE PARCIAL",IF(AND(AT6<=2),"CUMPLE"))) -> CUMPLE | AX6: =IF(AND(AV6<=100%,AV6>=80%),"ALTO",IF(AND(AV6<80%,AV6>50%),"MEDIO",IF(AND(AV6<=50%,AV6>=0%),"BAJO"))) -> BAJO
A7: 3 | B7: ADMINISTRATIVOS | C7: 64584987 | D7: LEIDYS MONTERO | E7: TESORERA- | F7: 0 | G7: 0 | H7: 0 | I7: 0 | J7: 1 | K7: 0 | L7: 0 | M7: 0 | N7: 0 | O7: 0 | P7: 0 | Q7: 0 | R7: 0 | S7: 0 | T7: 0 | U7: 0 | V7: 0 | W7: 0 | X7: 0 | Y7: 0 | Z7: 0 | AA7: 0 | AB7: 0 | AC7: 0 | AD7: 0 | AE7: 0 | AF7: 0 | AG7: 0 | AH7: 1 | AI7: 0 | AJ7: 0 | AK7: 0 | AL7: 0 | AM7: 0 | AN7: 0 | AO7: 0 | AP7: 0 | AQ7: 0 | AR7: 0 | AS7: 0 | AT7: =SUM(F7,L7,N7,P7,R7,T7,V7,X7,AB7,AD7,AH7,AJ7) -> 1 | AU7: =SUM(G7,M7,O7,Q7,S7,U7,W7,Y7,AC7,AE7,AI7,AK7) -> 0 | AV7: =+AU7/AT7 -> 0 | AW7: =IF(AND(AT7>=6,AT7<=12),"NO CUMPLE",IF(AND(AT7>2,AT7<=7),"CUMPLE PARCIAL",IF(AND(AT7<=2),"CUMPLE"))) -> CUMPLE | AX7: =IF(AND(AV7<=100%,AV7>=80%),"ALTO",IF(AND(AV7<80%,AV7>50%),"MEDIO",IF(AND(AV7<=50%,AV7>=0%),"BAJO"))) -> BAJO
A8: 4 | B8: ADMINISTRATIVOS | C8: 1004122434 | D8: OMEY ARIZA | E8: JEFE DE TALENTO HUMANO | F8: 0 | G8: 0 | H8: 1 | I8: 0 | J8: 1 | K8: 0 | L8: 0 | M8: 0 | N8: 0 | O8: 0 | P8: 0 | Q8: 0 | R8: 0 | S8: 0 | T8: 0 | U8: 0 | V8: 0 | W8: 0 | X8: 0 | Y8: 0 | Z8: 0 | AA8: 0 | AB8: 0 | AC8: 0 | AD8: 0 | AE8: 0 | AF8: 0 | AG8: 0 | AH8: 1 | AI8: 0 | AJ8: 0 | AK8: 0 | AL8: 0 | AM8: 0 | AN8: 0 | AO8: 0 | AP8: 0 | AQ8: 0 | AR8: 0 | AS8: 0 | AT8: =SUM(F8,L8,N8,P8,R8,T8,V8,X8,AB8,AD8,AH8,AJ8) -> 1 | AU8: =SUM(G8,M8,O8,Q8,S8,U8,W8,Y8,AC8,AE8,AI8,AK8) -> 0 | AV8: =+AU8/AT8 -> 0 | AW8: =IF(AND(AT8>=6,AT8<=12),"NO CUMPLE",IF(AND(AT8>2,AT8<=7),"CUMPLE PARCIAL",IF(AND(AT8<=2),"CUMPLE"))) -> CUMPLE | AX8: =IF(AND(AV8<=100%,AV8>=80%),"ALTO",IF(AND(AV8<80%,AV8>50%),"MEDIO",IF(AND(AV8<=50%,AV8>=0%),"BAJO"))) -> BAJO
A9: 5 | B9: ADMINISTRATIVOS | C9: 1065641341 | D9: LIBIA IRIS OJEDA | E9: AUXILIAR ADMINISTRATIVO | F9: 0 | G9: 0 | H9: 1 | I9: 0 | J9: 1 | K9: 0 | L9: 0 | M9: 0 | N9: 0 | O9: 0 | P9: 0 | Q9: 0 | R9: 0 | S9: 0 | T9: 0 | U9: 0 | V9: 0 | W9: 0 | X9: 0 | Y9: 0 | Z9: 0 | AA9: 0 | AB9: 0 | AC9: 0 | AD9: 0 | AE9: 0 | AF9: 0 | AG9: 0 | AH9: 0 | AI9: 0 | AJ9: 0 | AK9: 0 | AL9: 0 | AM9: 0 | AN9: 0 | AO9: 0 | AP9: 0 | AQ9: 0 | AR9: 0 | AS9: 0 | AT9: =SUM(F9,L9,N9,P9,R9,T9,V9,X9,AB9,AD9,AH9,AJ9) -> 0 | AU9: =SUM(G9,M9,O9,Q9,S9,U9,W9,Y9,AC9,AE9,AI9,AK9) -> 0 | AV9: =+AU9/AT9 -> #DIV/0! | AW9: =IF(AND(AT9>=6,AT9<=12),"NO CUMPLE",IF(AND(AT9>2,AT9<=7),"CUMPLE PARCIAL",IF(AND(AT9<=2),"CUMPLE"))) -> CUMPLE | AX9: =IF(AND(AV9<=100%,AV9>=80%),"ALTO",IF(AND(AV9<80%,AV9>50%),"MEDIO",IF(AND(AV9<=50%,AV9>=0%),"BAJO"))) -> #DIV/0!
A10: 6 | B10: ADMINISTRATIVOS | D10: ISMAEL ESCORDIA | E10: PROFESIONAL EN EDUCACION Y PARTICIPACION CIUDADANA | F10: 0 | G10: 0 | H10: 1 | I10: 0 | J10: 1 | K10: 0 | L10: 0 | M10: 0 | N10: 0 | O10: 0 | P10: 0 | Q10: 0 | R10: 0 | S10: 0 | T10: 0 | U10: 0 | V10: 1 | W10: 0 | X10: 1 | Y10: 0 | Z10: 0 | AA10: 0 | AB10: 0 | AC10: 0 | AD10: 0 | AE10: 0 | AF10: 0 | AG10: 0 | AH10: 0 | AI10: 0 | AJ10: 0 | AK10: 0 | AL10: 0 | AM10: 0 | AN10: 1 | AO10: 0 | AP10: 0 | AQ10: 0 | AR10: 0 | AS10: 0 | AT10: =SUM(F10,L10,N10,P10,R10,T10,V10,X10,AB10,AD10,AH10,AJ10) -> 2 | AU10: =SUM(G10,M10,O10,Q10,S10,U10,W10,Y10,AC10,AE10,AI10,AK10) -> 0 | AV10: =+AU10/AT10 -> 0 | AW10: =IF(AND(AT10>=6,AT10<=12),"NO CUMPLE",IF(AND(AT10>2,AT10<=7),"CUMPLE PARCIAL",IF(AND(AT10<=2),"CUMPLE"))) -> CUMPLE | AX10: =IF(AND(AV10<=100%,AV10>=80%),"ALTO",IF(AND(AV10<80%,AV10>50%),"MEDIO",IF(AND(AV10<=50%,AV10>=0%),"BAJO"))) -> BAJO
A11: 7 | F11: 0 | G11: 0 | H11: 0 | I11: 0 | J11: 0 | K11: 0 | L11: 0 | M11: 0 | N11: 0 | O11: 0 | P11: 0 | Q11: 0 | R11: 0 | S11: 0 | T11: 0 | U11: 0 | V11: 0 | W11: 0 | X11: 0 | Y11: 0 | Z11: 0 | AA11: 0 | AB11: 0 | AC11: 0 | AD11: 0 | AE11: 0 | AF11: 0 | AG11: 0 | AH11: 0 | AI11: 0 | AJ11: 0 | AK11: 0 | AL11: 0 | AM11: 0 | AN11: 0 | AO11: 0 | AP11: 0 | AQ11: 0 | AR11: 0 | AS11: 0 | AT11: =SUM(F11,L11,N11,P11,R11,T11,V11,X11,AB11,AD11,AH11,AJ11) -> 0 | AU11: =SUM(G11,M11,O11,Q11,S11,U11,W11,Y11,AC11,AE11,AI11,AK11) -> 0 | AV11: =+AU11/AT11 -> #DIV/0! | AW11: =IF(AND(AT11>=6,AT11<=12),"NO CUMPLE",IF(AND(AT11>2,AT11<=7),"CUMPLE PARCIAL",IF(AND(AT11<=2),"CUMPLE"))) -> CUMPLE | AX11: =IF(AND(AV11<=100%,AV11>=80%),"ALTO",IF(AND(AV11<80%,AV11>50%),"MEDIO",IF(AND(AV11<=50%,AV11>=0%),"BAJO"))) -> #DIV/0!
A12: 8 | F12: 0 | G12: 0 | H12: 0 | I12: 0 | J12: 0 | K12: 0 | L12: 0 | M12: 0 | N12: 0 | O12: 0 | P12: 0 | Q12: 0 | R12: 0 | S12: 0 | T12: 0 | U12: 0 | V12: 0 | W12: 0 | X12: 0 | Y12: 0 | Z12: 0 | AA12: 0 | AB12: 0 | AC12: 0 | AD12: 0 | AE12: 0 | AF12: 0 | AG12: 0 | AH12: 0 | AI12: 0 | AJ12: 0 | AK12: 0 | AL12: 0 | AM12: 0 | AN12: 0 | AO12: 0 | AP12: 0 | AQ12: 0 | AR12: 0 | AS12: 0 | AT12: =SUM(F12,L12,N12,P12,R12,T12,V12,X12,AB12,AD12,AH12,AJ12) -> 0 | AU12: =SUM(G12,M12,O12,Q12,S12,U12,W12,Y12,AC12,AE12,AI12,AK12) -> 0 | AV12: =+AU12/AT12 -> #DIV/0! | AW12: =IF(AND(AT12>=6,AT12<=12),"NO CUMPLE",IF(AND(AT12>2,AT12<=7),"CUMPLE PARCIAL",IF(AND(AT12<=2),"CUMPLE"))) -> CUMPLE | AX12: =IF(AND(AV12<=100%,AV12>=80%),"ALTO",IF(AND(AV12<80%,AV12>50%),"MEDIO",IF(AND(AV12<=50%,AV12>=0%),"BAJO"))) -> #DIV/0!
A13: 9 | F13: 0 | G13: 0 | H13: 0 | I13: 0 | J13: 0 | K13: 0 | L13: 0 | M13: 0 | N13: 0 | O13: 0 | P13: 0 | Q13: 0 | R13: 0 | S13: 0 | T13: 0 | U13: 0 | V13: 0 | W13: 0 | X13: 0 | Y13: 0 | Z13: 0 | AA13: 0 | AB13: 0 | AC13: 0 | AD13: 0 | AE13: 0 | AF13: 0 | AG13: 0 | AH13: 0 | AI13: 0 | AJ13: 0 | AK13: 0 | AL13: 0 | AM13: 0 | AN13: 0 | AO13: 0 | AP13: 0 | AQ13: 0 | AR13: 0 | AS13: 0 | AT13: =SUM(F13,L13,N13,P13,R13,T13,V13,X13,AB13,AD13,AH13,AJ13) -> 0 | AU13: =SUM(G13,M13,O13,Q13,S13,U13,W13,Y13,AC13,AE13,AI13,AK13) -> 0 | AV13: =+AU13/AT13 -> #DIV/0! | AW13: =IF(AND(AT13>=6,AT13<=12),"NO CUMPLE",IF(AND(AT13>2,AT13<=7),"CUMPLE PARCIAL",IF(AND(AT13<=2),"CUMPLE"))) -> CUMPLE | AX13: =IF(AND(AV13<=100%,AV13>=80%),"ALTO",IF(AND(AV13<80%,AV13>50%),"MEDIO",IF(AND(AV13<=50%,AV13>=0%),"BAJO"))) -> #DIV/0!
A14: 10 | F14: 0 | G14: 0 | H14: 0 | I14: 0 | J14: 0 | K14: 0 | L14: 0 | M14: 0 | N14: 0 | O14: 0 | P14: 0 | Q14: 0 | R14: 0 | S14: 0 | T14: 0 | U14: 0 | V14: 0 | W14: 0 | X14: 0 | Y14: 0 | Z14: 0 | AA14: 0 | AB14: 0 | AC14: 0 | AD14: 0 | AE14: 0 | AF14: 0 | AG14: 0 | AH14: 0 | AI14: 0 | AJ14: 0 | AK14: 0 | AL14: 0 | AM14: 0 | AN14: 0 | AO14: 0 | AP14: 0 | AQ14: 0 | AR14: 0 | AS14: 0 | AT14: =SUM(F14,L14,N14,P14,R14,T14,V14,X14,AB14,AD14,AH14,AJ14) -> 0 | AU14: =SUM(G14,M14,O14,Q14,S14,U14,W14,Y14,AC14,AE14,AI14,AK14) -> 0 | AV14: =+AU14/AT14 -> #DIV/0! | AW14: =IF(AND(AT14>=6,AT14<=12),"NO CUMPLE",IF(AND(AT14>2,AT14<=7),"CUMPLE PARCIAL",IF(AND(AT14<=2),"CUMPLE"))) -> CUMPLE | AX14: =IF(AND(AV14<=100%,AV14>=80%),"ALTO",IF(AND(AV14<80%,AV14>50%),"MEDIO",IF(AND(AV14<=50%,AV14>=0%),"BAJO"))) -> #DIV/0!
A15: 11 | F15: 0 | G15: 0 | H15: 0 | I15: 0 | J15: 0 | K15: 0 | L15: 0 | M15: 0 | N15: 0 | O15: 0 | P15: 0 | Q15: 0 | R15: 0 | S15: 0 | T15: 0 | U15: 0 | V15: 0 | W15: 0 | X15: 0 | Y15: 0 | Z15: 0 | AA15: 0 | AB15: 0 | AC15: 0 | AD15: 0 | AE15: 0 | AF15: 0 | AG15: 0 | AH15: 0 | AI15: 0 | AJ15: 0 | AK15: 0 | AL15: 0 | AM15: 0 | AN15: 0 | AO15: 0 | AP15: 0 | AQ15: 0 | AR15: 0 | AS15: 0 | AT15: =SUM(F15,L15,N15,P15,R15,T15,V15,X15,AB15,AD15,AH15,AJ15) -> 0 | AU15: =SUM(G15,M15,O15,Q15,S15,U15,W15,Y15,AC15,AE15,AI15,AK15) -> 0 | AV15: =+AU15/AT15 -> #DIV/0! | AW15: =IF(AND(AT15>=6,AT15<=12),"NO CUMPLE",IF(AND(AT15>2,AT15<=7),"CUMPLE PARCIAL",IF(AND(AT15<=2),"CUMPLE"))) -> CUMPLE | AX15: =IF(AND(AV15<=100%,AV15>=80%),"ALTO",IF(AND(AV15<80%,AV15>50%),"MEDIO",IF(AND(AV15<=50%,AV15>=0%),"BAJO"))) -> #DIV/0!
A16: 12 | F16: 0 | G16: 0 | H16: 0 | I16: 0 | J16: 0 | K16: 0 | L16: 0 | M16: 0 | N16: 0 | O16: 0 | P16: 0 | Q16: 0 | R16: 0 | S16: 0 | T16: 0 | U16: 0 | V16: 0 | W16: 0 | X16: 0 | Y16: 0 | Z16: 0 | AA16: 0 | AB16: 0 | AC16: 0 | AD16: 0 | AE16: 0 | AF16: 0 | AG16: 0 | AH16: 0 | AI16: 0 | AJ16: 0 | AK16: 0 | AL16: 0 | AM16: 0 | AN16: 0 | AO16: 0 | AP16: 0 | AQ16: 0 | AR16: 0 | AS16: 0 | AT16: =SUM(F16,L16,N16,P16,R16,T16,V16,X16,AB16,AD16,AH16,AJ16) -> 0 | AU16: =SUM(G16,M16,O16,Q16,S16,U16,W16,Y16,AC16,AE16,AI16,AK16) -> 0 | AV16: =+AU16/AT16 -> #DIV/0! | AW16: =IF(AND(AT16>=6,AT16<=12),"NO CUMPLE",IF(AND(AT16>2,AT16<=7),"CUMPLE PARCIAL",IF(AND(AT16<=2),"CUMPLE"))) -> CUMPLE | AX16: =IF(AND(AV16<=100%,AV16>=80%),"ALTO",IF(AND(AV16<80%,AV16>50%),"MEDIO",IF(AND(AV16<=50%,AV16>=0%),"BAJO"))) -> #DIV/0!
A17: 13 | F17: 0 | G17: 0 | H17: 0 | I17: 0 | J17: 0 | K17: 0 | L17: 0 | M17: 0 | N17: 0 | O17: 0 | P17: 0 | Q17: 0 | R17: 0 | S17: 0 | T17: 0 | U17: 0 | V17: 0 | W17: 0 | X17: 0 | Y17: 0 | Z17: 0 | AA17: 0 | AB17: 0 | AC17: 0 | AD17: 0 | AE17: 0 | AF17: 0 | AG17: 0 | AH17: 0 | AI17: 0 | AJ17: 0 | AK17: 0 | AL17: 0 | AM17: 0 | AN17: 0 | AO17: 0 | AP17: 0 | AQ17: 0 | AR17: 0 | AS17: 0 | AT17: =SUM(F17,L17,N17,P17,R17,T17,V17,X17,AB17,AD17,AH17,AJ17) -> 0 | AU17: =SUM(G17,M17,O17,Q17,S17,U17,W17,Y17,AC17,AE17,AI17,AK17) -> 0 | AV17: =+AU17/AT17 -> #DIV/0! | AW17: =IF(AND(AT17>=6,AT17<=12),"NO CUMPLE",IF(AND(AT17>2,AT17<=7),"CUMPLE PARCIAL",IF(AND(AT17<=2),"CUMPLE"))) -> CUMPLE | AX17: =IF(AND(AV17<=100%,AV17>=80%),"ALTO",IF(AND(AV17<80%,AV17>50%),"MEDIO",IF(AND(AV17<=50%,AV17>=0%),"BAJO"))) -> #DIV/0!
A18: 14 | F18: 0 | G18: 0 | H18: 0 | I18: 0 | J18: 0 | K18: 0 | L18: 0 | M18: 0 | N18: 0 | O18: 0 | P18: 0 | Q18: 0 | R18: 0 | S18: 0 | T18: 0 | U18: 0 | V18: 0 | W18: 0 | X18: 0 | Y18: 0 | Z18: 0 | AA18: 0 | AB18: 0 | AC18: 0 | AD18: 0 | AE18: 0 | AF18: 0 | AG18: 0 | AH18: 0 | AI18: 0 | AJ18: 0 | AK18: 0 | AL18: 0 | AM18: 0 | AN18: 0 | AO18: 0 | AP18: 0 | AQ18: 0 | AR18: 0 | AS18: 0 | AT18: =SUM(F18,L18,N18,P18,R18,T18,V18,X18,AB18,AD18,AH18,AJ18) -> 0 | AU18: =SUM(G18,M18,O18,Q18,S18,U18,W18,Y18,AC18,AE18,AI18,AK18) -> 0 | AV18: =+AU18/AT18 -> #DIV/0! | AW18: =IF(AND(AT18>=6,AT18<=12),"NO CUMPLE",IF(AND(AT18>2,AT18<=7),"CUMPLE PARCIAL",IF(AND(AT18<=2),"CUMPLE"))) -> CUMPLE | AX18: =IF(AND(AV18<=100%,AV18>=80%),"ALTO",IF(AND(AV18<80%,AV18>50%),"MEDIO",IF(AND(AV18<=50%,AV18>=0%),"BAJO"))) -> #DIV/0!
A19: 15 | F19: 0 | G19: 0 | H19: 0 | I19: 0 | J19: 0 | K19: 0 | L19: 0 | M19: 0 | N19: 0 | O19: 0 | P19: 0 | Q19: 0 | R19: 0 | S19: 0 | T19: 0 | U19: 0 | V19: 0 | W19: 0 | X19: 0 | Y19: 0 | Z19: 0 | AA19: 0 | AB19: 0 | AC19: 0 | AD19: 0 | AE19: 0 | AF19: 0 | AG19: 0 | AH19: 0 | AI19: 0 | AJ19: 0 | AK19: 0 | AL19: 0 | AM19: 0 | AN19: 0 | AO19: 0 | AP19: 0 | AQ19: 0 | AR19: 0 | AS19: 0 | AT19: =SUM(F19,L19,N19,P19,R19,T19,V19,X19,AB19,AD19,AH19,AJ19) -> 0 | AU19: =SUM(G19,M19,O19,Q19,S19,U19,W19,Y19,AC19,AE19,AI19,AK19) -> 0 | AV19: =+AU19/AT19 -> #DIV/0! | AW19: =IF(AND(AT19>=6,AT19<=12),"NO CUMPLE",IF(AND(AT19>2,AT19<=7),"CUMPLE PARCIAL",IF(AND(AT19<=2),"CUMPLE"))) -> CUMPLE | AX19: =IF(AND(AV19<=100%,AV19>=80%),"ALTO",IF(AND(AV19<80%,AV19>50%),"MEDIO",IF(AND(AV19<=50%,AV19>=0%),"BAJO"))) -> #DIV/0!
A20: 16 | F20: 0 | G20: 0 | H20: 0 | I20: 0 | J20: 0 | K20: 0 | L20: 0 | M20: 0 | N20: 0 | O20: 0 | P20: 0 | Q20: 0 | R20: 0 | S20: 0 | T20: 0 | U20: 0 | V20: 0 | W20: 0 | X20: 0 | Y20: 0 | Z20: 0 | AA20: 0 | AB20: 0 | AC20: 0 | AD20: 0 | AE20: 0 | AF20: 0 | AG20: 0 | AH20: 0 | AI20: 0 | AJ20: 0 | AK20: 0 | AL20: 0 | AM20: 0 | AN20: 0 | AO20: 0 | AP20: 0 | AQ20: 0 | AR20: 0 | AS20: 0 | AT20: =SUM(F20,L20,N20,P20,R20,T20,V20,X20,AB20,AD20,AH20,AJ20) -> 0 | AU20: =SUM(G20,M20,O20,Q20,S20,U20,W20,Y20,AC20,AE20,AI20,AK20) -> 0 | AV20: =+AU20/AT20 -> #DIV/0! | AW20: =IF(AND(AT20>=6,AT20<=12),"NO CUMPLE",IF(AND(AT20>2,AT20<=7),"CUMPLE PARCIAL",IF(AND(AT20<=2),"CUMPLE"))) -> CUMPLE | AX20: =IF(AND(AV20<=100%,AV20>=80%),"ALTO",IF(AND(AV20<80%,AV20>50%),"MEDIO",IF(AND(AV20<=50%,AV20>=0%),"BAJO"))) -> #DIV/0! | AY20: 1
A21: 17 | F21: 0 | G21: 0 | H21: 0 | I21: 0 | J21: 0 | K21: 0 | L21: 0 | M21: 0 | N21: 0 | O21: 0 | P21: 0 | Q21: 0 | R21: 0 | S21: 0 | T21: 0 | U21: 0 | V21: 0 | W21: 0 | X21: 0 | Y21: 0 | Z21: 0 | AA21: 0 | AB21: 0 | AC21: 0 | AD21: 0 | AE21: 0 | AF21: 0 | AG21: 0 | AH21: 0 | AI21: 0 | AJ21: 0 | AK21: 0 | AL21: 0 | AM21: 0 | AN21: 0 | AO21: 0 | AP21: 0 | AQ21: 0 | AR21: 0 | AS21: 0 | AT21: =SUM(F21,L21,N21,P21,R21,T21,V21,X21,AB21,AD21,AH21,AJ21) -> 0 | AU21: =SUM(G21,M21,O21,Q21,S21,U21,W21,Y21,AC21,AE21,AI21,AK21) -> 0 | AV21: =+AU21/AT21 -> #DIV/0! | AW21: =IF(AND(AT21>=6,AT21<=12),"NO CUMPLE",IF(AND(AT21>2,AT21<=7),"CUMPLE PARCIAL",IF(AND(AT21<=2),"CUMPLE"))) -> CUMPLE | AX21: =IF(AND(AV21<=100%,AV21>=80%),"ALTO",IF(AND(AV21<80%,AV21>50%),"MEDIO",IF(AND(AV21<=50%,AV21>=0%),"BAJO"))) -> #DIV/0!
A22: 18 | F22: 0 | G22: 0 | H22: 0 | I22: 0 | J22: 0 | K22: 0 | L22: 0 | M22: 0 | N22: 0 | O22: 0 | P22: 0 | Q22: 0 | R22: 0 | S22: 0 | T22: 0 | U22: 0 | V22: 0 | W22: 0 | X22: 0 | Y22: 0 | Z22: 0 | AA22: 0 | AB22: 0 | AC22: 0 | AD22: 0 | AE22: 0 | AF22: 0 | AG22: 0 | AH22: 0 | AI22: 0 | AJ22: 0 | AK22: 0 | AL22: 0 | AM22: 0 | AN22: 0 | AO22: 0 | AP22: 0 | AQ22: 0 | AR22: 0 | AS22: 0 | AT22: =SUM(F22,L22,N22,P22,R22,T22,V22,X22,AB22,AD22,AH22,AJ22) -> 0 | AU22: =SUM(G22,M22,O22,Q22,S22,U22,W22,Y22,AC22,AE22,AI22,AK22) -> 0 | AV22: =+AU22/AT22 -> #DIV/0! | AW22: =IF(AND(AT22>=6,AT22<=12),"NO CUMPLE",IF(AND(AT22>2,AT22<=7),"CUMPLE PARCIAL",IF(AND(AT22<=2),"CUMPLE"))) -> CUMPLE | AX22: =IF(AND(AV22<=100%,AV22>=80%),"ALTO",IF(AND(AV22<80%,AV22>50%),"MEDIO",IF(AND(AV22<=50%,AV22>=0%),"BAJO"))) -> #DIV/0!
A23: 19 | F23: 0 | G23: 0 | H23: 0 | I23: 0 | J23: 0 | K23: 0 | L23: 0 | M23: 0 | N23: 0 | O23: 0 | P23: 0 | Q23: 0 | R23: 0 | S23: 0 | T23: 0 | U23: 0 | V23: 0 | W23: 0 | X23: 0 | Y23: 0 | Z23: 0 | AA23: 0 | AB23: 0 | AC23: 0 | AD23: 0 | AE23: 0 | AF23: 0 | AG23: 0 | AH23: 0 | AI23: 0 | AJ23: 0 | AK23: 0 | AL23: 0 | AM23: 0 | AN23: 0 | AO23: 0 | AP23: 0 | AQ23: 0 | AR23: 0 | AS23: 0 | AT23: =SUM(F23,L23,N23,P23,R23,T23,V23,X23,AB23,AD23,AH23,AJ23) -> 0 | AU23: =SUM(G23,M23,O23,Q23,S23,U23,W23,Y23,AC23,AE23,AI23,AK23) -> 0 | AV23: =+AU23/AT23 -> #DIV/0! | AW23: =IF(AND(AT23>=6,AT23<=12),"NO CUMPLE",IF(AND(AT23>2,AT23<=7),"CUMPLE PARCIAL",IF(AND(AT23<=2),"CUMPLE"))) -> CUMPLE | AX23: =IF(AND(AV23<=100%,AV23>=80%),"ALTO",IF(AND(AV23<80%,AV23>50%),"MEDIO",IF(AND(AV23<=50%,AV23>=0%),"BAJO"))) -> #DIV/0!
A24: 20 | F24: 0 | G24: 0 | H24: 0 | I24: 0 | J24: 0 | K24: 0 | L24: 0 | M24: 0 | N24: 0 | O24: 0 | P24: 0 | Q24: 0 | R24: 0 | S24: 0 | T24: 0 | U24: 0 | V24: 0 | W24: 0 | X24: 0 | Y24: 0 | Z24: 0 | AA24: 0 | AB24: 0 | AC24: 0 | AD24: 0 | AE24: 0 | AF24: 0 | AG24: 0 | AH24: 0 | AI24: 0 | AJ24: 0 | AK24: 0 | AL24: 0 | AM24: 0 | AN24: 0 | AO24: 0 | AP24: 0 | AQ24: 0 | AR24: 0 | AS24: 0 | AT24: =SUM(F24,L24,N24,P24,R24,T24,V24,X24,AB24,AD24,AH24,AJ24) -> 0 | AU24: =SUM(G24,M24,O24,Q24,S24,U24,W24,Y24,AC24,AE24,AI24,AK24) -> 0 | AV24: =+AU24/AT24 -> #DIV/0! | AW24: =IF(AND(AT24>=6,AT24<=12),"NO CUMPLE",IF(AND(AT24>2,AT24<=7),"CUMPLE PARCIAL",IF(AND(AT24<=2),"CUMPLE"))) -> CUMPLE | AX24: =IF(AND(AV24<=100%,AV24>=80%),"ALTO",IF(AND(AV24<80%,AV24>50%),"MEDIO",IF(AND(AV24<=50%,AV24>=0%),"BAJO"))) -> #DIV/0!
A25: 21 | F25: 0 | G25: 0 | H25: 0 | I25: 0 | J25: 0 | K25: 0 | L25: 0 | M25: 0 | N25: 0 | O25: 0 | P25: 0 | Q25: 0 | R25: 0 | S25: 0 | T25: 0 | U25: 0 | V25: 0 | W25: 0 | X25: 0 | Y25: 0 | Z25: 0 | AA25: 0 | AB25: 0 | AC25: 0 | AD25: 0 | AE25: 0 | AF25: 0 | AG25: 0 | AH25: 0 | AI25: 0 | AJ25: 0 | AK25: 0 | AL25: 0 | AM25: 0 | AN25: 0 | AO25: 0 | AP25: 0 | AQ25: 0 | AR25: 0 | AS25: 0 | AT25: =SUM(F25,L25,N25,P25,R25,T25,V25,X25,AB25,AD25,AH25,AJ25) -> 0 | AU25: =SUM(G25,M25,O25,Q25,S25,U25,W25,Y25,AC25,AE25,AI25,AK25) -> 0 | AV25: =+AU25/AT25 -> #DIV/0! | AW25: =IF(AND(AT25>=6,AT25<=12),"NO CUMPLE",IF(AND(AT25>2,AT25<=7),"CUMPLE PARCIAL",IF(AND(AT25<=2),"CUMPLE"))) -> CUMPLE | AX25: =IF(AND(AV25<=100%,AV25>=80%),"ALTO",IF(AND(AV25<80%,AV25>50%),"MEDIO",IF(AND(AV25<=50%,AV25>=0%),"BAJO"))) -> #DIV/0!
A26: 22 | F26: 0 | G26: 0 | H26: 0 | I26: 0 | J26: 0 | K26: 0 | L26: 0 | M26: 0 | N26: 0 | O26: 0 | P26: 0 | Q26: 0 | R26: 0 | S26: 0 | T26: 0 | U26: 0 | V26: 0 | W26: 0 | X26: 0 | Y26: 0 | Z26: 0 | AA26: 0 | AB26: 0 | AC26: 0 | AD26: 0 | AE26: 0 | AF26: 0 | AG26: 0 | AH26: 0 | AI26: 0 | AJ26: 0 | AK26: 0 | AL26: 0 | AM26: 0 | AN26: 0 | AO26: 0 | AP26: 0 | AQ26: 0 | AR26: 0 | AS26: 0 | AT26: =SUM(F26,L26,N26,P26,R26,T26,V26,X26,AB26,AD26,AH26,AJ26) -> 0 | AU26: =SUM(G26,M26,O26,Q26,S26,U26,W26,Y26,AC26,AE26,AI26,AK26) -> 0 | AV26: =+AU26/AT26 -> #DIV/0! | AW26: =IF(AND(AT26>=6,AT26<=12),"NO CUMPLE",IF(AND(AT26>2,AT26<=7),"CUMPLE PARCIAL",IF(AND(AT26<=2),"CUMPLE"))) -> CUMPLE | AX26: =IF(AND(AV26<=100%,AV26>=80%),"ALTO",IF(AND(AV26<80%,AV26>50%),"MEDIO",IF(AND(AV26<=50%,AV26>=0%),"BAJO"))) -> #DIV/0!
A27: 23 | F27: 0 | G27: 0 | H27: 0 | I27: 0 | J27: 0 | K27: 0 | L27: 0 | M27: 0 | N27: 0 | O27: 0 | P27: 0 | Q27: 0 | R27: 0 | S27: 0 | T27: 0 | U27: 0 | V27: 0 | W27: 0 | X27: 0 | Y27: 0 | Z27: 0 | AA27: 0 | AB27: 0 | AC27: 0 | AD27: 0 | AE27: 0 | AF27: 0 | AG27: 0 | AH27: 0 | AI27: 0 | AJ27: 0 | AK27: 0 | AL27: 0 | AM27: 0 | AN27: 0 | AO27: 0 | AP27: 0 | AQ27: 0 | AR27: 0 | AS27: 0 | AT27: =SUM(F27,L27,N27,P27,R27,T27,V27,X27,AB27,AD27,AH27,AJ27) -> 0 | AU27: =SUM(G27,M27,O27,Q27,S27,U27,W27,Y27,AC27,AE27,AI27,AK27) -> 0 | AV27: =+AU27/AT27 -> #DIV/0! | AW27: =IF(AND(AT27>=6,AT27<=12),"NO CUMPLE",IF(AND(AT27>2,AT27<=7),"CUMPLE PARCIAL",IF(AND(AT27<=2),"CUMPLE"))) -> CUMPLE | AX27: =IF(AND(AV27<=100%,AV27>=80%),"ALTO",IF(AND(AV27<80%,AV27>50%),"MEDIO",IF(AND(AV27<=50%,AV27>=0%),"BAJO"))) -> #DIV/0!
A28: 24 | F28: 0 | G28: 0 | H28: 0 | I28: 0 | J28: 0 | K28: 0 | L28: 0 | M28: 0 | N28: 0 | O28: 0 | P28: 0 | Q28: 0 | R28: 0 | S28: 0 | T28: 0 | U28: 0 | V28: 0 | W28: 0 | X28: 0 | Y28: 0 | Z28: 0 | AA28: 0 | AB28: 0 | AC28: 0 | AD28: 0 | AE28: 0 | AF28: 0 | AG28: 0 | AH28: 0 | AI28: 0 | AJ28: 0 | AK28: 0 | AL28: 0 | AM28: 0 | AN28: 0 | AO28: 0 | AP28: 0 | AQ28: 0 | AR28: 0 | AS28: 0 | AT28: =SUM(F28,L28,N28,P28,R28,T28,V28,X28,AB28,AD28,AH28,AJ28) -> 0 | AU28: =SUM(G28,M28,O28,Q28,S28,U28,W28,Y28,AC28,AE28,AI28,AK28) -> 0 | AV28: =+AU28/AT28 -> #DIV/0! | AW28: =IF(AND(AT28>=6,AT28<=12),"NO CUMPLE",IF(AND(AT28>2,AT28<=7),"CUMPLE PARCIAL",IF(AND(AT28<=2),"CUMPLE"))) -> CUMPLE | AX28: =IF(AND(AV28<=100%,AV28>=80%),"ALTO",IF(AND(AV28<80%,AV28>50%),"MEDIO",IF(AND(AV28<=50%,AV28>=0%),"BAJO"))) -> #DIV/0!
A29: 25 | F29: 0 | G29: 0 | H29: 0 | I29: 0 | J29: 0 | K29: 0 | L29: 0 | M29: 0 | N29: 0 | O29: 0 | P29: 0 | Q29: 0 | R29: 0 | S29: 0 | T29: 0 | U29: 0 | V29: 0 | W29: 0 | X29: 0 | Y29: 0 | Z29: 0 | AA29: 0 | AB29: 0 | AC29: 0 | AD29: 0 | AE29: 0 | AF29: 0 | AG29: 0 | AH29: 0 | AI29: 0 | AJ29: 0 | AK29: 0 | AL29: 0 | AM29: 0 | AN29: 0 | AO29: 0 | AP29: 0 | AQ29: 0 | AR29: 0 | AS29: 0 | AT29: =SUM(F29,L29,N29,P29,R29,T29,V29,X29,AB29,AD29,AH29,AJ29) -> 0 | AU29: =SUM(G29,M29,O29,Q29,S29,U29,W29,Y29,AC29,AE29,AI29,AK29) -> 0 | AV29: =+AU29/AT29 -> #DIV/0! | AW29: =IF(AND(AT29>=6,AT29<=12),"NO CUMPLE",IF(AND(AT29>2,AT29<=7),"CUMPLE PARCIAL",IF(AND(AT29<=2),"CUMPLE"))) -> CUMPLE | AX29: =IF(AND(AV29<=100%,AV29>=80%),"ALTO",IF(AND(AV29<80%,AV29>50%),"MEDIO",IF(AND(AV29<=50%,AV29>=0%),"BAJO"))) -> #DIV/0!
A30: 26 | F30: 0 | G30: 0 | H30: 0 | I30: 0 | J30: 0 | K30: 0 | L30: 0 | M30: 0 | N30: 0 | O30: 0 | P30: 0 | Q30: 0 | R30: 0 | S30: 0 | T30: 0 | U30: 0 | V30: 0 | W30: 0 | X30: 0 | Y30: 0 | Z30: 0 | AA30: 0 | AB30: 0 | AC30: 0 | AD30: 0 | AE30: 0 | AF30: 0 | AG30: 0 | AH30: 0 | AI30: 0 | AJ30: 0 | AK30: 0 | AL30: 0 | AM30: 0 | AN30: 0 | AO30: 0 | AP30: 0 | AQ30: 0 | AR30: 0 | AS30: 0 | AT30: =SUM(F30,L30,N30,P30,R30,T30,V30,X30,AB30,AD30,AH30,AJ30) -> 0 | AU30: =SUM(G30,M30,O30,Q30,S30,U30,W30,Y30,AC30,AE30,AI30,AK30) -> 0 | AV30: =+AU30/AT30 -> #DIV/0! | AW30: =IF(AND(AT30>=6,AT30<=12),"NO CUMPLE",IF(AND(AT30>2,AT30<=7),"CUMPLE PARCIAL",IF(AND(AT30<=2),"CUMPLE"))) -> CUMPLE | AX30: =IF(AND(AV30<=100%,AV30>=80%),"ALTO",IF(AND(AV30<80%,AV30>50%),"MEDIO",IF(AND(AV30<=50%,AV30>=0%),"BAJO"))) -> #DIV/0!
A31: 27 | F31: 0 | G31: 0 | H31: 0 | I31: 0 | J31: 0 | K31: 0 | L31: 0 | M31: 0 | N31: 0 | O31: 0 | P31: 0 | Q31: 0 | R31: 0 | S31: 0 | T31: 0 | U31: 0 | V31: 0 | W31: 0 | X31: 0 | Y31: 0 | Z31: 0 | AA31: 0 | AB31: 0 | AC31: 0 | AD31: 0 | AE31: 0 | AF31: 0 | AG31: 0 | AH31: 0 | AI31: 0 | AJ31: 0 | AK31: 0 | AL31: 0 | AM31: 0 | AN31: 0 | AO31: 0 | AP31: 0 | AQ31: 0 | AR31: 0 | AS31: 0 | AT31: =SUM(F31,L31,N31,P31,R31,T31,V31,X31,AB31,AD31,AH31,AJ31) -> 0 | AU31: =SUM(G31,M31,O31,Q31,S31,U31,W31,Y31,AC31,AE31,AI31,AK31) -> 0 | AV31: =+AU31/AT31 -> #DIV/0! | AW31: =IF(AND(AT31>=6,AT31<=12),"NO CUMPLE",IF(AND(AT31>2,AT31<=7),"CUMPLE PARCIAL",IF(AND(AT31<=2),"CUMPLE"))) -> CUMPLE | AX31: =IF(AND(AV31<=100%,AV31>=80%),"ALTO",IF(AND(AV31<80%,AV31>50%),"MEDIO",IF(AND(AV31<=50%,AV31>=0%),"BAJO"))) -> #DIV/0!
A32: 28 | F32: 0 | G32: 0 | H32: 0 | I32: 0 | J32: 0 | K32: 0 | L32: 0 | M32: 0 | N32: 0 | O32: 0 | P32: 0 | Q32: 0 | R32: 0 | S32: 0 | T32: 0 | U32: 0 | V32: 0 | W32: 0 | X32: 0 | Y32: 0 | Z32: 0 | AA32: 0 | AB32: 0 | AC32: 0 | AD32: 0 | AE32: 0 | AF32: 0 | AG32: 0 | AH32: 0 | AI32: 0 | AJ32: 0 | AK32: 0 | AL32: 0 | AM32: 0 | AN32: 0 | AO32: 0 | AP32: 0 | AQ32: 0 | AR32: 0 | AS32: 0 | AT32: =SUM(F32,L32,N32,P32,R32,T32,V32,X32,AB32,AD32,AH32,AJ32) -> 0 | AU32: =SUM(G32,M32,O32,Q32,S32,U32,W32,Y32,AC32,AE32,AI32,AK32) -> 0 | AV32: =+AU32/AT32 -> #DIV/0! | AW32: =IF(AND(AT32>=6,AT32<=12),"NO CUMPLE",IF(AND(AT32>2,AT32<=7),"CUMPLE PARCIAL",IF(AND(AT32<=2),"CUMPLE"))) -> CUMPLE | AX32: =IF(AND(AV32<=100%,AV32>=80%),"ALTO",IF(AND(AV32<80%,AV32>50%),"MEDIO",IF(AND(AV32<=50%,AV32>=0%),"BAJO"))) -> #DIV/0!
... A54: 50 | F54: 0 | G54: 0 | H54: 0 | I54: 0 | J54: 0 | K54: 0 | L54: 0 | M54: 0 | N54: 0 | O54: 0 | P54: 0 | Q54: 0 | R54: 0 | S54: 0 | T54: 0 | U54: 0 | V54: 0 | W54: 0 | X54: 0 | Y54: 0 | Z54: 0 | AA54: 0 | AB54: 0 | AC54: 0 | AD54: 0 | AE54: 0 | AF54: 0 | AG54: 0 | AH54: 0 | AI54: 0 | AJ54: 0 | AK54: 0 | AL54: 0 | AM54: 0 | AN54: 0 | AO54: 0 | AP54: 0 | AQ54: 0 | AR54: 0 | AS54: 0 | AT54: =SUM(F54,L54,N54,P54,R54,T54,V54,X54,AB54,AD54,AH54,AJ54) -> 0 | AU54: =SUM(G54,M54,O54,Q54,S54,U54,W54,Y54,AC54,AE54,AI54,AK54) -> 0 | AV54: =+AU54/AT54 -> #DIV/0! | AW54: =IF(AND(AT54>=6,AT54<=12),"NO CUMPLE",IF(AND(AT54>2,AT54<=7),"CUMPLE PARCIAL",IF(AND(AT54<=2),"CUMPLE"))) -> CUMPLE | AX54: =IF(AND(AV54<=100%,AV54>=80%),"ALTO",IF(AND(AV54<80%,AV54>50%),"MEDIO",IF(AND(AV54<=50%,AV54>=0%),"BAJO"))) -> #DIV/0!
F55: =SUM(F5:F54) -> 0 | G55: =SUM(G5:G54) -> 0 | H55: =SUM(H5:H54) -> 4 | I55: =SUM(I5:I54) -> 0 | J55: =SUM(J5:J54) -> 6 | K55: =SUM(K5:K54) -> 0 | L55: =SUM(L5:L54) -> 0 | M55: =SUM(M5:M54) -> 0 | ... AU55: =SUM(AU5:AU54) -> 0 | BE55: =SUM(BE5:BE54) -> 0 | BF55: =SUM(BF5:BF54) -> 0 | BG55: =SUM(BG5:BG54) -> 0 | BH55: =SUM(BH5:BH54) -> 0 | BI55: =SUM(BI5:BI54) -> 0
G56: =+G55/F55 -> #DIV/0! | I56: =+I55/H55 -> 0 | K56: =+K55/J55 -> 0 | M56: =+M55/L55 -> #DIV/0! | O56: =+O55/N55 -> #DIV/0! | Q56: =+Q55/P55 -> #DIV/0! | S56: =+S55/R55 -> #DIV/0! | U56: =+U55/T55 -> #DIV/0! | W56: =+W55/V55 -> 0 | Y56: =+Y55/X55 -> 0 | AA56: =+AA55/Z55 -> #DIV/0! | AC56: =+AC55/AB55 -> 0 | AE56: =+AE55/AD55 -> #DIV/0! | AG56: =+AG55/AF55 -> #DIV/0! | AI56: =+AI55/AH55 -> 0 | AK56: 0 | AM56: =+AM55/AL55 -> #DIV/0! | AO56: =+AO55/AN55 -> 0 | AQ56: =+AQ55/AP55 -> #DIV/0! | AS56: =+AS55/AR55 -> #DIV/0! | AU56: =+AU55/AT55 -> 0
M59: DISTANCIA PANTALLA
K60: 1
K61: 0
K62: NA

Sheet RESULTADOS.
A1: ÁREA | B1: NOMBRE DEL TRABAJADOR | C1: CARGO | D1: CONDICIONES DEL PUESTO VALORACIÓN INICIAL | E1: EVIDENCIA FOTOGRAFICA | F1: CONDICIONES SUBESTANDAR | G1: RECOMENDACIONES GENERALES
A2: ADMINISTRATIVOS | B2: INGRID OLIVEROS | C2: SECRETARIA EJECUTIVA | D2: CUMPLE | F2: Cableado sin canalizar Sillas en buenas condiciones solo la cogineria presenta desgaste postura prolongada en sedente escritorio en forma de L con una altura de 73 cm, ancho 60 cm suficiente para realizar la tarea - no cuenta con reposapies orden y aseo en buenas condiciones generales | G2: • La colaboradora desarrolla su jornada acorde a tareas y solicitudes que competen a su cargo, es decir, impone su ritmo de trabajo. • Se sugiere seguir las pautas de higiene postural impartidas durante el tiempo de la inspección del puesto acerca del uso adecuado de video terminales, para cuidar la biomecánica corporal y disminuir la carga física estática en los diferentes segmentos corporales. • Se sugiere que todos los elementos deben estar en la misma mesa o escritorio, Se sugiere dejar un espacio para muñecas y manos de 10-15 cm entre borde de la mesa y teclado/mouse para evitar bordes de presión. • Se recomienda realizar cambios de posturas durante la jornada laboral. • Ubicar el cuerpo de frente a la mesa de trabajo y computador para evitar rotaciones e inclinaciones mantenidas de cuello y tronco. • Mantener la espalda bien apoyada en el espaldar de la silla, evitando inclinaciones de tronco. • Las piernas Deben entrar completamente por debajo de la superficie de trabajo, sin obstáculos que limiten tal función y Mantener los pies apoyados sobre el piso o reposapiés. • Realizar cambios de enfoque visual para evitar el cansancio ocular. • Realizar pausas activas cada 2 horas durante 5 minutos con estiramientos musculares sostenido que estimulen el movimiento corporal y permitan el cambio de actividad. • realizar mantenimientos periodicos y preventivos a sillas, escritorios, reposapies etc
A3: ADMINISTRATIVOS | B3: ARMANDO VILLAZON | C3: COORDINADOS GIT FINANCIERO | D3: CUMPLE | F3: Cableado sin canalizar Sillas en buenas condiciones y se le explica al trabajador modo de uso adecuado de las palancas de ajuste de la silla postura prolongada en sedente escritorio en forma de L con una altura de 73 cm, ancho 60 cm suficiente para realizar la tarea - no cuenta con reposapies orden y aseo en regulares condiciones, se observan exceso de documentos sobre el escritorio y la impresora limita el movimiento de las manos al digitar y hacer uso del mouse. ventanales sin polarizar, lo que permite la entrada de luz natual al puesto de trabajo generando deslumbramientos al visualizar la pantalla.
A4: ADMINISTRATIVOS | B4: LEIDYS MONTERO | C4: TESORERA- | D4: CUMPLE | F4: Cableado sin canalizar Sillas en buenas condiciones y se le explica al trabajador modo de uso adecuado de las palancas de ajuste de la silla postura prolongada en sedente escritorio en forma de L con una altura de 73 cm, ancho 60 cm suficiente para realizar la tarea - no cuenta con reposapies orden y aseo en buenas condiciones, ventanales sin polarizar, lo que permite la entrada de luz natual al puesto de trabajo generando deslumbramientos al visualizar la pantalla.
A5: ADMINISTRATIVOS | B5: OMEY ARIZA | C5: JEFE DE TALENTO HUMANO | D5: CUMPLE | F5: Cableado sin canalizar Sillas en buenas condiciones y se le explica al trabajador modo de uso adecuado de las palancas de ajuste de la silla postura prolongada en sedente escritorio en forma de L con una altura de 73 cm, ancho 60 cm suficiente para realizar la tarea - no cuenta con reposapies orden y aseo en malas condiciones, se observan exceso de documentos sobre el escritorioque limita el movimiento de las manos al digitar y hacer uso del mouse. ventanales sin polarizar, lo que permite la entrada de luz natual al puesto de trabajo generando deslumbramientos al visualizar la pantalla.
A6: ADMINISTRATIVOS | B6: LIBIA IRIS OJEDA | C6: AUXILIAR ADMINISTRATIVO | D6: CUMPLE | F6: Cableado sin canalizar Sillas en buenas condiciones postura prolongada en sedente escritorio en forma de L con una altura de 73 cm, ancho 60 cm suficiente para realizar la tarea - no cuenta con reposapies, el cual requiere ya que los pies no se apoyan completamente al piso. orden y aseo en buenas condiciones,
A7: ADMINISTRATIVOS | B7: ISMAEL ESCORDIA | C7: PROFESIONAL EN EDUCACION Y PARTICIPACION CIUDADANA | D7: CUMPLE | F7: Cableado sin canalizar Sillas en buenas condiciones y se le explica al trabajador modo de uso adecuado de las palancas de ajuste de la silla postura prolongada en sedente escritorio en forma de L con una altura de 73 cm, ancho 60 cm suficiente para realizar la tarea - monitor si base para ajustar alturay ubicado diagonal al trabajador, se observa mala higiene postural orden y aseo en malas condiciones, se observan exceso de documentos sobre el escritorio que limita los movimientos de miembros superiores y por debajo del mismo con cajas que limitan los movimientos de miembros inferiores.

Sheet RECOMEDACION DE ELEMENTOS 
A1: RECOMENDACIÓN DE VIDEOTERMINALES
A3: La organización del puesto de trabajo es un factor determinante para garantizar los incrementos de la productividad y puede definirse como un conjunto de medidas técnico-organizativas encaminadas a:
A7: o Establecer el ordenamiento de los tres elementos que lo integran. o Lograr una interacción armónica entre los mismos. o Racionalizar el gasto de energía física y mental para la realización del trabajo asignado; con vista a garantizar incrementos de productividad y condiciones favorables para el trabajo.
A11: Dimensiones del puesto de trabajo
A20: Es importante que el puesto de trabajo se adapte a las dimensiones corporales del trabajador, sin embargo, ante la gran variedad de tallas de las personas no es fácil determinarlas. Para el diseño de los puestos de trabajo, no es suficiente pensar en realizarlos para personas de talla media (50 percentil), es más lógico y correcto tener en cuenta a los individuos de mayor estatura para acortar las dimensiones, por ejemplo del espacio a reservar para las piernas debajo de la mesa, y a los individuos de menor estatura para acortar las dimensiones de las zonas de alcance en plano horizontal. Para establecer las dimensiones esenciales de un puesto de trabajo de oficina, se debe tener en cuenta los criterios siguientes:
A33: • Altura del plano de trabajo. • Espacio reservado para las piernas. • Zonas de alcance óptimas del área de trabajo.
A37: A. Distribución de los puestos de trabajo
A38: Las divisiones a media altura deben contemplar las siguientes alturas: - Altura Mayor: 166cm. para división de áreas de relativa privacidad con unidades de almacenamiento: gabinete y repisa. - Altura Media: 128cm. para división de áreas solo con repisa como unidad de almacenamiento. - Altura Baja: 109cm. para división de áreas de atención al público externo, con superficie mostrador. - Altura Baja: 100cm. para división de áreas de atención al público interno, con superficie mostrador.
A47: B. Superficie de trabajo
A55: La configuración del sistema debe permitir ubicar las superficies de trabajo entre 65 y 76cm. (medidos en la cara superior) de acuerdo con la antropometría del usuario o con las actividades que realiza. La altura estándar, de la cara superior de las superficies, para trabajo frente a video-terminales será de 75cm.
A61: La superficie o plano de trabajo deberá permitir colocar correctamente el equipo de trabajo. Para tareas generales de oficina, las medidas aproximadas mínimas de la superficie, pueden ser de 80cm por 120cm. Puede ser necesaria una anchura algo mayor a fin de asegurar que entre el teclado y el borde libre de la mesa quede una distancia de 10cm a 20cm., actuando así ese espacio de reposamuñecas.
A67: Para el trabajo en posición sentado, debe habilitarse el suficiente espacio para los miembros inferiores (muslos, rodillas y pies). Este espacio será de 70cm de ancho por 70 - 80cm de profundidad.
... A208: Se utiliza cuando la altura de la silla no permite al personal trabajador descansar los pies en el suelo. - Dimensiones mínimas: 45cm de ancho por 35cm de profundidad. - Inclinación: Entre 5 y 15º sobre el plano horizontal. - Superficie antideslizante: Tanto para los pies como para el suelo.

Sheet SILLA 
A1: CRITERIOS ERGONÓMICOS PARA LA SELECCIÓN DE SILLA
A3: Las malas posturas y excesivo sedentarismo, al que estamos expuestos durante las ocho horas que dura nuestra jornada laboral en la oficina, puede, sin que nos demos cuenta, estar dañando nuestra salud. Cuello y hombros, zona lumbar, dorsal y cabeza son las partes más castigadas de nuestro cuerpo fruto de la manera en la que nos sentamos frente al ordenador, mala posición del cuello y cabeza, así como de los brazos y muñecas mientras tecleamos. Cuando permanecemos mucho tiempo en una postura incorrecta, la columna vertebral pierde su alineación natural, causando dolores, fatiga y tensión muscular.
A13: REQUISITOS DE UNA SILLA SALUDABLE
A14: La silla es uno de los elementos de la oficina más importantes: nos fuerza a mantener una postura correcta y a que la circulación sea adecuada. Por eso, es muy importante que respete las curvaturas normales de la espalda y se adapte a la persona.
A20: 1. La silla debe adaptarse a su usuario
A21: Debe ser totalmente regulable: que permita la regulación de altura del asiento, del respaldo (para que permita un apoyo lumbar correcto) y de los reposabrazos. Además debe permitir la movilidad y el giro. La altura del asiento tiene que permitir el apoyo de los pies en el suelo, sin apreciar una presión excesiva en la parte inferior de los muslos, cerca de las rodillas.
A25: 2. El respaldo debe garantizar que la espalda se apoye correctamente
A26: El respaldo debe posibilitar que adoptemos una posición erguida, ayudando a que apoyemos el tronco en su totalidad y sumamente importante, también, es que apoyemos el área lumbar. Gracias al esfuerzo en investigación que realizan las empresas punteras, se están desarrollando soluciones cada día más innovadoras para solucionar este tema. Por ejemplo, en el modelo Iroha de Ofita, los brazos y el apoyo lumbar forman un elemento conjunto, de forma que cuando el usuario posiciona la altura correcta de los brazos, el apoyo lumbar se sitúa a su vez en la solución óptima. Por otra parte, el respaldo no debe ser demasiado ancho en su parte superior para que no reste movilidad a los brazos. Debe disponer de cierta curvatura, visto lateralmente, para adaptarse a la forma de la espalda. Se recomienda, asimismo, la posibilidad de regular en altura el respaldo o, en su defecto, la regulación del área más saliente de la curvatura lumbar del respaldo, de modo que la altura del apoyo lumbar varíe entre un rango de al menos 6 cm.
A33: 3. Profundidad del asiento
A34: La regulación de profundidad de asiento es importante para que personas de distinta estatura se apoyen cómodamente en el respaldo.
A37: 4. La silla debe ser segura
A38: Las sillas de trabajo deben ser giratorias y sus bases han de estar dotadas de 5 radios para evitar su vuelco. No debe suponer riesgo en ninguna de las posturas “límite” que pueda adoptar el usuario: desde la posición de sentado en el borde delantero del asiento, con el cuerpo inclinado hacia delante, hasta la posición de máxima inclinación hacia atrás del respaldo. Un desplazamiento fortuito de la silla en el momento en que el usuario va a sentarse podría ser peligroso; para evitar esto existen sistemas de ruedas “autofrenadas” que no avanzan cuando no hay nadie sentado en ellas.
... A56: No ha de ser excesivamente blando. Los bordes delanteros han de disponer de una curvatura adecuada para no oprimir la pierna por su parte inferior y no obstaculizar la circulación de la sangre.
A70: silla sugerida para oficinas | D70: silla sugerida para puestos de trabajo con planos de trabajo altos (escritorios o superficie de trabajo altos)
A74: COJIN LUMBAR PARA SILLA
A75: Espuma moldeada en poliuretano de alta densidad. Correa elástica para fácil graduación a la silla. El cojín anatómico le permite mantener la posición funcional de la columna vertebral conservando las curvas fisiológicas. Evita y previene la escoliosis, hiperlordosis, Cifosis, lumbalgias, Dorsalgias. Conserva la temperatura apropiada en la región lumbar evitando dolores. Se ajusta a cualquier silla mediante bandas elásticas que se puede estirar para adaptarse. El apoyo ligero protege suavemente su espalda y alienta a postura correcta. Diseño ergonómico ofrece un apoyo firme y cómodo mientras transpirable material de malla hace circular el aire para mantenerte fresco. Ideal para largas horas de sentado, diseñado para trabajo, viajes, hogar
A79: https://www.observatoriorh.com/salud-laboral/35960.html

Sheet RESULTADOS
A1: → | B1: Al hacer click con el botón contrario del mouse sobre cualquiera de las tablas dinámicas, se actualizan las demás.
A3: NÚMERO DE COLABORADORES EVALUADOS POR ÁREA
A6: Datos | B6: ÁREA | C6: Total
A7: Suma de TOTAL DE CONDICIONES SUBESTÁNDAR ENCONTRADAS | B7: (en blanco) | C7: 0
B8: ADMINISTRATIVOS | C8: 22
A9: Suma de TOTAL DE CONDICIONES SUBESTÁNDAR CORREGIDAS | B9: (en blanco) | C9: 0
B10: ADMINISTRATIVOS | C10: 0
A11: Total Suma de TOTAL DE CONDICIONES SUBESTÁNDAR ENCONTRADAS | C11: 22
A12: Total Suma de TOTAL DE CONDICIONES SUBESTÁNDAR CORREGIDAS | C12: 0
A60: CONSOLIDADO DE PORCENTAJE DE CORRECCIÓN POR ÁREA
B63: ÁREA
A64: CONDICIONES SUBESTÁNDAR | B64: (en blanco) | C64: ADMINISTRATIVOS | D64: Total general
A65: Suma de TOTAL DE CONDICIONES SUBESTÁNDAR ENCONTRADAS | B65: 0 | C65: 22 | D65: 22
A66: Suma de TOTAL DE CONDICIONES SUBESTÁNDAR CORREGIDAS | B66: 0 | C66: 0 | D66: 0
A67: Porcentaje de Corrección | B67: =B66/B65 -> #DIV/0! | C67: =C66/C65 -> 0
A78: CONSOLIDADO DE PORCENTAJE DE CORRECCIÓN POR CONDICIÓN EVALUADA
A81: ITEM | B81: CONDICION EVALUADA | C81: ENCONTRADAS | D81: CORREGIDAS | E81: % CORRECCION
A82: LOCATIVO | B82: ESPACIO DE TRABAJO | C82: =(LISTA!F$55) -> 0 | D82: =(LISTA!G$55) -> 0 | E82: =(LISTA!G$56) -> #DIV/0!
B83: ORDEN Y ASEO | C83: =(LISTA!H$55) -> 4 | D83: =(LISTA!I$55) -> 0 | E83: =(LISTA!I$56) -> 0
B84: CABLEADO | C84: =(LISTA!J$55) -> 6 | D84: =(LISTA!K$55) -> 0 | E84: =(LISTA!K$56) -> 0
A85: DISEÑO DEL PUESTO | B85: PLANO DE TRABAJO | C85: =(LISTA!L$55) -> 0 | D85: =(LISTA!M$55) -> 0 | E85: =(LISTA!M$56) -> #DIV/0!
B86: ALCANCES | C86: =(LISTA!N$55) -> 0 | D86: =(LISTA!O$55) -> 0 | E86: =(LISTA!O$56) -> #DIV/0!
B87: MOUSE Y TECLADO EN EL MISMO PLANO | C87: =(LISTA!P$55) -> 0 | D87: =(LISTA!Q$55) -> 0 | E87: =(LISTA!Q$56) -> #DIV/0!
B88: BORDES DE PRESION SOBRE MUÑECAS | C88: =(LISTA!R$55) -> 0 | D88: =(LISTA!S$55) -> 0 | E88: =(LISTA!S$56) -> #DIV/0!
A89: MONITOR | B89: PORTATIL CON ELEMENTOS | C89: =(LISTA!T$55) -> 0 | D89: =(LISTA!U$55) -> 0 | E89: =(LISTA!U$56) -> #DIV/0!
B90: UBICACIÓN FRONTAL | C90: =(LISTA!V$55) -> 1 | D90: =(LISTA!W$55) -> 0 | E90: =(LISTA!W$56) -> 0
B91: ALTURA VISUAL | C91: =(LISTA!X$55) -> 1 | D91: =(LISTA!Y$55) -> 0 | E91: =(LISTA!Y$56) -> 0
B92: DISTANCIA VDT | C92: =(LISTA!Z$55) -> 0 | D92: =(LISTA!AA$55) -> 0 | E92: =(LISTA!AA$56) -> #DIV/0!
A93: SILLA | B93: ALTURA | C93: =(LISTA!AB$55) -> 1 | D93: =(LISTA!AC$55) -> 0 | E93: =(LISTA!AC$56) -> 0
B94: PROFUNDIDAD ESPALDAR | C94: =(LISTA!AD$55) -> 0 | D94: =(LISTA!AE$55) -> 0 | E94: =(LISTA!AE$56) -> #DIV/0!
B95: ACABADOS | C95: =(LISTA!AF$55) -> 0 | D95: =(LISTA!AG$55) -> 0 | E95: =(LISTA!AG$56) -> #DIV/0!
A96: AMBIENTE | B96: REFLEJOS | C96: =(LISTA!AH$55) -> 3 | D96: =(LISTA!AI$55) -> 0 | E96: =(LISTA!AI$56) -> 0
B97: ILUMINACION | C97: =(LISTA!AJ$55) -> 0 | D97: =(LISTA!AK$55) -> 0 | E97: =(LISTA!AK$56) -> 0
B98: TEMPERATURA Y VENTILACION | C98: =(LISTA!AL$55) -> 0 | D98: =(LISTA!AM$55) -> 0 | E98: =(LISTA!AM$56) -> #DIV/0!
A99: ORGANIZACIONAL | B99: HIGIENE POSTURAL | C99: =(LISTA!AN$55) -> 2 | D99: =(LISTA!AO$55) -> 0 | E99: =(LISTA!AO$56) -> 0
B100: PAUSAS LABORALES | C100: =(LISTA!AP$55) -> 0 | D100: =(LISTA!AQ$55) -> 0 | E100: =(LISTA!AQ$56) -> #DIV/0!
B101: CAPACITACIONES | C101: =(LISTA!AR$55) -> 0 | D101: =(LISTA!AS$55) -> 0 | E101: =(LISTA!AS$56) -> #DIV/0!
A102: Subtotal de condiciones críticas | C102: =SUM(C82,C85:C91,C93:C94,C96:C97) -> 6 | D102: =SUM(D82,D85:D91,D93:D94,D96:D97) -> 0 | E102: =D102/C102 -> 0
A103: Total | C103: =SUM(C82:C101) -> 18 | D103: =SUM(D82:D101) -> 0 | E103: =D103/C103 -> 0
A114: DISTRIBUCIÓN PORCENTUAL DEL CUMPLIMIENTO DE LAS CONDICIONES DEL PUESTO EN LA VALORACIÓN INICIAL
A117: CONDICION DE PUESTOS | B117: N° TOTAL DE PUESTOS | C117: %
A118: NO CUMPLE | B118: =COUNTIF(LISTA!AW5:AW54,"NO CUMPLE") -> 0 | C118: =+B118/$B$121 -> 0
A119: CUMPLE PARCIAL | B119: =COUNTIF(LISTA!AW5:AW54,"CUMPLE PARCIAL") -> 0 | C119: =+B119/$B$121 -> 0
A120: CUMPLE | B120: =COUNTIF(LISTA!AW5:AW54,"CUMPLE") -> 50 | C120: =+B120/$B$121 -> 1
A121: Total de colaboradores | B121: =SUM(B118:B120) -> 50 | C121: =SUM(C118:C120) -> 1
A132: CUMPLIMIENTO DE LAS CONDICIONES DEL PUESTO POR ÁREAS EN LA VALORACION INICIAL
A135: Cuenta de ÁREA | B135: ÁREA
A136: CONDICIONES DEL PUESTO VALORACIÓN INICIAL | B136: (en blanco) | C136: ADMINISTRATIVOS | D136: Total general
A137: CUMPLE | C137: 2 | D137: 2
A138: NO CUMPLE | C138: 2 | D138: 2
A139: CUMPLE PARCIAL | C139: 1 | D139: 1
A140: Total general | C140: 5 | D140: 5
A149: GRADO DE CORRECCIÓN EN EL TALLER DE LAS CONDICIONES DEL PUESTO POR ÁREAS
A152: Cuenta de ÁREA | B152: ÁREA
A153: GRADO DE CORRECCIÓN EN EL TALLER | B153: (en blanco) | C153: ADMINISTRATIVOS | D153: Total general
A154: #¡DIV/0!
A155: BAJO | C155: 5 | D155: 5
A156: Total general | C156: 5 | D156: 5
A166: REQUERIMIENTO DE ELEMENTOS DE CONFORT POR ÁREAS
B169: ÁREA
A170: ELEMENTO DE CONFORT | B170: (en blanco) | C170: ADMINISTRATIVOS | D170: Total general
A171: Cuenta de APOYAPIES | B171: 7 | C171: 2 | D171: 9
A172: Cuenta de BASE PARA MONITOR CONVENCIONAL | B172: 11 | C172: 3 | D172: 14
A173: Cuenta de BASE PARA PORTÁTIL, TECLADO Y MOUSE EXTERNO | C173: 1 | D173: 1
A174: Cuenta de REPOSICIÓN DE SILLA | B174: 5 | C174: 3 | D174: 8
A175: Cuenta de MOBILIARIO | B175: 4 | C175: 2 | D175: 6
A176: Total general | B176: =SUM(B171:B175) -> 27 | C176: =SUM(C171:C175) -> 11
A187: NOTA: Se tendrán en cuenta a la hora de realizar las recomedaciones:
A189: ITEM | B189: RECOMENDACIONES
A190: LOCATIVO | B190: Distribución de los elementos de trabajo según la frecuencia de uso y lateralidad; tanto en la superficie de la mesa como en cajones y archivo. | C190: APLICA
B191: Reubicar cajoneras | C191: APLICA
B192: Reubicar archivos o almacenamiento de objetos | C192: NO APLICA
B193: Evitar acumulo de elementos sobre la superficie de la mesa. | C193: NO APLICA
B194: Eliminar los elementos que no pertenecen a la actividad laboral. | C194: NO APLICA
B195: Mantener libre la parte inferior de la mesa de trabajo | C195: APLICA
B196: Canalizar cableado | C196: NO APLICA
B197: Aumentar longitud del cableado | C197: NO APLICA
B198: Jornada de Orden y aseo | C198: NO APLICA
A199: DISEÑO DEL PUESTO | B199: Organización de los elementos de trabajo, de acuerdo a alcances mínimos y máximos. | C199: NO APLICA
B200: Evitar bordes de presión sobre muñeca y codos. | C200: APLICA
B201: Acercamiento del mouse dentro de zonas de confort. | C201: NO APLICA
B202: Ubicación del teclado y del mouse en el mismo plano de trabajo. | C202: NO APLICA
B203: Mantenimiento del mobiliario | C203: NO APLICA
B204: Ajustar altura del plano de trabajo de acuerdo a la antropometria de los colaboradores | C204: APLICA
A205: MONITOR | B205: Ajustar la altura y/0 distancia del monitor | C205: NO APLICA
B206: Ubicación frontal del monitor | C206: NO APLICA
B207: Adoptar base para monitor portatil, con teclado y mouse externo | C207: NO APLICA
B208: Contemplar la adquisición de pantallas con mecanismos de ajuste de altura regulables. | C208: APLICA
B209: Anclaje del monitor a pared | C209: NO APLICA
A210: SILLA | B210: Ajustar la altura de la silla, favoreciendo la postura de los codos cercanos al tronco. | C210: NO APLICA
B211: Ajustar altura del espaldar | C211: NO APLICA
B212: Ajustar la profundidad del asiento | C212: NO APLICA
B213: Realizar mantenimiento a los mecanismos de graducaión | C213: NO APLICA
B214: Realizar mantenimiento del tapizado de la silla | C214: NO APLICA
B215: Retirar apoyabrazos | C215: APLICA
B216: Reposición de silla | C216: NO APLICA
A217: AMBIENTE | B217: Adecuacion de puntos de iluminacion artificial | C217: NO APLICA
B218: Ajuste de niveles de iluminacion | C218: NO APLICA
B219: Control por exceso de iluminacion persianas,, black out | C219: NO APLICA
B220: Reubicacion del monitor perpendicular a la fuente de luz natural | C220: NO APLICA
...

Sheet HOJA DE RECOLECCIÓN
F1: LOCATIVO | L1: DISEÑO DEL PUESTO | T1: MONITOR | AB1: DISEÑO DE LA SILLA | AH1: AMBIENTE | AN1: ORGANIZACIONAL | AT1: OBSERVACIONES / RECOMENDACIONES | AZ1: ELEMENTOS DE CONFORT REQUERIDOS
A2: No. | B2: AREA | C2: CEDULA | D2: NOMBRE DEL TRABAJADOR | E2: CARGO | F2: ESPACIO DE TRABAJO | H2: ORDEN Y ASEO | J2: CABLEADO | L2: PLANO DE TRABAJO | N2: ALCANCES | P2: MOUSE Y TECLADO EN EL MISMO PLANO | R2: BORDES DE PRESION SOBRE MUÑECAS | T2: PORTATIL CON ELEMENTOS | V2: UBICACIÓN FRONTAL | X2: ALTURA VISUAL | Z2: DISTANCIA VDT | AB2: ALTURA | AD2: PROFUNDIDAD ESPALDAR | AF2: ACABADOS | AH2: REFLEJOS | AJ2: ILUMINACION | AL2: TEMPERATURA Y VENTILACION | AN2: HIGIENE POSTURAL | AP2: PAUSAS LABORALES | AR2: CAPACITACIONES | AT2: LOCATIVO | AU2: DISEÑO DEL PUESTO | AV2: MONITOR | AW2: SILLA | AX2: AMBIENTE | AY2: ORGANIZACIONAL | AZ2: APOYAPIES | BA2: BASE PARA MONITOR CONVENCIONAL | BB2: BASE PARA PORTATIL, TECLADO Y MOUSE EXTERNO | BC2: REPOSICION DE SILLA
F3: CALIF | G3: CORR | H3: CALIF | I3: CORR | J3: CALIF | K3: CORR | L3: CALIF | M3: CORR | N3: CALIF | O3: CORR | P3: CALIF | Q3: CORR | R3: CALIF | S3: CORR | T3: CALIF | U3: CORR | V3: CALIF | W3: CORR | X3: CALIF | Y3: CORR | Z3: CALIF | AA3: CORR | AB3: CALIF | AC3: CORR | AD3: CALIF | AE3: CORR | AF3: CALIF | AG3: CORR | AH3: CALIF | AI3: CORR | AJ3: CALIF | AK3: CORR | AL3: CALIF | AM3: CORR | AN3: CALIF | AO3: CORR | AP3: CALIF | AQ3: CORR | AR3: CALIF | AS3: CORR
A4: 1
A5: 2
A6: 3
A7: 4
A8: 5
A9: 6
A10: 7
A11: 8
A12: 9
A13: 10
A14: 11
A15: 12
A16: 13
