Workbook

Sheet MGLOBAL AGROINDUSTRIAL
B2: Corporacion Autónoma Regional del Cesar - CORPOCESAR
B3: Programa de Tasas Retributivas por descargas líquidas puntuales
B4: MEMORIA TÉCNICA: Cuadro de metas de cargas contaminates individuales y globales de DBO5 y SST y compromisos para el quinquenio 2014 -2018
B5: Cuadro de meta GLOBAL tramo generico agropecuario - ( AGROINDUSTRIALES)
B6: TRAMO | D6: Usuario | E6: Linea base a 2013 (kg/año) | G6: Carga meta del tramo genérico a 2018 (kg/año)
E7: DBO5 | F7: SST | G7: DBO5 | H7: SST
B8: Meta global tramo generico agropecuario | D8: Industrias manufactureras, palmicultoras, centros de benefico de ganado, etc. | E8: 212184 | F8: 352636 | G8: 118235.22 | H8: 116642.24

Sheet MGLOBAL MINERO
B2: Corporacion Autónoma Regional del Cesar - CORPOCESAR
B3: Programa de Tasas Retributivas por descargas líquidas puntuales
B4: MEMORIA TÉCNICA: Cuadro de metas de cargas contaminantes individuales y globales de DBO5 y SST y compromisos para el quinquenio 2014 -2018
B5: Cuadro de metas GLOBAL a 2018 para el tramo genérico de mineria
B6: Usuario | C6: (todas las empresas dedicadas a la mineria en la jurisdicción de Corpocesar) | D6: Linea base 2013 (kg/año) | F6: Metas de cargas a 2018 (Kg/año)
D7: DBO5 | E7: SST | F7: DBO5 | G7: SST
B8: Meta global del tamo Minero | D8: 1092382 | E8: 9713191 | F8: 218476.4 | G8: 1944656.2

Sheet GOBAL URBANO
B2: Corporacion Autónoma Regional del Cesar - CORPOCESAR
B3: Programa de Tasas Retributivas por descargas líquidas puntuales
B4: Cuadro de metas GLOBALES POR TRAMOS URBANOS de cargas contaminates de DBO5 y SST para el quinquenio 2014 -2018
B5: Municipio/subtramo de referencia | C5: Usuario | D5: Linea base (kg/año) | F5: Metas de cargas anualizadas a 2018(kg/año)
D6: DBO5 | E6: SST | F6: DBO5 | G6: SST
B7: Subtotal subtramo Valledupar Guatapurí | D7: 850074 | E7: 1154680 | F7: 841364.48 | G7: 969828.38
B8: Total subtramo Valledupar La Paz | D8: 1066053 | E8: 1182779 | F8: 971227.01 | G8: 1220712.2
B9: TRAMO SAN DIEGO | C9: CABECERA MUNICIPAL SAN DIEGO (EMPOSANDIEGO E.S.P) | D9: 259785 | E9: 244550 | F9: 224994.86 | G9: 211800.12
B10: TRAMO LA PAZ | C10: ALCALDIA MUNICIPAL DE LA PAZ (Corregimiento San José de Oriente) | D10: 127296 | E10: 71576 | F10: 41619 | G10: 55090
B11: TRAMO MANAURE | C11: CABECERA MUNICIPAL MANAURE (ESPUMA E.S.P) | D11: =52.8*365 -> 19272 | E11: =59.8*365 -> 21827 | F11: ='T urbano'!J24 -> 18222.983 | G11: ='T urbano'!O24 -> 20638.909
B12: TRAMO BECERRIL | C12: CABECERA MUNICIPAL BECERRIL (EMBECERRIL E.S.P) | D12: 7791 | E12: 21400 | F12: ='T urbano'!J25 -> 6422.0413 | G12: ='T urbano'!O25 -> 20235.151
B13: Total tramo La Jagua de Ibirico | D13: 192603 | E13: 450114 | F13: 104163.89 | G13: 398023.49
B14: TRAMO CURUMANI - CAÑO SAN IGNACIO | C14: ALCALDIA MUNICIPAL DE CURUMANI (Corregimiento San Roque) | D14: 10643 | E14: 8855 | F14: ='T urbano'!J32 -> 11766.869 | G14: ='T urbano'!O32 -> 9776.6355
B15: Total tramo Chiriguaná | D15: 60879 | E15: 64556 | F15: 23918.259 | G15: 23496.606
B16: Total tramo ASTREA | D16: 111617 | E16: 206006 | F16: 34773.166 | G16: 222718.44
B17: Total tramo El Paso | D17: 142300 | E17: 169832 | F17: 84110.044 | G17: 89203.793
B18: TRAMO BOSCONIA | C18: CABECERA MUNICIPAL BOSCONIA (EMPOBOSCONIA E.S.P) | D18: 125049 | E18: 108405 | F18: 64422.879 | G18: 55848.205
B19: Total tramo Pueblo Bello | D19: 94824.254 | E19: 95129.509 | F19: 66695.416 | G19: 68859.6
B20: Total tramo E Copey | D20: 87314 | E20: 125077 | F20: 21890.25 | G20: 19331.191
B21: Total tramo Chimichagua | D21: 5280 | E21: 4368 | F21: 15891.039 | G21: 12766.397
B22: Total tramo Codazzi | D22: 179579 | E22: 96612 | F22: 50023.958 | G22: 29730.963
B23: TRAMO PAILITAS | C23: CABECERA MUNICIPAL PAILITAS (EMSERPUPA E.S.P) | D23: 147314 | E23: 136838.5 | F23: 107844.47 | G23: 100175.65
B24: Total tramo Pelaya | D24: 89225.1 | E24: 100278.9 | F24: 30090.843 | G24: 31286.184
B25: Total tramo Tamalameque | D25: 29547 | E25: 47303 | F25: 25185.823 | G25: 24634.211
B26: Total tramo Aguachica | D26: 341412 | E26: 360378 | F26: 323449.29 | G26: 294376.81
B27: Total tramo Gamarra | D27: 93826 | E27: 91205 | F27: 23792.711 | G27: 21081.21
B28: Total tramo La Gloria | D28: 4984 | E28: 4750 | F28: 5306.0049 | G28: 8295.8967
B29: Total tramo San Martin | D29: 151300 | E29: 120353 | F29: 52210.656 | G29: 42218.504
B30: Total tramo San Alberto | D30: 138715 | E30: 159709 | F30: 29158.172 | G30: 35321.715
B31: TRAMO GONZALEZ | C31: CABECERA MUNICIPAL GONZALEZ | D31: 132398 | E31: 126513 | F31: 32216.482 | G31: 30784.482
B32: Total tramo Rio de Oro | D32: 67199 | E32: 66719 | F32: 35313.412 | G32: 35061.17
B34: OBSERVACIONES | C34: 1. Los tramos totalizados incluyen las cargas de la cabecera, corregimientos y centros poblados. 2.Estas metas de tramo, son las que afectan el FACTOR REGIONAL cada año, CUANDO NO SE CUMPLE LA META INDIVIDUAL O GRUPAL

Sheet poblacion
B1: Municipio | C1: Tasa | D1: Cabecera 1995 | E1: Cabecera 1996 | F1: Cabecera 1997 | G1: Cabecera 1998 | H1: Cabecera 1999 | I1: Cabecera 2000 | J1: Cabecera 2001 | K1: Cabecera 2002 | L1: Cabecera 2003 | M1: Cabecera 2004 | N1: Cabecera 2005 | O1: Cabecera 2006 | P1: Cabecera 2007 | Q1: Cabecera 2008 | R1: Cabecera 2009 | S1: Cabecera 2010 | T1: Cabecera 2011
B2: Valledupar | C2: 0.026521056 | D2: 236624 | E2: 242991 | F2: 249559 | G2: 256310 | H2: 263247 | I2: 270375 | J2: 277675 | K2: 285142 | L2: 292760 | M2: 300550 | N2: 308488 | O2: 316778.88 | P2: 325292.59 | Q2: 334035.11 | R2: 343012.6 | S2: 352231.36 | T2: 361697.88
B3: Aguachica | C3: 0.025751453 | D3: 56794 | E3: 58278 | F3: 59807 | G3: 61378 | H3: 62991 | I3: 64647 | J3: 66341 | K3: 68073 | L3: 69837 | M3: 71640 | N3: 73475 | O3: 75391.66 | P3: 77358.319 | Q3: 79376.279 | R3: 81446.88 | S3: 83571.494 | T3: 85751.53
B4: Agustín Codazzi | C4: 0.023785562 | D4: 40659 | E4: 41643 | F4: 42655 | G4: 43692 | H4: 44754 | I4: 45841 | J4: 46949 | K4: 48078 | L4: 49225 | M4: 50393 | N4: 51577 | O4: 52818.494 | P4: 54089.872 | Q4: 55391.853 | R4: 56725.173 | S4: 58090.588 | T4: 59488.868
B5: Astrea | C5: 0.011799174 | D5: 7985 | E5: 8093 | F5: 8200 | G5: 8306 | H5: 8411 | I5: 8515 | J5: 8615 | K5: 8713 | L5: 8808 | M5: 8899 | N5: 8985 | O5: 9091.6435 | P5: 9199.5527 | Q5: 9308.7428 | R5: 9419.2288 | S5: 9531.0262 | T5: 9644.1505
B6: Becerril | C6: 0.0062627961 | D6: 8448 | E6: 8511 | F6: 8574 | G6: 8635 | H6: 8695 | I6: 8753 | J6: 8808 | K6: 8860 | L6: 8909 | M6: 8954 | N6: 8994 | O6: 9050.5043 | P6: 9107.3637 | Q6: 9164.5802 | R6: 9222.1562 | S6: 9280.0939 | T6: 9338.3956
B7: Bosconia | C7: 0.0060489327 | D7: 23045 | E7: 23214 | F7: 23381 | G7: 23544 | H7: 23702 | I7: 23855 | J7: 24000 | K7: 24137 | L7: 24262 | M7: 24378 | N7: 24482 | O7: 24630.539 | P7: 24779.979 | Q7: 24930.325 | R7: 25081.584 | S7: 25233.761 | T7: 25386.861
B8: Chimichagua | C8: 0.028223117 | D8: 12647 | E8: 13016 | F8: 13397 | G8: 13786 | H8: 14186 | I8: 14596 | J8: 15014 | K8: 15441 | L8: 15876 | M8: 16320 | N8: 16771 | O8: 17251.073 | P8: 17744.887 | Q8: 18252.838 | R8: 18775.328 | S8: 19312.775 | T8: 19865.606
B9: Chiriguaná | C9: 0.019804171 | D9: 12465 | E9: 12721 | F9: 12983 | G9: 13249 | H9: 13519 | I9: 13793 | J9: 14070 | K9: 14349 | L9: 14630 | M9: 14912 | N9: 15195 | O9: 15498.924 | P9: 15808.927 | Q9: 16125.13 | R9: 16447.658 | S9: 16776.637 | T9: 17112.196
B10: Curumaní | C10: 0.019843219 | D10: 18133 | E10: 18503 | F10: 18882 | G10: 19268 | H10: 19661 | I10: 20060 | J10: 20463 | K10: 20871 | L10: 21282 | M10: 21697 | N10: 22113 | O10: 22556.176 | P10: 23008.233 | Q10: 23469.35 | R10: 23939.709 | S10: 24419.494 | T10: 24908.895
B11: El Copey | C11: 0.0064358188 | D11: 16984 | E11: 17117 | F11: 17249 | G11: 17377 | H11: 17502 | I11: 17622 | J11: 17736 | K11: 17843 | L11: 17941 | M11: 18032 | N11: 18113 | O11: 18229.948 | P11: 18347.651 | Q11: 18466.114 | R11: 18585.342 | S11: 18705.339 | T11: 18826.112
B12: El Paso | C12: 0.034669863 | D12: 4503 | E12: 4669 | F12: 4840 | G12: 5015 | H12: 5196 | I12: 5380 | J12: 5570 | K12: 5763 | L12: 5961 | M12: 6163 | N12: 6369 | O12: 6593.6847 | P12: 6826.2959 | Q12: 7067.1131 | R12: 7316.4258 | S12: 7574.5337 | T12: 7841.7471
B13: Gamarra | C13: 0.0061701021 | D13: 6882 | E13: 6932 | F13: 6982 | G13: 7031 | H13: 7079 | I13: 7125 | J13: 7170 | K13: 7212 | L13: 7251 | M13: 7287 | N13: 7320 | O13: 7365.3048 | P13: 7410.8899 | Q13: 7456.7572 | R13: 7502.9084 | S13: 7549.3453 | T13: 7596.0695
... B19: Pelaya2 | C19: 0.022021265 | D19: 9089 | E19: 9292 | F19: 9501 | G19: 9714 | H19: 9933 | I19: 10156 | J19: 10383 | K19: 10614 | L19: 10849 | M19: 11087 | N19: 11328 | O19: 11580.224 | P19: 11838.064 | Q19: 12101.644 | R19: 12371.094 | S19: 12646.543 | T19: 12928.124
B20: Pueblo Bello1 | C20: 0.032280137 | G20: 5033 | H20: 5198 | I20: 5371 | J20: 5549 | K20: 5731 | L20: 5919 | M20: 6112 | N20: 6309 | O20: 6515.9781 | P20: 6729.7464 | Q20: 6950.5278 | R20: 7178.5523 | S20: 7414.0576 | T20: 7657.289
B21: Río De Oro | C21: 0.013180383 | D21: 5359 | E21: 5439 | F21: 5518 | G21: 5597 | H21: 5676 | I21: 5753 | J21: 5829 | K21: 5904 | L21: 5976 | M21: 6046 | N21: 6114 | O21: 6195.1183 | P21: 6277.3128 | Q21: 6360.5978 | R21: 6444.9879 | S21: 6530.4976 | T21: 6617.1418
B22: Robles (La Paz) | C22: 0.013782058 | D22: 11545 | E22: 11714 | F22: 11886 | G22: 12058 | H22: 12231 | I22: 12404 | J22: 12577 | K22: 12749 | L22: 12918 | M22: 13086 | N22: 13251 | O22: 13434.89 | P22: 13621.333 | Q22: 13810.362 | R22: 14002.015 | S22: 14196.328 | T22: 14393.337
B23: San Alberto | C23: 0.010873256 | D23: 9533 | E23: 9644 | F23: 9756 | G23: 9869 | H23: 9981 | I23: 10093 | J23: 10204 | K23: 10314 | L23: 10421 | M23: 10526 | N23: 10628 | O23: 10744.192 | P23: 10861.653 | Q23: 10980.399 | R23: 11100.443 | S23: 11221.8 | T23: 11344.483
B24: San Diego | C24: 0.016176384 | D24: 6823 | E24: 6938 | F24: 7055 | G24: 7173 | H24: 7293 | I24: 7414 | J24: 7535 | K24: 7657 | L24: 7778 | M24: 7900 | N24: 8021 | O24: 8151.8059 | P24: 8284.745 | Q24: 8419.852 | R24: 8557.1624 | S24: 8696.712 | T24: 8838.5374
B25: San Martín | C25: 0.019572152 | D25: 5782 | E25: 5901 | F25: 6022 | G25: 6145 | H25: 6269 | I25: 6395 | J25: 6521 | K25: 6649 | L25: 6776 | M25: 6904 | N25: 7032 | O25: 7170.9871 | P25: 7312.7212 | Q25: 7457.2567 | R25: 7604.649 | S25: 7754.9544 | T25: 7908.2306
B26: Tamalameque2 | C26: 0.015435215 | D26: 4254 | E26: 4328 | F26: 4402 | G26: 4476 | H26: 4549 | I26: 4622 | J26: 4694 | K26: 4764 | L26: 4833 | M26: 4899 | N26: 4964 | O26: 5041.2148 | P26: 5119.6306 | Q26: 5199.2663 | R26: 5280.1406 | S26: 5362.2729 | T26: 5445.6829
E28: =(E11-D11)/E11 -> 0.0077700532
C29: =C15*100 -> 3.9112142
H30: =(H20-G20)*100/G20 -> 3.2783628
C31: 950 | D31: =(C32-C31)/C31 -> 0.012631579
C32: 962 | D32: =D31*100 -> 1.2631579

Sheet T agroindustrial
B2: Corporacion Autónoma Regional del Cesar - CORPOCESAR
B3: Programa de Tasas Retributivas por descargas líquidas puntuales
B4: MEMORIA TÉCNICA: Cuadro de metas de cargas contaminates individuales y globales de DBO5 y SST y compromisos para el quinquenio 2014 -2018
B5: Cuadro de metas para usuarios de proyectos localizados en tramos genericos agropecuarios
B6: Cuenca o tramo (de acuerdo con resolución 428 de 2008) | C6: Municipio/subtramo de referencia | D6: Usuario | E6: Linea base (kg/año) | G6: Metas de cargas anualizadas (kg/año)
E7: DBO5 | F7: SST | G7: DBO5 | L7: SST
G8: 2014 | H8: 2015 | I8: 2016 | J8: 2017 | K8: 2018 | L8: 2014 | M8: 2015 | N8: 2016 | O8: 2017 | P8: 2018
B9: Tramo genérico agropecuario | C9: TRAMO VALLEDUPAR - LA PAZ | D9: INSTITUTO PENITENCIARIO Y CARCELARIO DE ALTA Y MEDIANA SEGURIDAD DE VALLEDUPAR - INPEC | E9: 19334 | F9: 19160 | G9: =E9 -> 19334 | H9: =E9 -> 19334 | I9: =E9 -> 19334 | J9: =E9 -> 19334 | K9: =E9*0.9 -> 17400.6 | L9: =F9 -> 19160 | M9: =F9 -> 19160 | N9: =F9 -> 19160 | O9: =F9 -> 19160 | P9: =F9*0.9 -> 17244
C10: TRAMO ASTREA | D10: ALCALDIA MUNICIPAL DE ASTREA (Matadero Municipal Astrea) | E10: 6480 | F10: 5918 | G10: =E10*1.0122 -> 6559.056 | H10: =G10*1.0122 -> 6639.0765 | I10: =H10*1.0122 -> 6720.0732 | J10: =I10*1.035 -> 6955.2758 | K10: =E10*1.0122*(1-0.4) -> 3935.4336 | L10: =F10*1.0122 -> 5990.1996 | M10: =G10*1.0122 -> 6639.0765 | N10: =H10*1.0122 -> 6720.0732 | O10: =I10*1.0122 -> 6802.0581 | P10: =J10*1.0122*(1-0.6) -> 2816.0521
C11: TRAMO EL PASO | D11: PALMAGRO S.A EL PASO | E11: 9684 | F11: 5064 | G11: =E11*0.96 -> 9296.64 | H11: =G11*0.96 -> 8924.7744 | I11: =H11*0.96 -> 8567.7834 | J11: =I11*0.96 -> 8225.0721 | K11: =J11*0.96 -> 7896.0692 | L11: =F11*0.96 -> 4861.44 | M11: =L11*0.96 -> 4666.9824 | N11: =M11*0.96 -> 4480.3031 | O11: =N11*0.96 -> 4301.091 | P11: =O11*0.96 -> 4129.0473
D12: CNR III LTD SUCURSAL COLOMBIA - EL HATILLO | E12: 931 | F12: 4935 | G12: =$E$12 -> 931 | H12: =$E$12 -> 931 | I12: =$E$12 -> 931 | J12: =$E$12 -> 931 | K12: =E12*0.9 -> 837.9 | L12: =$F$12 -> 4935 | M12: =$F$12 -> 4935 | N12: =$F$12 -> 4935 | O12: =$F$12 -> 4935 | P12: =F12*0.9 -> 4441.5
D13: COOLECHERA LTDA | E13: 328 | F13: 605 | G13: =E$13*1.035 -> 339.48 | H13: =E13*1.035 -> 339.48 | I13: =E13*1.035 -> 339.48 | J13: =E13*1.035 -> 339.48 | K13: =E13*0.9 -> 295.2 | L13: =F13*1.035 -> 626.175 | M13: =$F$13*1.035 -> 626.175 | N13: =$F$13*1.035 -> 626.175 | O13: =$F$13*1.035 -> 626.175 | P13: =F13*0.9 -> 544.5
C14: TRAMO BOSCONIA | D14: EXTRACTORA PALMARIGUANI S.A. | E14: 3754 | F14: 3420 | G14: =E14*0.65 -> 2440.1 | H14: =G14 -> 2440.1 | I14: =E14*0.56 -> 2102.24 | J14: =E14*0.61 -> 2289.94 | K14: =J14 -> 2289.94 | L14: =F14*0.65 -> 2223 | M14: =L14 -> 2223 | N14: =F14*0.56 -> 1915.2 | O14: =F14*0.31 -> 1060.2 | P14: =O14 -> 1060.2
C15: TRAMO PUEBLO BELLO | D15: MATADERO MUNICIPAL DE PUEBLO BELLO | E15: 33696 | F15: 30775 | G15: =$E$15*1.0327 -> 34797.859 | H15: =$E$15*1.0327 -> 34797.859 | I15: =$E$15*1.0327 -> 34797.859 | J15: =$E$15*1.0327 -> 34797.859 | K15: =E15*0.6 -> 20217.6 | L15: =$F$15*1.0327 -> 31781.342 | M15: =$F$15*1.0327 -> 31781.342 | N15: =$F$15*1.0327 -> 31781.342 | O15: =$F$15*1.0327 -> 31781.342 | P15: =F15*(1-0.4) -> 18465
C16: TRAMO CODAZZI | D16: CENTRAL SICARARE S.A.S | E16: 717 | F16: 1400 | G16: =E16 -> 717 | H16: =E16*0.95 -> 681.15 | I16: =E16*0.95 -> 681.15 | J16: =E16*0.95 -> 681.15 | K16: =E16*0.95 -> 681.15 | L16: =F16 -> 1400 | M16: =F16*0.95 -> 1330 | N16: =F16*0.95 -> 1330 | O16: =F16*0.95 -> 1330 | P16: =F16*0.95 -> 1330
D17: OLEOFLORES S.A | E17: 4964 | F17: 12854 | G17: =$E$17*1.035 -> 5137.74 | H17: =$E$17*1.035 -> 5137.74 | I17: =$E$17*1.035 -> 5137.74 | J17: =$E$17*1.035 -> 5137.74 | K17: =F17*(1-0.5) -> 6427 | L17: =$F$17*1.035 -> 13303.89 | M17: =$F$17*1.035 -> 13303.89 | N17: =$F$17*1.035 -> 13303.89 | O17: =$F$17*1.035 -> 13303.89 | P17: =F17*(1-0.5) -> 6427
D18: EXTRACTORA SICARARE S.A.S. | E18: 5590 | F18: 14145 | G18: =(E18*1.46)-(E18*0.1) -> 7602.4 | H18: =(E18*1.133)-(E18*0.18) -> 5327.27 | I18: =(E18*1.17)-(E18*0.32) -> 4751.5 | J18: =E18-(E18*0.25) -> 4192.5 | K18: =J18 -> 4192.5 | L18: =(F18*1.466)-(F18*0.1) -> 19322.07 | M18: =(F18*1.466)-(F18*0.18) -> 18190.47 | N18: =(F18*1.17)-(F18*0.32) -> 12023.25 | O18: =F18-(F18*0.25) -> 10608.75 | P18: =O18 -> 10608.75
D19: PALMAS OLEAGINOSAS DE CASACARÁ LTDA | E19: 12243 | F19: 10346 | G19: =$E$19*1.035 -> 12671.505 | H19: =$E$19*1.035 -> 12671.505 | I19: =$E$19*1.035 -> 12671.505 | J19: =$E$19*1.035 -> 12671.505 | K19: =E19*(1-0.5) -> 6121.5 | L19: =$F$19*1.035 -> 10708.11 | M19: =$F$19*1.035 -> 10708.11 | N19: =$F$19*1.035 -> 10708.11 | O19: =$F$19*1.035 -> 10708.11 | P19: =F19*(1-0.5) -> 5173
C20: TRAMO AGUACHICA | D20: FRESKALECHE S.A | E20: 18408 | F20: 9545 | G20: =E20*1.05 -> 19328.4 | H20: =E20*1.05-(E20*0.057) -> 18279.144 | I20: =E20*1.05-(E20*0.208) -> 15499.536 | J20: =E20*1.05-(E20*0.23) -> 15094.56 | K20: =E20*(1-0.85) -> 2761.2 | L20: =F20*1-5 -> 9540 | M20: =F20*1-5-(F20*0.05) -> 9062.75 | N20: =F20*1-5 -> 9540 | O20: =F20*1-5-(F20*0.05) -> 9062.75 | P20: =F20*(1-0.85) -> 1431.75
D21: FRIGORÍFICO FOGASA S.A. | E21: 3553,2 | F21: 1486,8 | G21: 3553,2 | H21: 3553,2 | I21: 3664,4 | J21: 3664,4 | K21: 3664,4 | L21: 1486,8 | M21: 1486,8 | N21: 1533,4 | O21: 1533,4 | P21: 1533,4
D22: AGROINCE LTDA Y CIA S.C.A | E22: 13703 | F22: 29473 | G22: =E22*1.66 -> 22746.98 | H22: =E22*1.17 -> 16032.51 | I22: =E22*1.28 -> 17539.84 | J22: =E22*1.37-(E22*0.8) -> 7810.71 | K22: =E22*1.17-(E22*0.84) -> 4521.99 | L22: =(F22*1.063)-(F22*0.81) -> 7456.669 | M22: =(F22*1.17)-(F22*0.85) -> 9431.36 | N22: =(F22*1.063)-(F22*0.81) -> 7456.669 | O22: =(F22*1.063)-(F22*0.81) -> 7456.669 | P22: =(F22*1.063)-(F22*0.81) -> 7456.669
C23: TRAMO GAMARRA | D23: ALCALDIA MUNICIPAL DE GAMARRA (Matadero Municipal) | E23: 6480 | F23: 5918 | G23: =$E$23*1.006 -> 6518.88 | H23: =$E$23*1.006 -> 6518.88 | I23: =$E$23*1.006 -> 6518.88 | J23: =$E$23*1.006 -> 6518.88 | K23: =E23*(1-0.6) -> 2592 | L23: =$F$23*1.006 -> 5953.508 | M23: =$F$23*1.006 -> 5953.508 | N23: =$F$23*1.006 -> 5953.508 | O23: =$F$23*1.006 -> 5953.508 | P23: =F23*(1-0.6) -> 2367.2
C24: TRAMO LA GLORIA | D24: ECOPETROL S.A - (Planta Ayacucho) | E24: 1972 | F24: 121424 | G24: 0.098 | H24: 0.098 | I24: 0.098 | J24: 0.098 | K24: 0.098 | L24: 0.026 | M24: 0.026 | N24: 0.026 | O24: 0.026 | P24: 0.026
D25: EXTRACTORA LA GLORIA | E25: =3900*2/2 -> 3900 | F25: =12075*2/2 -> 12075 | G25: 0 | H25: 0 | I25: =H25 -> 0 | J25: 0 | K25: 0 | L25: 0 | M25: 0 | N25: 0 | O25: 0 | P25: 0
C26: TRAMO SAN MARTIN | D26: PETRONORTE (LOS ANGELES, Quebrada Tisquirama) | E26: 7417 | F26: 483 | G26: 951,78 | H26: 1477,4 | I26: 5473,9 | J26: 5909,7 | K26: 5909,8 | L26: 114,2 | M26: 177,2 | N26: 656,9 | O26: 709,2 | P26: 709,3
D27: PETRONORTE (Santa Lucía - Río Cáchira) | E27: 4688 | F27: 1721 | G27: 4688 | H27: 4688 | I27: 4688 | J27: 4688 | K27: 4688 | L27: 1721 | M27: 1721 | N27: 1721 | O27: 1721 | P27: 1721
D28: PALMAS DEL CESAR S.A | E28: 1429 | F28: 4985 | G28: =E28 -> 1429 | H28: =E28 -> 1429 | I28: =E28 -> 1429 | J28: =E28 -> 1429 | K28: =E28*0.6 -> 857.4 | L28: =F28 -> 4985 | M28: =F28 -> 4985 | N28: =F28 -> 4985 | O28: =F28 -> 4985 | P28: =F28*0.6 -> 2991
D29: ECOPETROL S.A - ESTACION TISQUIRAMA | E29: 7417 | F29: 483 | G29: 952 | H29: 1477 | I29: 5474 | J29: 5910 | K29: =E29 -> 7417 | L29: 114 | M29: 177 | N29: 657 | O29: 709 | P29: =F29 -> 483
C30: TRAMO SAN ALBERTO | D30: ALCALDÍA MUNICIPAL DE SAN ALBERTO (Matadero Municipal) | E30: 33696 | F30: 30775 | G30: =$E$30*1.011 -> 34066.656 | H30: =G30*1.011 -> 34441.389 | I30: =H30*1.011 -> 34820.244 | J30: =I30*1.011 -> 35203.267 | K30: =E30*(1-0.6) -> 13478.4 | L30: =F30*1.011 -> 31113.525 | M30: =L30*1.011 -> 31455.774 | N30: =M30*1.011 -> 31801.787 | O30: =N30*1.011 -> 32151.607 | P30: =F30*(1-0.6) -> 12310
D31: INDUPALMA | E31: 5721 | F31: 17710 | G31: =E31*1.035 -> 5921.235 | H31: =G31*1.035 -> 6128.4782 | I31: =H31*1.035 -> 6342.975 | J31: =I31*1.035 -> 6564.9791 | K31: =E31*(1-0.5) -> 2860.5 | L31: =F31*1.035 -> 18329.85 | M31: =L31*1.035 -> 18971.395 | N31: =M31*1.035 -> 19635.394 | O31: =N31*1.035 -> 20322.632 | P31: =F31*(1-0.5) -> 8855
D32: ENFRIADORA LA VALLENATA LTDA | E32: 1043 | F32: 695 | G32: =E32 -> 1043 | H32: =E32 -> 1043 | I32: =E32 -> 1043 | J32: =E32*0.965 -> 1006.495 | K32: =E32*0.966 -> 1007.538 | L32: =F32 -> 695 | M32: =F32 -> 695 | N32: =F32*0.95 -> 660.25 | O32: =F32*0.95 -> 660.25 | P32: =F32*0.95 -> 660.25
D33: EDS RAFAEL | E33: 2105 | F33: 4265 | G33: =E33*0.96 -> 2020.8 | H33: =G33*0.96 -> 1939.968 | I33: =H33*0.96 -> 1862.3693 | J33: =I33*0.96 -> 1787.8745 | K33: =J33*0.96 -> 1716.3595 | L33: =F33*0.96 -> 4094.4 | M33: =L33*0.96 -> 3930.624 | N33: =M33*0.96 -> 3773.399 | O33: =N33*0.96 -> 3622.4631 | P33: =O33*0.96 -> 3477.5646
D34: EDS EL REMANSO (Caño Alto Sano) | E34: 1148 | F34: 740 | G34: =E34*1.035 -> 1188.18 | H34: =G34*1.035 -> 1229.7663 | I34: =H34*1.035 -> 1272.8081 | J34: =I34*1.035 -> 1317.3564 | K34: =E34*1.035*(1-0.1) -> 1069.362 | L34: =F34*1.035 -> 765.9 | M34: =L34*1.035 -> 792.7065 | N34: =M34*1.035 -> 820.45123 | O34: =N34*1.035 -> 849.16702 | P34: =O34*1.035*(1-0.5) -> 439.44393
D35: LAVADERO DE CARROS - LA CABAÑA | E35: 31 | F35: 152 | G35: =E35*1.035 -> 32.085 | H35: =G35*1.035 -> 33.207975 | I35: =H35*1.035 -> 34.370254 | J35: =I35*1.035 -> 35.573213 | K35: =E35*1.035*(1-0.1) -> 28.8765 | L35: =F35*1.035 -> 157.32 | M35: =L35*1.035 -> 162.8262 | N35: =M35*1.035 -> 168.52512 | O35: =N35*1.035 -> 174.4235 | P35: =O35*1.035*(1-0.5) -> 90.264159
D36: EDS EL RETORNO | E36: 31 | F36: 152 | G36: =E36*1.035 -> 32.085 | H36: =G36*1.035 -> 33.207975 | I36: =H36*1.035 -> 34.370254 | J36: =I36*1.035 -> 35.573213 | K36: =E36*1.035*(1-0.1) -> 28.8765 | L36: =F36*1.035 -> 157.32 | M36: =L36*1.035 -> 162.8262 | N36: =M36*1.035 -> 168.52512 | O36: =N36*1.035 -> 174.4235 | P36: =O36*1.035*(1-0.5) -> 90.264159
C37: TRAMO RIO DE ORO | D37: EDS EL TOPE | E37: 2633 | F37: 1810 | G37: =E37*1.035 -> 2725.155 | H37: =G37*1.035 -> 2820.5354 | I37: =H37*1.035 -> 2919.2542 | J37: =I37*1.035 -> 3021.4281 | K37: =E37*1.035*(1-0.1) -> 2452.6395 | L37: =F37*1.035 -> 1873.35 | M37: =L37*1.035 -> 1938.9172 | N37: =M37*1.035 -> 2006.7794 | O37: =N37*1.035 -> 2077.0166 | P37: =O37*1.035*(1-0.5) -> 1074.8561
D38: EDS RIO DE ORO | E38: 2641 | F38: 1608 | G38: =E38*1.035 -> 2733.435 | H38: =G38*1.035 -> 2829.1052 | I38: =H38*1.035 -> 2928.1239 | J38: =I38*1.035 -> 3030.6082 | K38: =E38*1.035*(1-0.1) -> 2460.0915 | L38: =F38*1.035 -> 1664.28 | M38: =L38*1.035 -> 1722.5298 | N38: =M38*1.035 -> 1782.8183 | O38: =N38*1.035 -> 1845.217 | P38: =O38*1.035*(1-0.5) -> 954.89979
B39: Linea base y metas quinquenales del tramo | E39: =SUM(E9:E38) -> 212184 | F39: =SUM(F9:F38) -> 352636 | K39: =SUM(K9:K38) -> 118235.22 | P39: =SUM(P9:P38) -> 116642.24

Sheet T minero
B2: Corporacion Autónoma Regional del Cesar - CORPOCESAR
B3: Programa de Tasas Retributivas por descargas líquidas puntuales
B4: MEMORIA TÉCNICA: Cuadro de metas de cargas contaminantes individuales y globales de DBO5 y SST y compromisos para el quinquenio 2014 -2018
B5: Cuadro de metas para usuarios de proyectos localizados en tramos genericos mineros
B6: Municipio/subtramo de referencia | C6: Usuario | D6: Linea base (kg/año) | F6: Metas de cargas anualizadas (kg/año)
D7: DBO5 | E7: SST | F7: DBO5 | K7: SST
F8: 2014 | G8: 2015 | H8: 2016 | I8: 2017 | J8: 2018 | K8: 2014 | L8: 2015 | M8: 2016 | N8: 2017 | O8: 2018
B9: TRAMO JAGUA DE IBIRICO - RIO SORORIA | C9: CARBONES DE LA JAGUA (LAGUNA No 5) | D9: 58160 | E9: 29164 | F9: =D9*1.035 -> 60195.6 | G9: =F9*1.035 -> 62302.446 | H9: =G9*1.035 -> 64483.032 | I9: =H9*1.035 -> 66739.938 | J9: =D9*(1-0.8) -> 11632 | K9: =E9*1.035 -> 30184.74 | L9: =K9*1.035 -> 31241.206 | M9: =L9*1.035 -> 32334.648 | N9: =M9*1.035 -> 33466.361 | O9: =E9*(1-0.8) -> 5832.8
C10: CARBONES DE LA JAGUA (CARCAMO TALLER) | D10: 251 | E10: 1691 | F10: =D10*1.035 -> 259.785 | G10: =F10*1.035 -> 268.87747 | H10: =G10*1.035 -> 278.28819 | I10: =H10*1.035 -> 288.02827 | J10: =D10*(1-0.8) -> 50.2 | K10: =E10*1.035 -> 1750.185 | L10: =K10*1.035 -> 1811.4415 | M10: =L10*1.035 -> 1874.8419 | N10: =M10*1.035 -> 1940.4614 | O10: =E10*(1-0.8) -> 338.2
C11: CARBONES DE LA JAGUA (BOMBEO SUR) | D11: 43363 | E11: 71238 | F11: =D11*1.035 -> 44880.705 | G11: =F11*1.035 -> 46451.53 | H11: =G11*1.035 -> 48077.333 | I11: =H11*1.035 -> 49760.04 | J11: =D11*(1-0.8) -> 8672.6 | K11: =E11*1.035 -> 73731.33 | L11: =K11*1.035 -> 76311.927 | M11: =L11*1.035 -> 78982.844 | N11: =M11*1.035 -> 81747.244 | O11: =E11*(1-0.8) -> 14247.6
B12: TRAMO JAGUA DE IBIRICO - MINERIA | C12: CARBONES DE LA JAGUA (CMU) | D12: 58160 | E12: 29164 | F12: =D12*1.035 -> 60195.6 | G12: =F12*1.035 -> 62302.446 | H12: =G12*1.035 -> 64483.032 | I12: =H12*1.035 -> 66739.938 | J12: =D12*(1-0.8) -> 11632 | K12: =E12*1.035 -> 30184.74 | L12: =K12*1.035 -> 31241.206 | M12: =L12*1.035 -> 32334.648 | N12: =M12*1.035 -> 33466.361 | O12: =E12*(1-0.8) -> 5832.8
C13: CARBONES DE LA JAGUA (BOMBEO ALUVION) | D13: 78000 | E13: 854236 | F13: =D13*1.035 -> 80730 | G13: =F13*1.035 -> 83555.55 | H13: =G13*1.035 -> 86479.994 | I13: =H13*1.035 -> 89506.794 | J13: =D13*(1-0.8) -> 15600 | K13: =E13*1.035 -> 884134.26 | L13: =K13*1.035 -> 915078.96 | M13: =L13*1.035 -> 947106.72 | N13: =M13*1.035 -> 980255.46 | O13: =E13*(1-0.8) -> 170847.2
C14: CARBONES DE LA JAGUA (BOMBEO NORTE) | D14: 181775 | E14: 1012256 | F14: =D14*1.035 -> 188137.12 | G14: =F14*1.035 -> 194721.92 | H14: =G14*1.035 -> 201537.19 | I14: =H14*1.035 -> 208590.99 | J14: =D14*(1-0.8) -> 36355 | K14: =E14*1.035 -> 1047685 | L14: =K14*1.035 -> 1084353.9 | M14: =L14*1.035 -> 1122306.3 | N14: =M14*1.035 -> 1161587 | O14: =E14*(1-0.8) -> 202451.2
C15: C.I NORCARBON S.A.S | D15: 466 | E15: 20238 | F15: =D15*1.035 -> 482.31 | G15: =F15*1.035 -> 499.19085 | H15: =G15*1.035 -> 516.66253 | I15: =H15*1.035 -> 534.74572 | J15: =D15*(1-0.8) -> 93.2 | K15: =E15*1.035 -> 20946.33 | L15: =K15*1.035 -> 21679.452 | M15: =L15*1.035 -> 22438.232 | N15: =M15*1.035 -> 23223.57 | O15: =E15*(1-0.8) -> 4047.6
B16: TRAMO EL PASO | C16: DRUMMOND LTD. (Caño Paraluz,Piscina 1A, Vertimiento EH34)- POND 1A | D16: 85147 | E16: 567648 | F16: 59000 | G16: 57000 | H16: 55000 | I16: 53000 | J16: =D16*(1-0.8) -> 17029.4 | K16: 550000 | L16: 540000 | M16: 530000 | N16: 520000 | O16: =E16*(1-0.8) -> 113529.6
C17: DRUMMOND LTD. (Caño Garrapata, Piscina 04, Vertimiento EH16) | D17: 134533 | E17: 2863302 | F17: 130000 | G17: 128000 | H17: 126000 | I17: 124000 | J17: =D17*(1-0.8) -> 26906.6 | K17: 2700000 | L17: 2600000 | M17: 2500000 | N17: 2400000 | O17: =E17*(1-0.8) -> 572660.4
C18: DRUMMOND LTD. (Caño El Mocho, Piscina D01, Vertimiento EHD04) | D18: 108610 | E18: 490555 | F18: 100000 | G18: 100000 | H18: 100000 | I18: 100000 | J18: =D18*(1-0.8) -> 21722 | K18: 490000 | L18: 490000 | M18: 490000 | N18: 490000 | O18: =E18*(1-0.8) -> 98111
C19: DRUMMOND LTD. (Caño San Antonio, Piscina 06, Vertimiento EH39) | D19: 75686 | E19: 687485 | F19: 73000 | G19: 71000 | H19: 68000 | I19: 65000 | J19: =D19*(1-0.8) -> 15137.2 | K19: 670000 | L19: 660000 | M19: 650000 | N19: 640000 | O19: =E19*(1-0.8) -> 137497
C20: DRUMMOND LTD. (Caño San Antonio, Piscina 07, Vertimiento EH23) | D20: 176349 | E20: 2142644 | F20: 170000 | G20: 165000 | H20: 160000 | I20: 155000 | J20: =D20*(1-0.8) -> 35269.8 | K20: 1500000 | L20: 1475000 | M20: 1450000 | N20: 1425000 | O20: =E20*(1-0.8) -> 428528.8
C21: DRUMMOND LTD. (Caño El Zorro, Piscina D3, Vertimiento EHD10) | D21: 76065 | E21: 908975 | F21: 70000 | G21: 65000 | H21: 60000 | I21: 55000 | J21: =D21*(1-0.8) -> 15213 | K21: 850000 | L21: 825000 | M21: 800000 | N21: 775000 | O21: =E21*(1-0.8) -> 181795
C22: DRUMMOND LTD. (Caño Paujil, Piscina 05, Vertimiento EH27) | D22: 11542 | E22: 17506 | F22: 9500 | G22: 9300 | H22: 9100 | I22: 8900 | J22: =D22*(1-0.8) -> 2308.4 | K22: 17500 | L22: 17500 | M22: 17500 | N22: 17500 | O22: =E22*(1-0.8) -> 3501.2
C23: CNR III LTD SUCURSAL COLOMBIA - EL HATILLO | D23: 931 | E23: 4395 | F23: =D23*1.035 -> 963.585 | G23: =F23*1.035 -> 997.31047 | H23: =G23*1.035 -> 1032.2163 | I23: =H23*1.035 -> 1068.3439 | J23: =D23*(1-0.8) -> 186.2 | K23: =E23*1.035 -> 4548.825 | L23: =K23*1.035 -> 4708.0339 | M23: =L23*1.035 -> 4872.8151 | N23: =M23*1.035 -> 5043.3636 | O23: =E23*(1-0.8) -> 879
C24: C.I. COLOMBIA NATURAL RESOURCES I S.A.S - LA FRANCIA | D24: 3344 | E24: 12694 | F24: =D24*1.035 -> 3461.04 | G24: =F24*1.035 -> 3582.1764 | H24: =G24*1.035 -> 3707.5526 | I24: =H24*1.035 -> 3837.3169 | J24: =D24*(1-0.8) -> 668.8 | K24: =E24*1.035 -> 13138.29 | L24: =K24*1.035 -> 13598.13 | M24: =L24*1.035 -> 14074.065 | N24: =M24*1.035 -> 14566.657 | O24: =E24*(1-0.8) -> 2538.8
B25: Meta global del tamo Minero | D25: =SUM(D9:D24) -> 1092382 | E25: =SUM(E9:E24) -> 9713191 | J25: =SUM(J9:J24) -> 218476.4 | O25: =SUM(O8:O24) -> 1944656.2

Sheet T urbano
B2: Corporacion Autónoma Regional del Cesar - CORPOCESAR
B3: Programa de Tasas Retributivas por descargas líquidas puntuales
B4: MEMORIA TÉCNICA: Cuadro de metas de cargas contaminates individuales y globales de DBO5 y SST y compromisos para el quinquenio 2014 -2018
B5: Cuadro de metas para usuarios de los tramos genéricos urbanos
B6: Municipio/subtramo de referencia | C6: Usuario | D6: Linea base (kg/año) | F6: Metas de cargas anualizadas (kg/año) | P6: Puntos de vertimiento a eliminar
D7: DBO5 | E7: SST | F7: DBO5 | K7: SST | P7: 2014 | Q7: 2015 | R7: 2016 | S7: 2017 | T7: 2018
F8: 2014 | G8: 2015 | H8: 2016 | I8: 2017 | J8: 2018 | K8: 2014 | L8: 2015 | M8: 2016 | N8: 2017 | O8: 2018
B9: Valledupar - Guatapurí | C9: CABECERA MUNICIPAL VALLEDUPAR - GUATAPURÍ ( EMDUPAR S.A E.S.P - STAR EL TARULLAL) | D9: 802057 | E9: 786789 | F9: =D9*1.027 -> 823712.54 | G9: =F9*1.027 -> 845952.78 | H9: =G9*1.027 -> 868793.5 | I9: =H9*1.027 -> 892250.93 | J9: =I9*1.027*(1-0.1) -> 824707.53 | K9: =E9*1.027 -> 808032.3 | L9: =K9*1.027 -> 829849.18 | M9: =L9*1.027 -> 852255.1 | N9: =M9*1.027 -> 875265.99 | O9: =N9*1.027*(1-0.1) -> 809008.36 | P9: NI | Q9: NI | R9: NI | S9: NI | T9: NI
C10: PTAP EMDUPAR S.A E.S.P | D10: 16049 | E10: 335923 | F10: =D10*1.027 -> 16482.323 | G10: =F10*1.027 -> 16927.346 | H10: =G10*1.027 -> 17384.384 | I10: =H10*1.027 -> 17853.762 | J10: =I10*1.027*(1-0.6) -> 7334.3256 | K10: =E10*1.027 -> 344992.92 | L10: =K10*1.027 -> 354307.73 | M10: =L10*1.027 -> 363874.04 | N10: =M10*1.027 -> 373698.64 | O10: =N10*1.027*(1-0.6) -> 153515.4 | P10: NI | Q10: NI | R10: NI | S10: NI | T10: NI
C11: ALCALDIA MUNICIPAL DE VALLEDUPAR (Cabecera urbana - margen derecho del Rio Guatapurí) | D11: 31968 | E11: 31968 | F11: =D11*1.027 -> 32831.136 | G11: =F11*1.027 -> 33717.577 | H11: =G11*1.027 -> 34627.951 | I11: =H11*1.027 -> 35562.906 | J11: =I11*1.027*(1-0.8) -> 7304.6209 | K11: =E11*1.027 -> 32831.136 | L11: =K11*1.027 -> 33717.577 | M11: =L11*1.027 -> 34627.951 | N11: =M11*1.027 -> 35562.906 | O11: =N11*1.027*(1-0.8) -> 7304.6209 | P11: NI | Q11: NI | R11: NI | S11: NI | T11: NI
B12: Subtotal subtramo Valledupar Guatapurí | D12: =SUM(D9:D11) -> 850074 | E12: =SUM(E9:E11) -> 1154680 | J12: =SUM(J8:J11) -> 841364.48 | O12: =SUM(O9:O11) -> 969828.38
B13: TRAMO Valledupar - La Paz | C13: CABECERA MUNICIPAL VALLEDUPAR - CESAR (EMDUPAR S.A E.S.P - STAR EL SALGUERO) | D13: 886599 | E13: 1143121 | F13: =D13*1.027 -> 910537.17 | G13: =F13*1.027 -> 935121.68 | H13: =G13*1.027 -> 960369.96 | I13: =H13*1.027 -> 986299.95 | J13: =I13*1.027*(1-0.1) -> 911637.04 | K13: =E13*1.027 -> 1173985.3 | L13: =K13*1.027 -> 1205682.9 | M13: =L13*1.027 -> 1238236.3 | N13: =M13*1.027 -> 1271668.7 | O13: =N13*1.027*(1-0.1) -> 1175403.4 | P13: NI | Q13: NI | R13: NI | S13: NI | T13: NI
C14: CABECERA LA PAZ (EMPAZ E.S.P) | D14: 127296 | E14: 71576 | F14: 49438 | G14: 47761 | H14: 45907 | I14: 43866 | J14: 41619 | K14: 68048 | L14: 65142 | M14: 60398 | N14: 58102 | O14: 55090 | P14: 0 | Q14: 0 | R14: 0 | S14: 0 | T14: 0
C15: ALCALDIA MUNICIPAL DE VALLEDUPAR (Corregimiento Mariangola) | D15: 10643 | E15: 8855 | F15: =D15*1.027 -> 10930.361 | G15: =F15*1.027 -> 11225.481 | H15: =G15*1.027 -> 11528.569 | I15: =H15*1.027 -> 11839.84 | J15: =I15*1.027 -> 12159.516 | K15: =E15*1.027 -> 9094.085 | L15: =K15*1.027 -> 9339.6253 | M15: =L15*1.027 -> 9591.7952 | N15: =M15*1.027 -> 9850.7736 | O15: =N15*1.027 -> 10116.745 | P15: 0 | Q15: 0 | R15: 0 | S15: 0 | T15: 0
C16: ALCALDIA MUNICIPAL DE VALLEDUPAR (Corregimiento Aguas blancas) | D16: 10643 | E16: 8855 | F16: =D16*1.027 -> 10930.361 | G16: =F16*1.027 -> 11225.481 | H16: =G16*1.027 -> 11528.569 | I16: =H16*1.027 -> 11839.84 | J16: =I16*1.027 -> 12159.516 | K16: =E16*1.027 -> 9094.085 | L16: =K16*1.027 -> 9339.6253 | M16: =L16*1.027 -> 9591.7952 | N16: =M16*1.027 -> 9850.7736 | O16: =N16*1.027 -> 10116.745 | P16: 0 | Q16: 0 | R16: 0 | S16: 0 | T16: 0
C17: ALCALDIA MUNICIPAL DE VALLEDUPAR (Corregimiento Los Venados) | D17: 10643 | E17: 8855 | F17: =D17*1.027 -> 10930.361 | G17: =F17*1.027 -> 11225.481 | H17: =G17*1.027 -> 11528.569 | I17: =H17*1.027 -> 11839.84 | J17: =I17*1.027 -> 12159.516 | K17: =E17*1.027 -> 9094.085 | L17: =K17*1.027 -> 9339.6253 | M17: =L17*1.027 -> 9591.7952 | N17: =M17*1.027 -> 9850.7736 | O17: =N17*1.027 -> 10116.745 | P17: 0 | Q17: 0 | R17: 0 | S17: 0 | T17: 0
C18: ALCALDIA MUNICIPAL DE VALLEDUPAR (Corregimiento Valencia de Jesús) | D18: 10643 | E18: 8855 | F18: =D18*1.027 -> 10930.361 | G18: =F18*1.027 -> 11225.481 | H18: =G18*1.027 -> 11528.569 | I18: =H18*1.027 -> 11839.84 | J18: =I18*1.027 -> 12159.516 | K18: =E18*1.027 -> 9094.085 | L18: =K18*1.027 -> 9339.6253 | M18: =L18*1.027 -> 9591.7952 | N18: =M18*1.027 -> 9850.7736 | O18: =N18*1.027 -> 10116.745 | P18: 0 | Q18: 0 | R18: 0 | S18: 0 | T18: 0
C19: ALCALDIA MUNICIPAL DE VALLEDUPAR (Corregimiento Patillal) | D19: 4793 | E19: 2119 | F19: =D19*1.027 -> 4922.411 | G19: =F19*1.027 -> 5055.3161 | H19: =G19*1.027 -> 5191.8096 | I19: =H19*1.027 -> 5331.9885 | J19: =I19*1.027 -> 5475.9522 | K19: =E19*1.027 -> 2176.213 | L19: =K19*1.027 -> 2234.9708 | M19: =L19*1.027 -> 2295.315 | N19: =M19*1.027 -> 2357.2885 | O19: =N19*1.027 -> 2420.9353 | P19: 0 | Q19: 0 | R19: 0 | S19: 0 | T19: 0
C20: ALCALDIA MUNICIPAL DE VALLEDUPAR (Corregimiento Atanquez) | D20: 4793 | E20: 2119 | F20: =D20*1.027 -> 4922.411 | G20: =F20*1.027 -> 5055.3161 | H20: =G20*1.027 -> 5191.8096 | I20: =H20*1.027 -> 5331.9885 | J20: =I20*1.027 -> 5475.9522 | K20: =E20*1.027 -> 2176.213 | L20: =K20*1.027 -> 2234.9708 | M20: =L20*1.027 -> 2295.315 | N20: =M20*1.027 -> 2357.2885 | O20: =N20*1.027 -> 2420.9353 | P20: 0 | Q20: 0 | R20: 0 | S20: 0 | T20: 0
B21: Total subtramo Valledupar La Paz | D21: =SUM(D13:D20) -> 1066053 | E21: =SUM(E13:E20) -> 1182779 | J21: =SUM(J13:J20) -> 971227.01 | O21: =SUM(O13:O20) -> 1220712.2
B22: TRAMO SAN DIEGO | C22: CABECERA MUNICIPAL SAN DIEGO (EMPOSANDIEGO E.S.P) | D22: =753*345 -> 259785 | E22: =670*365 -> 244550 | F22: =D22*1.016 -> 263941.56 | G22: =F22*1.016 -> 268164.62 | H22: =G22*1.016 -> 272455.26 | I22: =H22*1.016 -> 276814.54 | J22: =I22*1.016*(1-0.2) -> 224994.86 | K22: =E22*1.016 -> 248462.8 | L22: =K22*1.016 -> 252438.2 | M22: =L22*1.016 -> 256477.22 | N22: =M22*1.016 -> 260580.85 | O22: =N22*1.016*(1-0.2) -> 211800.12 | P22: 0 | Q22: 0 | R22: 0 | S22: 0 | T22: 0
B23: TRAMO LA PAZ | C23: ALCALDIA MUNICIPAL DE LA PAZ (Corregimiento San José de Oriente) | D23: 127296 | E23: 71576 | F23: 49438 | G23: 47761 | H23: 45907 | I23: 43866 | J23: 41619 | K23: 68048 | L23: 65142 | M23: 60398 | N23: 58102 | O23: 55090 | P23: NI | Q23: NI | R23: NI | S23: NI | T23: NI
B24: TRAMO MANAURE | C24: CABECERA MUNICIPAL MANAURE (ESPUMA E.S.P) | D24: =52.8*365 -> 19272 | E24: =59.8*365 -> 21827 | F24: =D24*1.034 -> 19927.248 | G24: =F24*1.034 -> 20604.774 | H24: =G24*1.034 -> 21305.337 | I24: =H24*1.034 -> 22029.718 | J24: =I24*1.034*(1-0.2) -> 18222.983 | K24: =E24*1.034 -> 22569.118 | L24: =K24*1.034 -> 23336.468 | M24: =L24*1.034 -> 24129.908 | N24: =M24*1.034 -> 24950.325 | O24: =N24*1.034*(1-0.2) -> 20638.909 | P24: 0 | Q24: 0 | R24: 0 | S24: 0 | T24: 0
B25: TRAMO BECERRIL | C25: CABECERA MUNICIPAL BECERRIL (EMBECERRIL E.S.P) | D25: 7791 | E25: 21400 | F25: =D25*1.006 -> 7837.746 | G25: =F25*1.006 -> 7884.7725 | H25: =G25*1.006 -> 7932.0811 | I25: =H25*1.006 -> 7979.6736 | J25: =I25*1.006*(1-0.2) -> 6422.0413 | K25: =E25*1.034 -> 22127.6 | L25: =K25*1.034 -> 22879.938 | M25: =L25*1.034 -> 23657.856 | N25: =M25*1.034 -> 24462.223 | O25: =N25*1.034*(1-0.2) -> 20235.151 | P25: 0 | Q25: 0 | R25: 0 | S25: 0 | T25: 0
B26: TRAMO JAGUA DE IBIRICO - CAÑO LAVAR | C26: ALCALDIA MUNICIPAL DE LA JAGUA DE IBIRICO | D26: 18250 | E26: 120980 | F26: =D26*1.035 -> 18888.75 | G26: =F26*1.035 -> 19549.856 | H26: =G26*1.035 -> 20234.101 | I26: =H26*1.035 -> 20942.295 | J26: =I26*1.035*(1-0.1) -> 19507.748 | K26: =E26*1.034 -> 125093.32 | L26: =K26*1.034 -> 129346.49 | M26: =L26*1.034 -> 133744.27 | N26: =M26*1.034 -> 138291.58 | O26: =N26*1.034*(1-0.1) -> 128694.14 | P26: 0 | Q26: 0 | R26: 0 | S26: 0 | T26: 0
C27: ALCALDIA MUNICIPAL DE LA JAGUA DE IBIRICO (Corregimiento La Victoria de San Isidro) | D27: 43222 | E27: 226126 | F27: =D27*1.035 -> 44734.77 | G27: =F27*1.035 -> 46300.487 | H27: =G27*1.035 -> 47921.004 | I27: =H27*1.035 -> 49598.239 | J27: =I27*1.035 -> 51334.178 | K27: =E27*1.034 -> 233814.28 | L27: =K27*1.034 -> 241763.97 | M27: =L27*1.034 -> 249983.94 | N27: =M27*1.034 -> 258483.4 | O27: =N27*1.034*(1-0.1) -> 240544.65 | P27: 0 | Q27: 0 | R27: 0 | S27: 0 | T27: 0
C28: ALCALDIA MUNICIPAL DE LA JAGUA DE IBIRICO (Corregimiento La Palmita) | D28: 4188 | E28: 5049 | F28: =D28*1.035 -> 4334.58 | G28: =F28*1.035 -> 4486.2903 | H28: =G28*1.035 -> 4643.3105 | I28: =H28*1.035 -> 4805.8263 | J28: =I28*1.035 -> 4974.0302 | K28: =E28*1.034 -> 5220.666 | L28: =K28*1.034 -> 5398.1686 | M28: =L28*1.034 -> 5581.7064 | N28: =M28*1.034 -> 5771.4844 | O28: =N28*1.034 -> 5967.7149 | P28: 0 | Q28: 0 | R28: 0 | S28: 0 | T28: 0
C29: ALCALDIA MUNICIPAL LA JAGUA DE IBIRICO (Corregimiento Boquerón) | D29: 288 | E29: 1234 | F29: =D29*1.035 -> 298.08 | G29: =F29*1.035 -> 308.5128 | H29: =G29*1.035 -> 319.31075 | I29: =H29*1.035 -> 330.48662 | J29: =I29*1.035 -> 342.05366 | K29: =E29*1.034 -> 1275.956 | L29: =K29*1.034 -> 1319.3385 | M29: =L29*1.034 -> 1364.196 | N29: =M29*1.034 -> 1410.5787 | O29: =N29*1.034 -> 1458.5384 | P29: 0 | Q29: 0 | R29: 0 | S29: 0 | T29: 0
C30: IBIRICO (Corregimiento Boquerón) | D30: =347*365 -> 126655 | E30: =265*365 -> 96725 | F30: =D30*1.02 -> 129188.1 | G30: =F30*1.02035 -> 131817.08 | H30: =G30*1.02035 -> 134499.56 | I30: =H30*1.02035 -> 137236.62 | J30: =I30*1.02035*(1-0.8) -> 28005.877 | K30: =E30*1.02 -> 98659.5 | L30: =K30*1.02 -> 100632.69 | M30: =L30*1.02 -> 102645.34 | N30: =M30*1.02 -> 104698.25 | O30: =N30*1.02*(1-0.8) -> 21358.443 | P30: 0 | Q30: 0 | R30: 0 | S30: 0 | T30: 0
B31: Total tramo La Jagua de Ibirico | D31: =SUM(D26:D30) -> 192603 | E31: =SUM(E26:E30) -> 450114 | J31: =SUM(J26:J30) -> 104163.89 | O31: =SUM(O26:O30) -> 398023.49
B32: TRAMO CURUMANI - CAÑO SAN IGNACIO | C32: ALCALDIA MUNICIPAL DE CURUMANI (Corregimiento San Roque) | D32: 10643 | E32: 8855 | F32: =D32*1.02 -> 10855.86 | G32: =F32*1.02035 -> 11076.777 | H32: =G32*1.02035 -> 11302.189 | I32: =H32*1.02035 -> 11532.189 | J32: =I32*1.02035 -> 11766.869 | K32: =E32*1.02 -> 9032.1 | L32: =K32*1.02 -> 9212.742 | M32: =L32*1.02 -> 9396.9968 | N32: =M32*1.02 -> 9584.9368 | O32: =N32*1.02 -> 9776.6355 | P32: 0 | Q32: 0 | R32: 0 | S32: 0 | T32: 0
B33: TRAMO CHIRIGUANÁ | C33: ALCALDIA MUNICIPAL DE CHIRIGUANÁ | D33: =134.4*365 -> 49056 | E33: =148.2*365 -> 54093 | F33: =D33*1.02 -> 50037.12 | G33: =F33*1.02035 -> 51055.375 | H33: =G33*1.02035 -> 52094.352 | I33: =H33*1.02035 -> 53154.472 | J33: =I33*1.02035*(1-0.8) -> 10847.233 | K33: =E33*1.02 -> 55174.86 | L33: =K33*1.02 -> 56278.357 | M33: =L33*1.02 -> 57403.924 | N33: =M33*1.02 -> 58552.003 | O33: =N33*1.02*(1-0.8) -> 11944.609 | P33: 0 | Q33: 0 | R33: 0 | S33: 0 | T33: 0
C34: ALCALDIA MUNICIPAL DE CHIRIGUANÁ (Corregimiento Rincón Hondo) | D34: 1180 | E34: 1608 | F34: =D34*1.02 -> 1203.6 | G34: =F34*1.02035 -> 1228.0933 | H34: =G34*1.02035 -> 1253.085 | I34: =H34*1.02035 -> 1278.5852 | J34: =I34*1.02 -> 1304.1569 | K34: =E34*1.02 -> 1640.16 | L34: =K34*1.02 -> 1672.9632 | M34: =L34*1.02 -> 1706.4225 | N34: =M34*1.02 -> 1740.5509 | O34: =N34*1.02 -> 1775.3619 | P34: 0 | Q34: 0 | R34: 0 | S34: 0 | T34: 0
B35: Total tramo Chiriguaná | D35: =SUM(D32:D34) -> 60879 | E35: =SUM(E32:E34) -> 64556 | J35: =SUM(J32:J34) -> 23918.259 | O35: =SUM(O32:O34) -> 23496.606
B36: TRAMO ASTREA | C36: ALCALDIA MUNICIPAL DE ASTREA | D36: =249.6*365 -> 91104 | E36: =471.7*365 -> 172170.5 | F36: =D36*1.012 -> 92197.248 | G36: =D36*1.012 -> 92197.248 | H36: =G36*1.012 -> 93303.615 | I36: =H36*1.012 -> 94423.258 | J36: =I36*1.012*(1-0.85) -> 14333.451 | K36: =E36*1.012 -> 174236.55 | L36: =K36*1.02 -> 177721.28 | M36: =L36*1.02 -> 181275.7 | N36: =M36*1.02 -> 184901.22 | O36: =N36*1.02 -> 188599.24 | P36: 0 | Q36: 0 | R36: 0 | S36: 0 | T36: 0
C37: ALCALDIA MUNICIPAL DE ASTREA (Corregimiento Arjona) | D37: =56.2*365 -> 20513 | E37: =92.7*365 -> 33835.5 | F37: =D37*1.012 -> 20759.156 | G37: =D37*1.012 -> 20759.156 | H37: =G37*1.012 -> 21008.266 | I37: =H37*1.012 -> 21260.365 | J37: =I37*1.012*(1-0.05) -> 20439.715 | K37: =E37*1.012 -> 34241.526 | L37: =K37*1.012 -> 34652.424 | M37: =L37*1.012 -> 35068.253 | N37: =M37*1.012 -> 35489.072 | O37: =N37*1.012*(1-0.05) -> 34119.194 | P37: 0 | Q37: 0 | R37: 0 | S37: 0 | T37: 0
B38: Total tramo ASTREA | D38: =SUM(D36:D37) -> 111617 | E38: =SUM(E36:E37) -> 206006 | J38: =SUM(J36:J37) -> 34773.166 | O38: =SUM(O36:O37) -> 222718.44
B39: TRAMO EL PASO | C39: CABECERA MUNICIPAL EL PASO (EMPASO E.S.P) | D39: =244.8*365 -> 89352 | E39: =324.4*365 -> 118406 | F39: =D39*1.035 -> 92479.32 | G39: =F39*1.035 -> 95716.096 | H39: =G39*1.035 -> 99066.16 | I39: =H39*1.035 -> 102533.48 | J39: =I39*1.035*(1-0.8) -> 21224.429 | K39: =E39*1.035 -> 122550.21 | L39: =K39*1.035 -> 126839.47 | M39: =L39*1.035 -> 131278.85 | N39: =M39*1.035 -> 135873.61 | O39: =N39*1.035*(1-0.8) -> 28125.837 | P39: 0 | Q39: 0 | R39: 0 | S39: 0 | T39: 0
C40: ALCALDÍA MUNICIPAL DE EL PASO (Corregimiento Cuatro Vientos) | D40: 861 | E40: 2016 | F40: =D40*1.035 -> 891.135 | G40: =F40*1.035 -> 922.32472 | H40: =G40*1.035 -> 954.60609 | I40: =H40*1.035 -> 988.0173 | J40: =I40*1.035 -> 1022.5979 | K40: =E40*1.035 -> 2086.56 | L40: =K40*1.035 -> 2159.5896 | M40: =L40*1.035 -> 2235.1752 | N40: =M40*1.035 -> 2313.4064 | O40: =N40*1.035 -> 2394.3756 | P40: 0 | Q40: 0 | R40: 0 | S40: 0 | T40: 0
C41: ALCALDÍA MUNICIPAL DE EL PASO (Corregimiento La Loma de Calenturas - STAR 1) | D41: 28013 | E41: 42020 | F41: =D41*1.035 -> 28993.455 | G41: =F41*1.035 -> 30008.226 | H41: =G41*1.035 -> 31058.514 | I41: =H41*1.035 -> 32145.562 | J41: =I41*1.035 -> 33270.656 | K41: =E41*1.035 -> 43490.7 | L41: =K41*1.035 -> 45012.874 | M41: =L41*1.035 -> 46588.325 | N41: =M41*1.035 -> 48218.916 | O41: =N41*1.035 -> 49906.579 | P41: 0 | Q41: 0 | R41: 0 | S41: 0 | T41: 0
...

Sheet Hoja3
