Workbook

Sheet Intructivo
B2: Matriz Mapa de Riesgos
B4: Teniendo en cuenta que con la expedición del Decreto 1499 de 2017 “Por medio del cual se modifica el Decreto 1083 de 2015, Decreto Único Reglamentario del Sector Función Pública, en lo relacionado con el Sistema de Gestión establecido en el artículo 133 de la Ley 1753 de 2015”, se crea un solo Sistema de Gestión y se alinea con el Sistema de Control Interno, hoy todas las entidades públicas requieren actualizar y/o implementar el Modelo Integrado de Planeación y Gestión MIPG, modelo que incorpora el Modelo Estándar de Control Interno MECI a través de la 7a dimensión del mismo. En este marco general, el proceso de administración del riesgo es un esfuerzo conjunto entre la Alta Dirección y los servidores en todos sus niveles, ejercicio que inicia con la formulación de la política de Administración del Riesgo, la cual incluye los niveles de responsabilidad frente al seguimiento y evaluación, aspectos que deberán definirse acorde con el Esquema de Líneas de Defensa vinculado a la Dimensión 7. Teniendo en cuenta lo anterior y dada la necesidad de las entidades frente a la estructuración de los mapas de riesgos, como herramienta fundamental frente a la gestión del riesgo, el presente formato desarrolla un esquema completo acorde con los contenidos metodológicos de la Guía para la Administración del Riesgo y el diseño de controles V5. El formato cuenta con celdas parametrizadas y permite contar con los respectivos mapas de calor para riesgo inherente y riesgo residual.
B6: Orientaciones Generales
B7: Antes de iniciar con el diligenciamiento de la información en la matriz, se requiere haber avanzado en el análisis del proceso, su objetivo, alcance, actividades clave, considere los lineamientos establecidos en el Paso 2: identificación del riesgo, donde se explica ampliamente las bases para adelanter este análisis. Así mismo, considere en el Paso 3: valoración del riesgo los lineamientos para definir el No. de veces que se hace la actividad con la cual se relaciona el riesgo y su impacto en términos económicos o reputacionales. En este mismo paso se analizan los controles que deben responder a los atributos de eficiencia e informativos. NOTA: Si lo considera pertinente, es posible agregar hojas de trabajo adicionales al presente formato que permitan incluir la traza de estos análisis.
B9: El archivo contiene las siguientes hojas: - Hoja 1 Instructivo - Hoja 2 Mapa Final: Encontrará la totalidad de la estructura para la identificación y valoración de los riesgos por proceso, programa o proyecto, acorde con el nivel de desagregación que la entidad considere necesaria.
C12: Columna | E12: Descripción - Lineamientos para el diligenciamiento
C13: Proceso | E13: Diligencie el nombre del proceso al cual se le identificarán y valorarán los riesgos.
C14: Objetivo | E14: Diligencie el objetivo del proceso.
C15: Alcance | E15: Diligencie el alcance del proceso.
C16: Referencia | E16: Permite definir unl consecutivo de riesgos. Una entidad puede ir en el riesgo 150, pero tener 70 riesgos, lo que permite llevar una traza de los riesgos. Esta información la debe administrar la oficina asesora de planeación o gerencia de riesgos. Cuando un el riesgo salga del mapa no existirá otro riesgo con el mismo número.
C17: Impacto | E17: Analice las consecuencias que puede ocasionar a la organización la materialización del riesgo, redacte de la forma más concreta posible.
C18: Causa Inmediata | E18: Circunstancias bajo las cuales se presenta el riesgo, es la situación más evidente frente al riesgo, redacte de la forma más concreta posible.
C19: Causa Raíz | E19: Causa principal o básica, corresponde a las razones por la cuales se puede presentar el riesgo, redacte de la forma más concreta posible.
C20: Descripción del Riesgo | E20: Consolida o resume los análisis sobre impacto + causa inmediata + causa raíz, permitiendo contar con una redacción clara y concreta del riesgo indentificado. Tenga en cuenta la estructura de alto nivel establecida en al guía, inicia con POSIBILIDAD DE + Impacto para la entidad (Qué) + Causa Inmediata (Cómo) + Causa Raíz (Por qué)
C21: Clasificación del Riesgo | E21: Utilice la lista de despligue que se encuentra parametrizada, le aparecerán las opciones: i)Daños Activos Fisicos, ii)Ejecucion y Administracion de procesos, iii)Fallas Tecnologicas, iv)Fraude Externo, v)Fraude Interno, vi)Relaciones Laborales, vii)Usuarios, productos y practicas organizacionales.
C22: Frecuencia con la cual se lleva a cabo la actividad | E22: Defina el # de veces que se ejecuta la actividad durante el año, (Recuerde la probabilidad e ocurrencia del riesgo se defien como el No. de veces que se pasa por el punto de riesgo en el periodo de 1 año). La matriz automáticamente hará el cálculo para el nivel de probabilidad inherente (Columnas H-I)
C23: Criterios de Impacto | E23: Utilice la lista de despligue que se encuentra parametrizada, le aparecerán las opciones de la tabla de Impacto en la Hoja 6 del presente documento. La matriz automáticamente hará el cálculo para el nivel de impacto inherente (Columnas L-M)
... C37: Estado | E37: Utilice la lista de despligue que se encuentra parametrizada, le aparecerán las opciones: i)Finalizado, ii)En curso, la selección en este caso dependerá de las acciones del plan que se hayan establecido en cada caso.
B40: - Hoja 3 Matriz de Calor Inherente: En esta hoja, en la medida en que ese diligencia el Mapa Final, se verán reflejados los riesgos en su zona correspondiente. Esta hoja no se diligencia se genera de manera automática.
B41: - Hoja 4 Matriz de Calor Residual: En esta hoja, en la medida en que ese diligencia el Mapa Final, se verán reflejados los riesgos en su zona correspondiente. Esta hoja no se diligencia se genera de manera automática.
B42: - Hoja 5 Tabla de probabilidad: Tabla referente para todos los cálculos (no se diligencia)
B43: - Hoja 6 Tabla de Impacto: Tabla referente para todos los cálculos (no se diligencia)
B44: - Hoja 7 Tabla de Valoración de Controles: Tabla referente para todos los cálculos (no se diligencia)

Sheet Mapa final
F1: SISTEMA INTEGRADO DE GESTIÓN PLANEACIÓN ESTRATEGICA MAPA DE RIESGOS Y OPORTUNIDADES POR PROCESOS | M1: CODIGO: PCE-01-F-02
M2: versión: 4.0
M3: FECHA: 27/12/2024
M4: Fecha Actualización: 22/04/2025
A5: Proceso: | D5: Gestión del Talento Humano
A6: Objetivo: | D6: Gestionar, administrar, provisionar el talento humano y generar actividades que satisfagan el nivel de competencias del personal de la Corporación
A7: Alcance: | D7: Inicia con los planes de Talento Humano, ejecución, provision, desarrollo y retiro del talento humano de CORPOCESAR.
A8: Identificación del Riesgo y/o Oportunidad (es) | K8: Análisis del riesgo inherente | R8: Análisis de Oportunidades | X8: Evaluación del riesgo - Valoración de los controles | AG8: Evaluación del riesgo - Nivel del riesgo residual | AN8: Análisis de Oportunidades con Tratamiento | AT8: Plan de Acción
A9: Referencia | C9: Impacto | E9: Causa | F9: Riesgo | G9: Descripción del Riesgo | I9: Clasificación del Riesgo | J9: Frecuencia con la cual se realiza la actividad | K9: Probabilidad Inherente | L9: % | M9: Criterios de impacto | N9: Observación de criterio | O9: Impacto Inherente | P9: % | Q9: Zona de Riesgo Inherente | R9: Calificación | V9: Evaluación | X9: No. Control | Y9: Descripción del Control para Riesgo/Oportunidad | Z9: Afectación | AA9: Atributos | AG9: Probabilidad Residual | AH9: Probabilidad Residual Final | AI9: % | AJ9: Impacto Residual Final | AK9: % | AL9: Zona de Riesgo Final | AM9: Tratamiento | AN9: Calificación | AR9: Evaluación | AT9: Plan de Acción | AU9: Responsable | AV9: Fecha Implementación | AW9: Fecha Seguimiento | AX9: Seguimiento | AY9: Estado
B10: objetivo estragtegico | D10: Contexto Estrategico Interno-Externo-Proceso | H10: Oportunidad (es) | R10: Probabilidad | T10: Impacto | V10: Nivel de la Oportunidad | W10: Zona de Oportunidad | AA10: Tipo | AB10: Implementación | AC10: Calificación | AD10: Documentación | AE10: Frecuencia | AF10: Evidencia | AN10: Probabilidad | AP10: Impacto | AR10: Nivel de la oportunidad | AS10: Zona de la Oportunidad con Tratamiento
A11: 1 | B11: Garantizar la competencia del talento humano, a través del fortalecimiento de los perfiles profesionales de los funcionarios y demás servidores de la corporación. | C11: Económico y Reputacional | D11: Personal | E11: 1. Bajo sentido de pertenencia. 2. Resistencia al cambio. 3. Comunicación deficiente con las dependencias. 4. Insuficiente personal de planta. 5. Deficiencia en la ejecución de planes y programas. | F11: No se ejecutan las actividades programadas en los planes de talento humano establecidas en la entidad | G11: Probabilidad de afectación económica y reputacional por el incumplimiento en la ejecución de los Planes de Talento Humano, debido a falta de oferta institucional y recursos presupuestales. | H11: Mejoramiento del clima laboral, aumento de la productividad y bienestar de los funcionarios y contratistas a causa del cumplimiento plan de bienestar institucional. | I11: Ejecucion y Administracion de procesos | J11: 50 | K11: =IF(J11<=0,"",IF(J11<=2,"Muy Baja",IF(J11<=24,"Baja",IF(J11<=500,"Media",IF(J11<=5000,"Alta","Muy Alta"))))) -> Media | L11: =IF(K11="","",IF(K11="Muy Baja",0.2,IF(K11="Baja",0.4,IF(K11="Media",0.6,IF(K11="Alta",0.8,IF(K11="Muy Alta",1,)))))) -> 0.6 | M11: El riesgo afecta la imagen de la entidad con algunos usuarios de relevancia frente al logro de los objetivos | N11: =IF(NOT(ISERROR(MATCH(M11,'Tabla Impacto'!$B$221:$B$223,0))),'Tabla Impacto'!$F$223&"Por favor no seleccionar los criterios de impacto(Afectación Económica o presupuestal y Pérdida Reputacional)",M11) -> El riesgo afecta la imagen de la entidad con algunos usuarios de relevancia frente al logro de los objetivos | O11: =IF(OR(N11='Tabla Impacto'!$C$11,N11='Tabla Impacto'!$D$11),"Leve",IF(OR(N11='Tabla Impacto'!$C$12,N11='Tabla Impacto'!$D$12),"Menor",IF(OR(N11='Tabla Impacto'!$C$13,N11='Tabla Impacto'!$D$13),"Moderado",IF(OR(N11='Tabla Impacto'!$C$14,N11='Tabla Impacto'!$D$14),"Mayor",IF(OR(N11='Tabla Impacto'!$C$15,N11='Tabla Impacto'!$D$15),"Catastrófico",""))))) -> Moderado | P11: =IF(O11="","",IF(O11="Leve",0.2,IF(O11="Menor",0.4,IF(O11="Moderado",0.6,IF(O11="Mayor",0.8,IF(O11="Catastrófico",1,)))))) -> 0.6 | Q11: =IF(OR(AND(K11="Muy Baja",O11="Leve"),AND(K11="Muy Baja",O11="Menor"),AND(K11="Baja",O11="Leve")),"Bajo",IF(OR(AND(K11="Muy baja",O11="Moderado"),AND(K11="Baja",O11="Menor"),AND(K11="Baja",O11="Moderado"),AND(K11="Media",O11="Leve"),AND(K11="Media",O11="Menor"),AND(K11="Media",O11="Moderado"),AND(K11="Alta",O11="Leve"),AND(K11="Alta",O11="Menor")),"Moderado",IF(OR(AND(K11="Muy Baja",O11="Mayor"),AND(K11="Baja",O11="Mayor"),AND(K11="Media",O11="Mayor"),AND(K11="Alta",O11="Moderado"),AND(K11="Alta",O11="Mayor"),AND(K11="Muy Alta",O11="Leve"),AND(K11="Muy Alta",O11="Menor"),AND(K11="Muy Alta",O11="Moderado"),AND(K11="Muy Alta",O11="Mayor")),"Alto",IF(OR(AND(K11="Muy Baja",O11="Catastrófico"),AND(K11="Baja",O11="Catastrófico"),AND(K11="Media",O11="Catastrófico"),AND(K11="Alta",O11="Catastrófico"),AND(K11="Muy Alta",O11="Catastrófico")),"Extremo","")))) -> Moderado | R11: 3 | S11: =+IF(R11=5,"CASI SEGURO",(IF(R11=4,"PROBABLE",(IF(R11=3,"POSIBLE",(IF(R11=2,"RARA VEZ",(IF(R11=1,"IMPROBABLE",""))))))))) -> POSIBLE | T11: 5 | U11: =+IF(T11=5,"ALTO",(IF(T11=3,"MEDIO",(IF(T11=1,"BAJO",IF(OR(T11=2,T11=4),"NO APLICA","")))))) -> ALTO | V11: =IF(AND(R11<>"",T11<>"",U11<>"NO APLICA"),R11*T11,"") -> 15 | W11: =IF(AND(V11<4,V11>0),"BAJA",IF(AND(V11>9,V11<26),"ALTA",IF(AND(V11>3,V11<10),"MEDIA",""))) -> ALTA | X11: 1 | Y11: Seguimiento semestral al cumplimiento del cronograma de ejecución de las actividades programadas en los diferentes planes de talento humano. | Z11: =IF(OR(AA11="Preventivo",AA11="Detectivo"),"Probabilidad",IF(AA11="Correctivo","Impacto","")) -> Probabilidad | AA11: Preventivo | AB11: Manual | AC11: =IF(AND(AA11="Preventivo",AB11="Automático"),"50%",IF(AND(AA11="Preventivo",AB11="Manual"),"40%",IF(AND(AA11="Detectivo",AB11="Automático"),"40%",IF(AND(AA11="Detectivo",AB11="Manual"),"30%",IF(AND(AA11="Correctivo",AB11="Automático"),"35%",IF(AND(AA11="Correctivo",AB11="Manual"),"25%","")))))) -> 40% | AD11: Documentado | AE11: Continua | AF11: Con Registro | AG11: =IFERROR(IF(Z11="Probabilidad",(L11-(+L11*AC11)),IF(Z11="Impacto",L11,"")),"") -> 0.36 | AH11: =IFERROR(IF(AG11="","",IF(AG11<=0.2,"Muy Baja",IF(AG11<=0.4,"Baja",IF(AG11<=0.6,"Media",IF(AG11<=0.8,"Alta","Muy Alta"))))),"") -> Baja | AI11: =+AG11 -> 0.36 | AJ11: =IFERROR(IF(AK11="","",IF(AK11<=0.2,"Leve",IF(AK11<=0.4,"Menor",IF(AK11<=0.6,"Moderado",IF(AK11<=0.8,"Mayor","Catastrófico"))))),"") -> Moderado | AK11: =IFERROR(IF(Z11="Impacto",(P11-(+P11*AC11)),IF(Z11="Probabilidad",P11,"")),"") -> 0.6 | AL11: =IFERROR(IF(OR(AND(AH11="Muy Baja",AJ11="Leve"),AND(AH11="Muy Baja",AJ11="Menor"),AND(AH11="Baja",AJ11="Leve")),"Bajo",IF(OR(AND(AH11="Muy baja",AJ11="Moderado"),AND(AH11="Baja",AJ11="Menor"),AND(AH11="Baja",AJ11="Moderado"),AND(AH11="Media",AJ11="Leve"),AND(AH11="Media",AJ11="Menor"),AND(AH11="Media",AJ11="Moderado"),AND(AH11="Alta",AJ11="Leve"),AND(AH11="Alta",AJ11="Menor")),"Moderado",IF(OR(AND(AH11="Muy Baja",AJ11="Mayor"),AND(AH11="Baja",AJ11="Mayor"),AND(AH11="Media",AJ11="Mayor"),AND(AH11="Alta",AJ11="Moderado"),AND(AH11="Alta",AJ11="Mayor"),AND(AH11="Muy Alta",AJ11="Leve"),AND(AH11="Muy Alta",AJ11="Menor"),AND(AH11="Muy Alta",AJ11="Moderado"),AND(AH11="Muy Alta",AJ11="Mayor")),"Alto",IF(OR(AND(AH11="Muy Baja",AJ11="Catastrófico"),AND(AH11="Baja",AJ11="Catastrófico"),AND(AH11="Media",AJ11="Catastrófico"),AND(AH11="Alta",AJ11="Catastrófico"),AND(AH11="Muy Alta",AJ11="Catastrófico")),"Extremo","")))),"") -> Moderado | AM11: Reducir (mitigar) | AN11: 4 | AO11: =+IF(AN11=5,"CASI SEGURO",(IF(AN11=4,"PROBABLE",(IF(AN11=3,"POSIBLE",(IF(AN11=2,"RARA VEZ",(IF(AN11=1,"IMPROBABLE",""))))))))) -> PROBABLE | AP11: 5 | AQ11: =+IF(AP11=5,"ALTO",(IF(AP11=3,"MEDIO",(IF(AP11=1,"BAJO",IF(OR(AP11=2,AP11=4),"NO APLICA","")))))) -> ALTO | AR11: =IF(AND(AN11<>"",AP11<>"",AQ11<>"NO APLICA"),AN11*AP11,"") -> 20 | AS11: =IF(AND(AR11<4,AR11>0),"BAJA",IF(AND(AR11>9,AR11<26),"ALTA",IF(AND(AR11>3,AR11<10),"MEDIA",""))) -> ALTA | AT11: Solicitar a los responsables de los diferentes planes de talento humano, realizar e informar al área de talento humano los ajustes que sean necesarios de manera oportuna | AU11: Subdirectora Administrativa y Financiera Coordinación GIT de talento humano | AV11: Semestral | AW11: Semestral | AX11: En total a corte 31 de diciembre de 2025, para el plan institucional de capacitación quedaron aprobados 52 temáticas, de las cuales se ejecutaron a 30 de diciembre cuarenta (43) para un total de ejecución del plan del 82%. | AY11: Finalizada
H12: Profesionales competentes (formación, integridad y experiencia) para la ejecuciòn de las actividades de la Corporación | N12: =IF(NOT(ISERROR(MATCH(M12,_xlfn.ANCHORARRAY(G15),0))),#REF!&"Por favor no seleccionar los criterios de impacto",M12) -> 0 | R12: 3 | S12: =+IF(R12=5,"CASI SEGURO",(IF(R12=4,"PROBABLE",(IF(R12=3,"POSIBLE",(IF(R12=2,"RARA VEZ",(IF(R12=1,"IMPROBABLE",""))))))))) -> POSIBLE | T12: 5 | U12: =+IF(T12=5,"ALTO",(IF(T12=3,"MEDIO",(IF(T12=1,"BAJO",IF(OR(T12=2,T12=4),"NO APLICA","")))))) -> ALTO | V12: =IF(AND(R12<>"",T12<>"",U12<>"NO APLICA"),R12*T12,"") -> 15 | W12: =IF(AND(V12<4,V12>0),"BAJA",IF(AND(V12>9,V12<26),"ALTA",IF(AND(V12>3,V12<10),"MEDIA",""))) -> ALTA | X12: 2 | Y12: Realización de Jornada de Inducción y reinducción Indicadores de desempeño del talento humano | Z12: =IF(OR(AA12="Preventivo",AA12="Detectivo"),"Probabilidad",IF(AA12="Correctivo","Impacto","")) | AC12: =IF(AND(AA12="Preventivo",AB12="Automático"),"50%",IF(AND(AA12="Preventivo",AB12="Manual"),"40%",IF(AND(AA12="Detectivo",AB12="Automático"),"40%",IF(AND(AA12="Detectivo",AB12="Manual"),"30%",IF(AND(AA12="Correctivo",AB12="Automático"),"35%",IF(AND(AA12="Correctivo",AB12="Manual"),"25%","")))))) | AG12: =IFERROR(IF(AND(Z11="Probabilidad",Z12="Probabilidad"),(AI11-(+AI11*AC12)),IF(Z12="Probabilidad",(R11-(+R11*AC12)),IF(Z12="Impacto",AI11,""))),"") | AH12: =IFERROR(IF(AG12="","",IF(AG12<=0.2,"Muy Baja",IF(AG12<=0.4,"Baja",IF(AG12<=0.6,"Media",IF(AG12<=0.8,"Alta","Muy Alta"))))),"") | AI12: =+AG12 | AJ12: =IFERROR(IF(AK12="","",IF(AK12<=0.2,"Leve",IF(AK12<=0.4,"Menor",IF(AK12<=0.6,"Moderado",IF(AK12<=0.8,"Mayor","Catastrófico"))))),"") | AK12: =IFERROR(IF(AND(Z11="Impacto",Z12="Impacto"),(AK11-(+AK11*AC12)),IF(Z12="Impacto",(V11-(+V11*AC12)),IF(Z12="Probabilidad",AK11,""))),"") | AL12: =IFERROR(IF(OR(AND(AH12="Muy Baja",AJ12="Leve"),AND(AH12="Muy Baja",AJ12="Menor"),AND(AH12="Baja",AJ12="Leve")),"Bajo",IF(OR(AND(AH12="Muy baja",AJ12="Moderado"),AND(AH12="Baja",AJ12="Menor"),AND(AH12="Baja",AJ12="Moderado"),AND(AH12="Media",AJ12="Leve"),AND(AH12="Media",AJ12="Menor"),AND(AH12="Media",AJ12="Moderado"),AND(AH12="Alta",AJ12="Leve"),AND(AH12="Alta",AJ12="Menor")),"Moderado",IF(OR(AND(AH12="Muy Baja",AJ12="Mayor"),AND(AH12="Baja",AJ12="Mayor"),AND(AH12="Media",AJ12="Mayor"),AND(AH12="Alta",AJ12="Moderado"),AND(AH12="Alta",AJ12="Mayor"),AND(AH12="Muy Alta",AJ12="Leve"),AND(AH12="Muy Alta",AJ12="Menor"),AND(AH12="Muy Alta",AJ12="Moderado"),AND(AH12="Muy Alta",AJ12="Mayor")),"Alto",IF(OR(AND(AH12="Muy Baja",AJ12="Catastrófico"),AND(AH12="Baja",AJ12="Catastrófico"),AND(AH12="Media",AJ12="Catastrófico"),AND(AH12="Alta",AJ12="Catastrófico"),AND(AH12="Muy Alta",AJ12="Catastrófico")),"Extremo","")))),"") | AN12: 4 | AO12: =+IF(AN12=5,"CASI SEGURO",(IF(AN12=4,"PROBABLE",(IF(AN12=3,"POSIBLE",(IF(AN12=2,"RARA VEZ",(IF(AN12=1,"IMPROBABLE",""))))))))) -> PROBABLE | AP12: 5 | AQ12: =+IF(AP12=5,"ALTO",(IF(AP12=3,"MEDIO",(IF(AP12=1,"BAJO",IF(OR(AP12=2,AP12=4),"NO APLICA","")))))) -> ALTO | AR12: =IF(AND(AN12<>"",AP12<>"",AQ12<>"NO APLICA"),AN12*AP12,"") -> 20 | AS12: =IF(AND(AR12<4,AR12>0),"BAJA",IF(AND(AR12>9,AR12<26),"ALTA",IF(AND(AR12>3,AR12<10),"MEDIA",""))) -> ALTA | AT12: Seguimiento a la oferta institucional Ejecución Jornada de Inducción y Reinducción | AU12: Subdirectora Administrativa y Financiera Coordinación GIT de talento humano | AV12: 45745 | AW12: Anual | AX12: Se concedió estimulos educativos a los funcionarios de planta que adelantaron estudios de pregrado, postgrado y técnico, para el fortalecimiento del talento humano de la entidad, a través del Comité de Gestión y Desempeño. Soporte: https://www.corpocesar.gov.co/files/2025/10/otros/Acta_Comite_Institucional_de_Gestion_y_Desempe%C3%B1o__09_Sep_2025.pdf Con relacion a la jornada de induccion Y reinducion mediante oficio interno DG-1000-039 del 11 de marzo del 2025, Se Invito al servidores de planta y contratistas a La Jornada de Inducción y Reinducción que se llevó a cabo los días 29 y 31 de marzo de 2025. | AY12: Finalizada
A13: 2 | C13: Económico y Reputacional | D13: Personal | E13: Deficiente seguridad de información. | F13: Extravio de información como hojas de vidas e historias laborales. | G13: Probabilidad de pérdida de la informacion reposada en el área talento humano, cuando se extravia información como hojas de vidas e historias laborales. | I13: Ejecucion y Administracion de procesos | J13: 80 | K13: =IF(J13<=0,"",IF(J13<=2,"Muy Baja",IF(J13<=24,"Baja",IF(J13<=500,"Media",IF(J13<=5000,"Alta","Muy Alta"))))) -> Media | L13: =IF(K13="","",IF(K13="Muy Baja",0.2,IF(K13="Baja",0.4,IF(K13="Media",0.6,IF(K13="Alta",0.8,IF(K13="Muy Alta",1,)))))) -> 0.6 | M13: El riesgo afecta la imagen de la entidad internamente, de conocimiento general, nivel interno, de junta dircetiva y accionistas y/o de provedores | N13: =IF(NOT(ISERROR(MATCH(M13,'Tabla Impacto'!$B$221:$B$223,0))),'Tabla Impacto'!$F$223&"Por favor no seleccionar los criterios de impacto(Afectación Económica o presupuestal y Pérdida Reputacional)",M13) -> El riesgo afecta la imagen de la entidad internamente, de conocimiento general, nivel interno, de junta dircetiva y accionistas y/o de provedores | O13: =IF(OR(N13='Tabla Impacto'!$C$11,N13='Tabla Impacto'!$D$11),"Leve",IF(OR(N13='Tabla Impacto'!$C$12,N13='Tabla Impacto'!$D$12),"Menor",IF(OR(N13='Tabla Impacto'!$C$13,N13='Tabla Impacto'!$D$13),"Moderado",IF(OR(N13='Tabla Impacto'!$C$14,N13='Tabla Impacto'!$D$14),"Mayor",IF(OR(N13='Tabla Impacto'!$C$15,N13='Tabla Impacto'!$D$15),"Catastrófico",""))))) -> Menor | P13: =IF(O13="","",IF(O13="Leve",0.2,IF(O13="Menor",0.4,IF(O13="Moderado",0.6,IF(O13="Mayor",0.8,IF(O13="Catastrófico",1,)))))) -> 0.4 | Q13: =IF(OR(AND(K13="Muy Baja",O13="Leve"),AND(K13="Muy Baja",O13="Menor"),AND(K13="Baja",O13="Leve")),"Bajo",IF(OR(AND(K13="Muy baja",O13="Moderado"),AND(K13="Baja",O13="Menor"),AND(K13="Baja",O13="Moderado"),AND(K13="Media",O13="Leve"),AND(K13="Media",O13="Menor"),AND(K13="Media",O13="Moderado"),AND(K13="Alta",O13="Leve"),AND(K13="Alta",O13="Menor")),"Moderado",IF(OR(AND(K13="Muy Baja",O13="Mayor"),AND(K13="Baja",O13="Mayor"),AND(K13="Media",O13="Mayor"),AND(K13="Alta",O13="Moderado"),AND(K13="Alta",O13="Mayor"),AND(K13="Muy Alta",O13="Leve"),AND(K13="Muy Alta",O13="Menor"),AND(K13="Muy Alta",O13="Moderado"),AND(K13="Muy Alta",O13="Mayor")),"Alto",IF(OR(AND(K13="Muy Baja",O13="Catastrófico"),AND(K13="Baja",O13="Catastrófico"),AND(K13="Media",O13="Catastrófico"),AND(K13="Alta",O13="Catastrófico"),AND(K13="Muy Alta",O13="Catastrófico")),"Extremo","")))) -> Moderado | S13: =+IF(R13=5,"CASI SEGURO",(IF(R13=4,"PROBABLE",(IF(R13=3,"POSIBLE",(IF(R13=2,"RARA VEZ",(IF(R13=1,"IMPROBABLE",""))))))))) | U13: =+IF(T13=5,"ALTO",(IF(T13=3,"MEDIO",(IF(T13=1,"BAJO",IF(OR(T13=2,T13=4),"NO APLICA","")))))) | V13: =IF(AND(R13<>"",T13<>"",U13<>"NO APLICA"),R13*T13,"") | W13: =IF(AND(V13<4,V13>0),"BAJA",IF(AND(V13>9,V13<26),"ALTA",IF(AND(V13>3,V13<10),"MEDIA",""))) | X13: 1 | Y13: Oficina con puerta independiente, Circular No. 04 de 2003. | Z13: =IF(OR(AA13="Preventivo",AA13="Detectivo"),"Probabilidad",IF(AA13="Correctivo","Impacto","")) -> Probabilidad | AA13: Preventivo | AB13: Manual | AC13: =IF(AND(AA13="Preventivo",AB13="Automático"),"50%",IF(AND(AA13="Preventivo",AB13="Manual"),"40%",IF(AND(AA13="Detectivo",AB13="Automático"),"40%",IF(AND(AA13="Detectivo",AB13="Manual"),"30%",IF(AND(AA13="Correctivo",AB13="Automático"),"35%",IF(AND(AA13="Correctivo",AB13="Manual"),"25%","")))))) -> 40% | AD13: Documentado | AE13: Continua | AF13: Con Registro | AG13: =IFERROR(IF(Z13="Probabilidad",(R13-(+R13*AC13)),IF(Z13="Impacto",R13,"")),"") -> 0 | AH13: =IFERROR(IF(AG13="","",IF(AG13<=0.2,"Muy Baja",IF(AG13<=0.4,"Baja",IF(AG13<=0.6,"Media",IF(AG13<=0.8,"Alta","Muy Alta"))))),"") -> Muy Baja | AI13: =+AG13 -> 0 | AJ13: =IFERROR(IF(AK13="","",IF(AK13<=0.2,"Leve",IF(AK13<=0.4,"Menor",IF(AK13<=0.6,"Moderado",IF(AK13<=0.8,"Mayor","Catastrófico"))))),"") | AK13: =IFERROR(IF(Z13="Impacto",(V13-(+V13*AC13)),IF(Z13="Probabilidad",V13,"")),"") | AL13: =IFERROR(IF(OR(AND(AH13="Muy Baja",AJ13="Leve"),AND(AH13="Muy Baja",AJ13="Menor"),AND(AH13="Baja",AJ13="Leve")),"Bajo",IF(OR(AND(AH13="Muy baja",AJ13="Moderado"),AND(AH13="Baja",AJ13="Menor"),AND(AH13="Baja",AJ13="Moderado"),AND(AH13="Media",AJ13="Leve"),AND(AH13="Media",AJ13="Menor"),AND(AH13="Media",AJ13="Moderado"),AND(AH13="Alta",AJ13="Leve"),AND(AH13="Alta",AJ13="Menor")),"Moderado",IF(OR(AND(AH13="Muy Baja",AJ13="Mayor"),AND(AH13="Baja",AJ13="Mayor"),AND(AH13="Media",AJ13="Mayor"),AND(AH13="Alta",AJ13="Moderado"),AND(AH13="Alta",AJ13="Mayor"),AND(AH13="Muy Alta",AJ13="Leve"),AND(AH13="Muy Alta",AJ13="Menor"),AND(AH13="Muy Alta",AJ13="Moderado"),AND(AH13="Muy Alta",AJ13="Mayor")),"Alto",IF(OR(AND(AH13="Muy Baja",AJ13="Catastrófico"),AND(AH13="Baja",AJ13="Catastrófico"),AND(AH13="Media",AJ13="Catastrófico"),AND(AH13="Alta",AJ13="Catastrófico"),AND(AH13="Muy Alta",AJ13="Catastrófico")),"Extremo","")))),"") | AM13: Reducir (mitigar) | AO13: =+IF(AN13=5,"CASI SEGURO",(IF(AN13=4,"PROBABLE",(IF(AN13=3,"POSIBLE",(IF(AN13=2,"RARA VEZ",(IF(AN13=1,"IMPROBABLE",""))))))))) | AQ13: =+IF(AP13=5,"ALTO",(IF(AP13=3,"MEDIO",(IF(AP13=1,"BAJO",IF(OR(AP13=2,AP13=4),"NO APLICA","")))))) | AR13: =IF(AND(AN13<>"",AP13<>"",AQ13<>"NO APLICA"),AN13*AP13,"") | AS13: =IF(AND(AR13<4,AR13>0),"BAJA",IF(AND(AR13>9,AR13<26),"ALTA",IF(AND(AR13>3,AR13<10),"MEDIA",""))) | AT13: Organizar las Historiass Laborales conforme a lo estipulado en la Circular No. 04 de 2003 emitida por el DAFP y el AGN | AU13: Coordinación GIT de talento humano | AV13: Mensual | AW13: Mensual | AX13: Las historias laborales a Diciembre 30 de 2025 fueron organizadas en un 100% | AY13: Finalizada
N14: =IF(NOT(ISERROR(MATCH(M14,_xlfn.ANCHORARRAY(#REF!),0))),#REF!&"Por favor no seleccionar los criterios de impacto",M14) -> 0 | S14: =+IF(R14=5,"CASI SEGURO",(IF(R14=4,"PROBABLE",(IF(R14=3,"POSIBLE",(IF(R14=2,"RARA VEZ",(IF(R14=1,"IMPROBABLE",""))))))))) | U14: =+IF(T14=5,"ALTO",(IF(T14=3,"MEDIO",(IF(T14=1,"BAJO",IF(OR(T14=2,T14=4),"NO APLICA","")))))) | V14: =IF(AND(R14<>"",T14<>"",U14<>"NO APLICA"),R14*T14,"") | W14: =IF(AND(V14<4,V14>0),"BAJA",IF(AND(V14>9,V14<26),"ALTA",IF(AND(V14>3,V14<10),"MEDIA",""))) | X14: 2 | Y14: digitalizar las historias laborales con el fin de tener respaldo de información relevante ante eventuales perdidas o daño de documentos. | Z14: =IF(OR(AA14="Preventivo",AA14="Detectivo"),"Probabilidad",IF(AA14="Correctivo","Impacto","")) -> Probabilidad | AA14: Preventivo | AB14: Manual | AC14: =IF(AND(AA14="Preventivo",AB14="Automático"),"50%",IF(AND(AA14="Preventivo",AB14="Manual"),"40%",IF(AND(AA14="Detectivo",AB14="Automático"),"40%",IF(AND(AA14="Detectivo",AB14="Manual"),"30%",IF(AND(AA14="Correctivo",AB14="Automático"),"35%",IF(AND(AA14="Correctivo",AB14="Manual"),"25%","")))))) -> 40% | AD14: Documentado | AE14: Continua | AF14: Con Registro | AG14: =IFERROR(IF(AND(Z13="Probabilidad",Z14="Probabilidad"),(AI13-(+AI13*AC14)),IF(Z14="Probabilidad",(R13-(+R13*AC14)),IF(Z14="Impacto",AI13,""))),"") -> 0 | AH14: =IFERROR(IF(AG14="","",IF(AG14<=0.2,"Muy Baja",IF(AG14<=0.4,"Baja",IF(AG14<=0.6,"Media",IF(AG14<=0.8,"Alta","Muy Alta"))))),"") -> Muy Baja | AI14: =+AG14 -> 0 | AJ14: =IFERROR(IF(AK14="","",IF(AK14<=0.2,"Leve",IF(AK14<=0.4,"Menor",IF(AK14<=0.6,"Moderado",IF(AK14<=0.8,"Mayor","Catastrófico"))))),"") | AK14: =IFERROR(IF(AND(Z13="Impacto",Z14="Impacto"),(AK13-(+AK13*AC14)),IF(Z14="Impacto",(V13-(+V13*AC14)),IF(Z14="Probabilidad",AK13,""))),"") | AL14: =IFERROR(IF(OR(AND(AH14="Muy Baja",AJ14="Leve"),AND(AH14="Muy Baja",AJ14="Menor"),AND(AH14="Baja",AJ14="Leve")),"Bajo",IF(OR(AND(AH14="Muy baja",AJ14="Moderado"),AND(AH14="Baja",AJ14="Menor"),AND(AH14="Baja",AJ14="Moderado"),AND(AH14="Media",AJ14="Leve"),AND(AH14="Media",AJ14="Menor"),AND(AH14="Media",AJ14="Moderado"),AND(AH14="Alta",AJ14="Leve"),AND(AH14="Alta",AJ14="Menor")),"Moderado",IF(OR(AND(AH14="Muy Baja",AJ14="Mayor"),AND(AH14="Baja",AJ14="Mayor"),AND(AH14="Media",AJ14="Mayor"),AND(AH14="Alta",AJ14="Moderado"),AND(AH14="Alta",AJ14="Mayor"),AND(AH14="Muy Alta",AJ14="Leve"),AND(AH14="Muy Alta",AJ14="Menor"),AND(AH14="Muy Alta",AJ14="Moderado"),AND(AH14="Muy Alta",AJ14="Mayor")),"Alto",IF(OR(AND(AH14="Muy Baja",AJ14="Catastrófico"),AND(AH14="Baja",AJ14="Catastrófico"),AND(AH14="Media",AJ14="Catastrófico"),AND(AH14="Alta",AJ14="Catastrófico"),AND(AH14="Muy Alta",AJ14="Catastrófico")),"Extremo","")))),"") | AM14: Reducir (mitigar) | AO14: =+IF(AN14=5,"CASI SEGURO",(IF(AN14=4,"PROBABLE",(IF(AN14=3,"POSIBLE",(IF(AN14=2,"RARA VEZ",(IF(AN14=1,"IMPROBABLE",""))))))))) | AQ14: =+IF(AP14=5,"ALTO",(IF(AP14=3,"MEDIO",(IF(AP14=1,"BAJO",IF(OR(AP14=2,AP14=4),"NO APLICA","")))))) | AR14: =IF(AND(AN14<>"",AP14<>"",AQ14<>"NO APLICA"),AN14*AP14,"") | AS14: =IF(AND(AR14<4,AR14>0),"BAJA",IF(AND(AR14>9,AR14<26),"ALTA",IF(AND(AR14>3,AR14<10),"MEDIA",""))) | AT14: Digitalizar historias laborales | AU14: Coordinación GIT de talento humano | AV14: Anual | AW14: Semestral | AX14: Se adelantó el proceso de digitalización de las historias laborales, la cual se encuentra en un 85% | AY14: En Curso
A15: 3 | C15: Económico | D15: Tecnologico | E15: Deficiente conocimiento en temas cambios de normatividad. Deficiente parametrización de Sofwart utilizado en el proceso de liquidación | F15: inadecuada liquidación de prestaciones sociales y demás conceptos salariales. | G15: Probabilidad de afectación económica por errores en la liquidación de prestaciones sociales, situaciones administrativas y demas factores salariales de talento humano, cuando por error, desconocimiento o fallas tecnologicas se realiza una inadecuada liquidación de prestaciones sociales y demas conceptos salariales. | I15: Ejecucion y Administracion de procesos | J15: 77 | K15: =IF(J15<=0,"",IF(J15<=2,"Muy Baja",IF(J15<=24,"Baja",IF(J15<=500,"Media",IF(J15<=5000,"Alta","Muy Alta"))))) -> Media | L15: =IF(K15="","",IF(K15="Muy Baja",0.2,IF(K15="Baja",0.4,IF(K15="Media",0.6,IF(K15="Alta",0.8,IF(K15="Muy Alta",1,)))))) -> 0.6 | M15: Entre 10 y 50 SMLMV | N15: =IF(NOT(ISERROR(MATCH(M15,'Tabla Impacto'!$B$221:$B$223,0))),'Tabla Impacto'!$F$223&"Por favor no seleccionar los criterios de impacto(Afectación Económica o presupuestal y Pérdida Reputacional)",M15) -> Entre 10 y 50 SMLMV | O15: =IF(OR(N15='Tabla Impacto'!$C$11,N15='Tabla Impacto'!$D$11),"Leve",IF(OR(N15='Tabla Impacto'!$C$12,N15='Tabla Impacto'!$D$12),"Menor",IF(OR(N15='Tabla Impacto'!$C$13,N15='Tabla Impacto'!$D$13),"Moderado",IF(OR(N15='Tabla Impacto'!$C$14,N15='Tabla Impacto'!$D$14),"Mayor",IF(OR(N15='Tabla Impacto'!$C$15,N15='Tabla Impacto'!$D$15),"Catastrófico",""))))) -> Menor | P15: =IF(O15="","",IF(O15="Leve",0.2,IF(O15="Menor",0.4,IF(O15="Moderado",0.6,IF(O15="Mayor",0.8,IF(O15="Catastrófico",1,)))))) -> 0.4 | Q15: =IF(OR(AND(K15="Muy Baja",O15="Leve"),AND(K15="Muy Baja",O15="Menor"),AND(K15="Baja",O15="Leve")),"Bajo",IF(OR(AND(K15="Muy baja",O15="Moderado"),AND(K15="Baja",O15="Menor"),AND(K15="Baja",O15="Moderado"),AND(K15="Media",O15="Leve"),AND(K15="Media",O15="Menor"),AND(K15="Media",O15="Moderado"),AND(K15="Alta",O15="Leve"),AND(K15="Alta",O15="Menor")),"Moderado",IF(OR(AND(K15="Muy Baja",O15="Mayor"),AND(K15="Baja",O15="Mayor"),AND(K15="Media",O15="Mayor"),AND(K15="Alta",O15="Moderado"),AND(K15="Alta",O15="Mayor"),AND(K15="Muy Alta",O15="Leve"),AND(K15="Muy Alta",O15="Menor"),AND(K15="Muy Alta",O15="Moderado"),AND(K15="Muy Alta",O15="Mayor")),"Alto",IF(OR(AND(K15="Muy Baja",O15="Catastrófico"),AND(K15="Baja",O15="Catastrófico"),AND(K15="Media",O15="Catastrófico"),AND(K15="Alta",O15="Catastrófico"),AND(K15="Muy Alta",O15="Catastrófico")),"Extremo","")))) -> Moderado | S15: =+IF(R15=5,"CASI SEGURO",(IF(R15=4,"PROBABLE",(IF(R15=3,"POSIBLE",(IF(R15=2,"RARA VEZ",(IF(R15=1,"IMPROBABLE",""))))))))) | U15: =+IF(T15=5,"ALTO",(IF(T15=3,"MEDIO",(IF(T15=1,"BAJO",IF(OR(T15=2,T15=4),"NO APLICA","")))))) | V15: =IF(AND(R15<>"",T15<>"",U15<>"NO APLICA"),R15*T15,"") | W15: =IF(AND(V15<4,V15>0),"BAJA",IF(AND(V15>9,V15<26),"ALTA",IF(AND(V15>3,V15<10),"MEDIA",""))) | X15: 1 | Y15: Revisión del formato de liquidación . | Z15: =IF(OR(AA15="Preventivo",AA15="Detectivo"),"Probabilidad",IF(AA15="Correctivo","Impacto","")) -> Probabilidad | AA15: Preventivo | AB15: Automático | AC15: =IF(AND(AA15="Preventivo",AB15="Automático"),"50%",IF(AND(AA15="Preventivo",AB15="Manual"),"40%",IF(AND(AA15="Detectivo",AB15="Automático"),"40%",IF(AND(AA15="Detectivo",AB15="Manual"),"30%",IF(AND(AA15="Correctivo",AB15="Automático"),"35%",IF(AND(AA15="Correctivo",AB15="Manual"),"25%","")))))) -> 50% | AD15: Documentado | AE15: Continua | AF15: Con Registro | AG15: =IFERROR(IF(Z15="Probabilidad",(R15-(+R15*AC15)),IF(Z15="Impacto",R15,"")),"") -> 0 | AH15: =IFERROR(IF(AG15="","",IF(AG15<=0.2,"Muy Baja",IF(AG15<=0.4,"Baja",IF(AG15<=0.6,"Media",IF(AG15<=0.8,"Alta","Muy Alta"))))),"") -> Muy Baja | AI15: =+AG15 -> 0 | AJ15: =IFERROR(IF(AK15="","",IF(AK15<=0.2,"Leve",IF(AK15<=0.4,"Menor",IF(AK15<=0.6,"Moderado",IF(AK15<=0.8,"Mayor","Catastrófico"))))),"") | AK15: =IFERROR(IF(Z15="Impacto",(V15-(+V15*AC15)),IF(Z15="Probabilidad",V15,"")),"") | AL15: =IFERROR(IF(OR(AND(AH15="Muy Baja",AJ15="Leve"),AND(AH15="Muy Baja",AJ15="Menor"),AND(AH15="Baja",AJ15="Leve")),"Bajo",IF(OR(AND(AH15="Muy baja",AJ15="Moderado"),AND(AH15="Baja",AJ15="Menor"),AND(AH15="Baja",AJ15="Moderado"),AND(AH15="Media",AJ15="Leve"),AND(AH15="Media",AJ15="Menor"),AND(AH15="Media",AJ15="Moderado"),AND(AH15="Alta",AJ15="Leve"),AND(AH15="Alta",AJ15="Menor")),"Moderado",IF(OR(AND(AH15="Muy Baja",AJ15="Mayor"),AND(AH15="Baja",AJ15="Mayor"),AND(AH15="Media",AJ15="Mayor"),AND(AH15="Alta",AJ15="Moderado"),AND(AH15="Alta",AJ15="Mayor"),AND(AH15="Muy Alta",AJ15="Leve"),AND(AH15="Muy Alta",AJ15="Menor"),AND(AH15="Muy Alta",AJ15="Moderado"),AND(AH15="Muy Alta",AJ15="Mayor")),"Alto",IF(OR(AND(AH15="Muy Baja",AJ15="Catastrófico"),AND(AH15="Baja",AJ15="Catastrófico"),AND(AH15="Media",AJ15="Catastrófico"),AND(AH15="Alta",AJ15="Catastrófico"),AND(AH15="Muy Alta",AJ15="Catastrófico")),"Extremo","")))),"") | AM15: Reducir (mitigar) | AN15: 5 | AO15: =+IF(AN15=5,"CASI SEGURO",(IF(AN15=4,"PROBABLE",(IF(AN15=3,"POSIBLE",(IF(AN15=2,"RARA VEZ",(IF(AN15=1,"IMPROBABLE",""))))))))) -> CASI SEGURO | AP15: 5 | AQ15: =+IF(AP15=5,"ALTO",(IF(AP15=3,"MEDIO",(IF(AP15=1,"BAJO",IF(OR(AP15=2,AP15=4),"NO APLICA","")))))) -> ALTO | AR15: =IF(AND(AN15<>"",AP15<>"",AQ15<>"NO APLICA"),AN15*AP15,"") -> 25 | AS15: =IF(AND(AR15<4,AR15>0),"BAJA",IF(AND(AR15>9,AR15<26),"ALTA",IF(AND(AR15>3,AR15<10),"MEDIA",""))) -> ALTA | AT15: Capacitación y actualización permanente para el personal que liquida la nómina y las prestaciones sociales | AU15: Coordinación GIT de talento humano | AV15: Durante el primer semestre de cada vigencia | AW15: Semestre | AX15: Durante los días 17 y 21 de junio de 2025, la Coordinadora del GIT para la Gestión del Talento Humano y la Profesional de Apoyo encargada del proceso de la nómina, participaron en una mesa de trabajo para la parametrización y verificación de la implementación de los ajustes normativos de la reforma pensional en SIAN. | AY15: Finalizada
D16: Personal | N16: =IF(NOT(ISERROR(MATCH(M16,_xlfn.ANCHORARRAY(#REF!),0))),#REF!&"Por favor no seleccionar los criterios de impacto",M16) -> 0 | S16: =+IF(R16=5,"CASI SEGURO",(IF(R16=4,"PROBABLE",(IF(R16=3,"POSIBLE",(IF(R16=2,"RARA VEZ",(IF(R16=1,"IMPROBABLE",""))))))))) | U16: =+IF(T16=5,"ALTO",(IF(T16=3,"MEDIO",(IF(T16=1,"BAJO",IF(OR(T16=2,T16=4),"NO APLICA","")))))) | V16: =IF(AND(R16<>"",T16<>"",U16<>"NO APLICA"),R16*T16,"") | W16: =IF(AND(V16<4,V16>0),"BAJA",IF(AND(V16>9,V16<26),"ALTA",IF(AND(V16>3,V16<10),"MEDIA",""))) | X16: 2 | Y16: Verficación de las cifras emitidas por el Sofwart, comparandola con otras herramientas (excel, calculadora, aplicativo etc…) | Z16: =IF(OR(AA16="Preventivo",AA16="Detectivo"),"Probabilidad",IF(AA16="Correctivo","Impacto","")) -> Probabilidad | AA16: Preventivo | AB16: Manual | AC16: =IF(AND(AA16="Preventivo",AB16="Automático"),"50%",IF(AND(AA16="Preventivo",AB16="Manual"),"40%",IF(AND(AA16="Detectivo",AB16="Automático"),"40%",IF(AND(AA16="Detectivo",AB16="Manual"),"30%",IF(AND(AA16="Correctivo",AB16="Automático"),"35%",IF(AND(AA16="Correctivo",AB16="Manual"),"25%","")))))) -> 40% | AD16: Documentado | AE16: Continua | AF16: Con Registro | AG16: =IFERROR(IF(AND(Z15="Probabilidad",Z16="Probabilidad"),(AI15-(+AI15*AC16)),IF(Z16="Probabilidad",(R15-(+R15*AC16)),IF(Z16="Impacto",AI15,""))),"") -> 0 | AH16: =IFERROR(IF(AG16="","",IF(AG16<=0.2,"Muy Baja",IF(AG16<=0.4,"Baja",IF(AG16<=0.6,"Media",IF(AG16<=0.8,"Alta","Muy Alta"))))),"") -> Muy Baja | AI16: =+AG16 -> 0 | AJ16: =IFERROR(IF(AK16="","",IF(AK16<=0.2,"Leve",IF(AK16<=0.4,"Menor",IF(AK16<=0.6,"Moderado",IF(AK16<=0.8,"Mayor","Catastrófico"))))),"") | AK16: =IFERROR(IF(AND(Z15="Impacto",Z16="Impacto"),(AK15-(+AK15*AC16)),IF(Z16="Impacto",(V15-(+V15*AC16)),IF(Z16="Probabilidad",AK15,""))),"") | AL16: =IFERROR(IF(OR(AND(AH16="Muy Baja",AJ16="Leve"),AND(AH16="Muy Baja",AJ16="Menor"),AND(AH16="Baja",AJ16="Leve")),"Bajo",IF(OR(AND(AH16="Muy baja",AJ16="Moderado"),AND(AH16="Baja",AJ16="Menor"),AND(AH16="Baja",AJ16="Moderado"),AND(AH16="Media",AJ16="Leve"),AND(AH16="Media",AJ16="Menor"),AND(AH16="Media",AJ16="Moderado"),AND(AH16="Alta",AJ16="Leve"),AND(AH16="Alta",AJ16="Menor")),"Moderado",IF(OR(AND(AH16="Muy Baja",AJ16="Mayor"),AND(AH16="Baja",AJ16="Mayor"),AND(AH16="Media",AJ16="Mayor"),AND(AH16="Alta",AJ16="Moderado"),AND(AH16="Alta",AJ16="Mayor"),AND(AH16="Muy Alta",AJ16="Leve"),AND(AH16="Muy Alta",AJ16="Menor"),AND(AH16="Muy Alta",AJ16="Moderado"),AND(AH16="Muy Alta",AJ16="Mayor")),"Alto",IF(OR(AND(AH16="Muy Baja",AJ16="Catastrófico"),AND(AH16="Baja",AJ16="Catastrófico"),AND(AH16="Media",AJ16="Catastrófico"),AND(AH16="Alta",AJ16="Catastrófico"),AND(AH16="Muy Alta",AJ16="Catastrófico")),"Extremo","")))),"") | AN16: 5 | AO16: =+IF(AN16=5,"CASI SEGURO",(IF(AN16=4,"PROBABLE",(IF(AN16=3,"POSIBLE",(IF(AN16=2,"RARA VEZ",(IF(AN16=1,"IMPROBABLE",""))))))))) -> CASI SEGURO | AP16: 5 | AQ16: =+IF(AP16=5,"ALTO",(IF(AP16=3,"MEDIO",(IF(AP16=1,"BAJO",IF(OR(AP16=2,AP16=4),"NO APLICA","")))))) -> ALTO | AR16: =IF(AND(AN16<>"",AP16<>"",AQ16<>"NO APLICA"),AN16*AP16,"") -> 25 | AS16: =IF(AND(AR16<4,AR16>0),"BAJA",IF(AND(AR16>9,AR16<26),"ALTA",IF(AND(AR16>3,AR16<10),"MEDIA",""))) -> ALTA | AT16: Revisión de los datos generadas en el Software, para la realización de la parametrización del mismo | AU16: Coordinación GIT de talento humano | AV16: Mensual | AW16: Mensual | AX16: Se adelanta junto con el proveedor del Software de nómina, revisión de la liquidación mensual de los emolumentos y deducciones que tienen los servidores publicos y se valida mes a mes con liquidación en Excel | AY16: Finalizada
N17: =IF(NOT(ISERROR(MATCH(M17,_xlfn.ANCHORARRAY(G28),0))),L30&"Por favor no seleccionar los criterios de impacto",M17) -> 0 | S17: =+IF(R17=5,"CASI SEGURO",(IF(R17=4,"PROBABLE",(IF(R17=3,"POSIBLE",(IF(R17=2,"RARA VEZ",(IF(R17=1,"IMPROBABLE",""))))))))) | U17: =+IF(T17=5,"ALTO",(IF(T17=3,"MEDIO",(IF(T17=1,"BAJO",IF(OR(T17=2,T17=4),"NO APLICA","")))))) | V17: =IF(AND(R17<>"",T17<>"",U17<>"NO APLICA"),R17*T17,"") | W17: =IF(AND(V17<4,V17>0),"BAJA",IF(AND(V17>9,V17<26),"ALTA",IF(AND(V17>3,V17<10),"MEDIA",""))) | Z17: =IF(OR(AA17="Preventivo",AA17="Detectivo"),"Probabilidad",IF(AA17="Correctivo","Impacto","")) | AC17: =IF(AND(AA17="Preventivo",AB17="Automático"),"50%",IF(AND(AA17="Preventivo",AB17="Manual"),"40%",IF(AND(AA17="Detectivo",AB17="Automático"),"40%",IF(AND(AA17="Detectivo",AB17="Manual"),"30%",IF(AND(AA17="Correctivo",AB17="Automático"),"35%",IF(AND(AA17="Correctivo",AB17="Manual"),"25%","")))))) | AG17: =IFERROR(IF(AND(#REF!="Probabilidad",Z17="Probabilidad"),(#REF!-(+#REF!*AC17)),IF(AND(#REF!="Impacto",Z17="Probabilidad"),(#REF!-(+#REF!*AC17)),IF(Z17="Impacto",#REF!,""))),"") | AH17: =IFERROR(IF(AG17="","",IF(AG17<=0.2,"Muy Baja",IF(AG17<=0.4,"Baja",IF(AG17<=0.6,"Media",IF(AG17<=0.8,"Alta","Muy Alta"))))),"") | AI17: =+AG17 | AJ17: =IFERROR(IF(AK17="","",IF(AK17<=0.2,"Leve",IF(AK17<=0.4,"Menor",IF(AK17<=0.6,"Moderado",IF(AK17<=0.8,"Mayor","Catastrófico"))))),"") | AK17: =IFERROR(IF(AND(#REF!="Impacto",Z17="Impacto"),(#REF!-(+#REF!*AC17)),IF(AND(#REF!="Probabilidad",Z17="Impacto"),(#REF!-(+#REF!*AC17)),IF(Z17="Probabilidad",#REF!,""))),"") | AL17: =IFERROR(IF(OR(AND(AH17="Muy Baja",AJ17="Leve"),AND(AH17="Muy Baja",AJ17="Menor"),AND(AH17="Baja",AJ17="Leve")),"Bajo",IF(OR(AND(AH17="Muy baja",AJ17="Moderado"),AND(AH17="Baja",AJ17="Menor"),AND(AH17="Baja",AJ17="Moderado"),AND(AH17="Media",AJ17="Leve"),AND(AH17="Media",AJ17="Menor"),AND(AH17="Media",AJ17="Moderado"),AND(AH17="Alta",AJ17="Leve"),AND(AH17="Alta",AJ17="Menor")),"Moderado",IF(OR(AND(AH17="Muy Baja",AJ17="Mayor"),AND(AH17="Baja",AJ17="Mayor"),AND(AH17="Media",AJ17="Mayor"),AND(AH17="Alta",AJ17="Moderado"),AND(AH17="Alta",AJ17="Mayor"),AND(AH17="Muy Alta",AJ17="Leve"),AND(AH17="Muy Alta",AJ17="Menor"),AND(AH17="Muy Alta",AJ17="Moderado"),AND(AH17="Muy Alta",AJ17="Mayor")),"Alto",IF(OR(AND(AH17="Muy Baja",AJ17="Catastrófico"),AND(AH17="Baja",AJ17="Catastrófico"),AND(AH17="Media",AJ17="Catastrófico"),AND(AH17="Alta",AJ17="Catastrófico"),AND(AH17="Muy Alta",AJ17="Catastrófico")),"Extremo","")))),"") | AO17: =+IF(AN17=5,"CASI SEGURO",(IF(AN17=4,"PROBABLE",(IF(AN17=3,"POSIBLE",(IF(AN17=2,"RARA VEZ",(IF(AN17=1,"IMPROBABLE",""))))))))) | AQ17: =+IF(AP17=5,"ALTO",(IF(AP17=3,"MEDIO",(IF(AP17=1,"BAJO",IF(OR(AP17=2,AP17=4),"NO APLICA","")))))) | AR17: =IF(AND(AN17<>"",AP17<>"",AQ17<>"NO APLICA"),AN17*AP17,"") | AS17: =IF(AND(AR17<4,AR17>0),"BAJA",IF(AND(AR17>9,AR17<26),"ALTA",IF(AND(AR17>3,AR17<10),"MEDIA","")))
A18: 6 | K18: =IF(J18<=0,"",IF(J18<=2,"Muy Baja",IF(J18<=24,"Baja",IF(J18<=500,"Media",IF(J18<=5000,"Alta","Muy Alta"))))) | L18: =IF(K18="","",IF(K18="Muy Baja",0.2,IF(K18="Baja",0.4,IF(K18="Media",0.6,IF(K18="Alta",0.8,IF(K18="Muy Alta",1,)))))) | N18: =IF(NOT(ISERROR(MATCH(M18,'Tabla Impacto'!$B$221:$B$223,0))),'Tabla Impacto'!$F$223&"Por favor no seleccionar los criterios de impacto(Afectación Económica o presupuestal y Pérdida Reputacional)",M18) -> 0 | O18: =IF(OR(N18='Tabla Impacto'!$C$11,N18='Tabla Impacto'!$D$11),"Leve",IF(OR(N18='Tabla Impacto'!$C$12,N18='Tabla Impacto'!$D$12),"Menor",IF(OR(N18='Tabla Impacto'!$C$13,N18='Tabla Impacto'!$D$13),"Moderado",IF(OR(N18='Tabla Impacto'!$C$14,N18='Tabla Impacto'!$D$14),"Mayor",IF(OR(N18='Tabla Impacto'!$C$15,N18='Tabla Impacto'!$D$15),"Catastrófico",""))))) | P18: =IF(O18="","",IF(O18="Leve",0.2,IF(O18="Menor",0.4,IF(O18="Moderado",0.6,IF(O18="Mayor",0.8,IF(O18="Catastrófico",1,)))))) | Q18: =IF(OR(AND(K18="Muy Baja",O18="Leve"),AND(K18="Muy Baja",O18="Menor"),AND(K18="Baja",O18="Leve")),"Bajo",IF(OR(AND(K18="Muy baja",O18="Moderado"),AND(K18="Baja",O18="Menor"),AND(K18="Baja",O18="Moderado"),AND(K18="Media",O18="Leve"),AND(K18="Media",O18="Menor"),AND(K18="Media",O18="Moderado"),AND(K18="Alta",O18="Leve"),AND(K18="Alta",O18="Menor")),"Moderado",IF(OR(AND(K18="Muy Baja",O18="Mayor"),AND(K18="Baja",O18="Mayor"),AND(K18="Media",O18="Mayor"),AND(K18="Alta",O18="Moderado"),AND(K18="Alta",O18="Mayor"),AND(K18="Muy Alta",O18="Leve"),AND(K18="Muy Alta",O18="Menor"),AND(K18="Muy Alta",O18="Moderado"),AND(K18="Muy Alta",O18="Mayor")),"Alto",IF(OR(AND(K18="Muy Baja",O18="Catastrófico"),AND(K18="Baja",O18="Catastrófico"),AND(K18="Media",O18="Catastrófico"),AND(K18="Alta",O18="Catastrófico"),AND(K18="Muy Alta",O18="Catastrófico")),"Extremo","")))) | S18: =+IF(R18=5,"CASI SEGURO",(IF(R18=4,"PROBABLE",(IF(R18=3,"POSIBLE",(IF(R18=2,"RARA VEZ",(IF(R18=1,"IMPROBABLE",""))))))))) | U18: =+IF(T18=5,"ALTO",(IF(T18=3,"MEDIO",(IF(T18=1,"BAJO",IF(OR(T18=2,T18=4),"NO APLICA","")))))) | V18: =IF(AND(R18<>"",T18<>"",U18<>"NO APLICA"),R18*T18,"") | W18: =IF(AND(V18<4,V18>0),"BAJA",IF(AND(V18>9,V18<26),"ALTA",IF(AND(V18>3,V18<10),"MEDIA",""))) | Z18: =IF(OR(AA18="Preventivo",AA18="Detectivo"),"Probabilidad",IF(AA18="Correctivo","Impacto","")) | AC18: =IF(AND(AA18="Preventivo",AB18="Automático"),"50%",IF(AND(AA18="Preventivo",AB18="Manual"),"40%",IF(AND(AA18="Detectivo",AB18="Automático"),"40%",IF(AND(AA18="Detectivo",AB18="Manual"),"30%",IF(AND(AA18="Correctivo",AB18="Automático"),"35%",IF(AND(AA18="Correctivo",AB18="Manual"),"25%","")))))) | AG18: =IFERROR(IF(Z18="Probabilidad",(R18-(+R18*AC18)),IF(Z18="Impacto",R18,"")),"") | AH18: =IFERROR(IF(AG18="","",IF(AG18<=0.2,"Muy Baja",IF(AG18<=0.4,"Baja",IF(AG18<=0.6,"Media",IF(AG18<=0.8,"Alta","Muy Alta"))))),"") | AI18: =+AG18 | AJ18: =IFERROR(IF(AK18="","",IF(AK18<=0.2,"Leve",IF(AK18<=0.4,"Menor",IF(AK18<=0.6,"Moderado",IF(AK18<=0.8,"Mayor","Catastrófico"))))),"") | AK18: =IFERROR(IF(Z18="Impacto",(V18-(+V18*AC18)),IF(Z18="Probabilidad",V18,"")),"") | AL18: =IFERROR(IF(OR(AND(AH18="Muy Baja",AJ18="Leve"),AND(AH18="Muy Baja",AJ18="Menor"),AND(AH18="Baja",AJ18="Leve")),"Bajo",IF(OR(AND(AH18="Muy baja",AJ18="Moderado"),AND(AH18="Baja",AJ18="Menor"),AND(AH18="Baja",AJ18="Moderado"),AND(AH18="Media",AJ18="Leve"),AND(AH18="Media",AJ18="Menor"),AND(AH18="Media",AJ18="Moderado"),AND(AH18="Alta",AJ18="Leve"),AND(AH18="Alta",AJ18="Menor")),"Moderado",IF(OR(AND(AH18="Muy Baja",AJ18="Mayor"),AND(AH18="Baja",AJ18="Mayor"),AND(AH18="Media",AJ18="Mayor"),AND(AH18="Alta",AJ18="Moderado"),AND(AH18="Alta",AJ18="Mayor"),AND(AH18="Muy Alta",AJ18="Leve"),AND(AH18="Muy Alta",AJ18="Menor"),AND(AH18="Muy Alta",AJ18="Moderado"),AND(AH18="Muy Alta",AJ18="Mayor")),"Alto",IF(OR(AND(AH18="Muy Baja",AJ18="Catastrófico"),AND(AH18="Baja",AJ18="Catastrófico"),AND(AH18="Media",AJ18="Catastrófico"),AND(AH18="Alta",AJ18="Catastrófico"),AND(AH18="Muy Alta",AJ18="Catastrófico")),"Extremo","")))),"") | AO18: =+IF(AN18=5,"CASI SEGURO",(IF(AN18=4,"PROBABLE",(IF(AN18=3,"POSIBLE",(IF(AN18=2,"RARA VEZ",(IF(AN18=1,"IMPROBABLE",""))))))))) | AQ18: =+IF(AP18=5,"ALTO",(IF(AP18=3,"MEDIO",(IF(AP18=1,"BAJO",IF(OR(AP18=2,AP18=4),"NO APLICA","")))))) | AR18: =IF(AND(AN18<>"",AP18<>"",AQ18<>"NO APLICA"),AN18*AP18,"") | AS18: =IF(AND(AR18<4,AR18>0),"BAJA",IF(AND(AR18>9,AR18<26),"ALTA",IF(AND(AR18>3,AR18<10),"MEDIA","")))
N19: =IF(NOT(ISERROR(MATCH(M19,_xlfn.ANCHORARRAY(G30),0))),L32&"Por favor no seleccionar los criterios de impacto",M19) -> 0 | S19: =+IF(R19=5,"CASI SEGURO",(IF(R19=4,"PROBABLE",(IF(R19=3,"POSIBLE",(IF(R19=2,"RARA VEZ",(IF(R19=1,"IMPROBABLE",""))))))))) | U19: =+IF(T19=5,"ALTO",(IF(T19=3,"MEDIO",(IF(T19=1,"BAJO",IF(OR(T19=2,T19=4),"NO APLICA","")))))) | V19: =IF(AND(R19<>"",T19<>"",U19<>"NO APLICA"),R19*T19,"") | W19: =IF(AND(V19<4,V19>0),"BAJA",IF(AND(V19>9,V19<26),"ALTA",IF(AND(V19>3,V19<10),"MEDIA",""))) | Z19: =IF(OR(AA19="Preventivo",AA19="Detectivo"),"Probabilidad",IF(AA19="Correctivo","Impacto","")) | AC19: =IF(AND(AA19="Preventivo",AB19="Automático"),"50%",IF(AND(AA19="Preventivo",AB19="Manual"),"40%",IF(AND(AA19="Detectivo",AB19="Automático"),"40%",IF(AND(AA19="Detectivo",AB19="Manual"),"30%",IF(AND(AA19="Correctivo",AB19="Automático"),"35%",IF(AND(AA19="Correctivo",AB19="Manual"),"25%","")))))) | AG19: =IFERROR(IF(AND(Z18="Probabilidad",Z19="Probabilidad"),(AI18-(+AI18*AC19)),IF(Z19="Probabilidad",(R18-(+R18*AC19)),IF(Z19="Impacto",AI18,""))),"") | AH19: =IFERROR(IF(AG19="","",IF(AG19<=0.2,"Muy Baja",IF(AG19<=0.4,"Baja",IF(AG19<=0.6,"Media",IF(AG19<=0.8,"Alta","Muy Alta"))))),"") | AI19: =+AG19 | AJ19: =IFERROR(IF(AK19="","",IF(AK19<=0.2,"Leve",IF(AK19<=0.4,"Menor",IF(AK19<=0.6,"Moderado",IF(AK19<=0.8,"Mayor","Catastrófico"))))),"") | AK19: =IFERROR(IF(AND(Z18="Impacto",Z19="Impacto"),(AK18-(+AK18*AC19)),IF(Z19="Impacto",(V18-(+V18*AC19)),IF(Z19="Probabilidad",AK18,""))),"") | AL19: =IFERROR(IF(OR(AND(AH19="Muy Baja",AJ19="Leve"),AND(AH19="Muy Baja",AJ19="Menor"),AND(AH19="Baja",AJ19="Leve")),"Bajo",IF(OR(AND(AH19="Muy baja",AJ19="Moderado"),AND(AH19="Baja",AJ19="Menor"),AND(AH19="Baja",AJ19="Moderado"),AND(AH19="Media",AJ19="Leve"),AND(AH19="Media",AJ19="Menor"),AND(AH19="Media",AJ19="Moderado"),AND(AH19="Alta",AJ19="Leve"),AND(AH19="Alta",AJ19="Menor")),"Moderado",IF(OR(AND(AH19="Muy Baja",AJ19="Mayor"),AND(AH19="Baja",AJ19="Mayor"),AND(AH19="Media",AJ19="Mayor"),AND(AH19="Alta",AJ19="Moderado"),AND(AH19="Alta",AJ19="Mayor"),AND(AH19="Muy Alta",AJ19="Leve"),AND(AH19="Muy Alta",AJ19="Menor"),AND(AH19="Muy Alta",AJ19="Moderado"),AND(AH19="Muy Alta",AJ19="Mayor")),"Alto",IF(OR(AND(AH19="Muy Baja",AJ19="Catastrófico"),AND(AH19="Baja",AJ19="Catastrófico"),AND(AH19="Media",AJ19="Catastrófico"),AND(AH19="Alta",AJ19="Catastrófico"),AND(AH19="Muy Alta",AJ19="Catastrófico")),"Extremo","")))),"") | AO19: =+IF(AN19=5,"CASI SEGURO",(IF(AN19=4,"PROBABLE",(IF(AN19=3,"POSIBLE",(IF(AN19=2,"RARA VEZ",(IF(AN19=1,"IMPROBABLE",""))))))))) | AQ19: =+IF(AP19=5,"ALTO",(IF(AP19=3,"MEDIO",(IF(AP19=1,"BAJO",IF(OR(AP19=2,AP19=4),"NO APLICA","")))))) | AR19: =IF(AND(AN19<>"",AP19<>"",AQ19<>"NO APLICA"),AN19*AP19,"") | AS19: =IF(AND(AR19<4,AR19>0),"BAJA",IF(AND(AR19>9,AR19<26),"ALTA",IF(AND(AR19>3,AR19<10),"MEDIA","")))
N20: =IF(NOT(ISERROR(MATCH(M20,_xlfn.ANCHORARRAY(G31),0))),L33&"Por favor no seleccionar los criterios de impacto",M20) -> 0 | S20: =+IF(R20=5,"CASI SEGURO",(IF(R20=4,"PROBABLE",(IF(R20=3,"POSIBLE",(IF(R20=2,"RARA VEZ",(IF(R20=1,"IMPROBABLE",""))))))))) | U20: =+IF(T20=5,"ALTO",(IF(T20=3,"MEDIO",(IF(T20=1,"BAJO",IF(OR(T20=2,T20=4),"NO APLICA","")))))) | V20: =IF(AND(R20<>"",T20<>"",U20<>"NO APLICA"),R20*T20,"") | W20: =IF(AND(V20<4,V20>0),"BAJA",IF(AND(V20>9,V20<26),"ALTA",IF(AND(V20>3,V20<10),"MEDIA",""))) | Z20: =IF(OR(AA20="Preventivo",AA20="Detectivo"),"Probabilidad",IF(AA20="Correctivo","Impacto","")) | AC20: =IF(AND(AA20="Preventivo",AB20="Automático"),"50%",IF(AND(AA20="Preventivo",AB20="Manual"),"40%",IF(AND(AA20="Detectivo",AB20="Automático"),"40%",IF(AND(AA20="Detectivo",AB20="Manual"),"30%",IF(AND(AA20="Correctivo",AB20="Automático"),"35%",IF(AND(AA20="Correctivo",AB20="Manual"),"25%","")))))) | AG20: =IFERROR(IF(AND(Z19="Probabilidad",Z20="Probabilidad"),(AI19-(+AI19*AC20)),IF(AND(Z19="Impacto",Z20="Probabilidad"),(AI18-(+AI18*AC20)),IF(Z20="Impacto",AI19,""))),"") | AH20: =IFERROR(IF(AG20="","",IF(AG20<=0.2,"Muy Baja",IF(AG20<=0.4,"Baja",IF(AG20<=0.6,"Media",IF(AG20<=0.8,"Alta","Muy Alta"))))),"") | AI20: =+AG20 | AJ20: =IFERROR(IF(AK20="","",IF(AK20<=0.2,"Leve",IF(AK20<=0.4,"Menor",IF(AK20<=0.6,"Moderado",IF(AK20<=0.8,"Mayor","Catastrófico"))))),"") | AK20: =IFERROR(IF(AND(Z19="Impacto",Z20="Impacto"),(AK19-(+AK19*AC20)),IF(AND(Z19="Probabilidad",Z20="Impacto"),(AK18-(+AK18*AC20)),IF(Z20="Probabilidad",AK19,""))),"") | AL20: =IFERROR(IF(OR(AND(AH20="Muy Baja",AJ20="Leve"),AND(AH20="Muy Baja",AJ20="Menor"),AND(AH20="Baja",AJ20="Leve")),"Bajo",IF(OR(AND(AH20="Muy baja",AJ20="Moderado"),AND(AH20="Baja",AJ20="Menor"),AND(AH20="Baja",AJ20="Moderado"),AND(AH20="Media",AJ20="Leve"),AND(AH20="Media",AJ20="Menor"),AND(AH20="Media",AJ20="Moderado"),AND(AH20="Alta",AJ20="Leve"),AND(AH20="Alta",AJ20="Menor")),"Moderado",IF(OR(AND(AH20="Muy Baja",AJ20="Mayor"),AND(AH20="Baja",AJ20="Mayor"),AND(AH20="Media",AJ20="Mayor"),AND(AH20="Alta",AJ20="Moderado"),AND(AH20="Alta",AJ20="Mayor"),AND(AH20="Muy Alta",AJ20="Leve"),AND(AH20="Muy Alta",AJ20="Menor"),AND(AH20="Muy Alta",AJ20="Moderado"),AND(AH20="Muy Alta",AJ20="Mayor")),"Alto",IF(OR(AND(AH20="Muy Baja",AJ20="Catastrófico"),AND(AH20="Baja",AJ20="Catastrófico"),AND(AH20="Media",AJ20="Catastrófico"),AND(AH20="Alta",AJ20="Catastrófico"),AND(AH20="Muy Alta",AJ20="Catastrófico")),"Extremo","")))),"") | AO20: =+IF(AN20=5,"CASI SEGURO",(IF(AN20=4,"PROBABLE",(IF(AN20=3,"POSIBLE",(IF(AN20=2,"RARA VEZ",(IF(AN20=1,"IMPROBABLE",""))))))))) | AQ20: =+IF(AP20=5,"ALTO",(IF(AP20=3,"MEDIO",(IF(AP20=1,"BAJO",IF(OR(AP20=2,AP20=4),"NO APLICA","")))))) | AR20: =IF(AND(AN20<>"",AP20<>"",AQ20<>"NO APLICA"),AN20*AP20,"") | AS20: =IF(AND(AR20<4,AR20>0),"BAJA",IF(AND(AR20>9,AR20<26),"ALTA",IF(AND(AR20>3,AR20<10),"MEDIA","")))
N21: =IF(NOT(ISERROR(MATCH(M21,_xlfn.ANCHORARRAY(G32),0))),L34&"Por favor no seleccionar los criterios de impacto",M21) -> 0 | S21: =+IF(R21=5,"CASI SEGURO",(IF(R21=4,"PROBABLE",(IF(R21=3,"POSIBLE",(IF(R21=2,"RARA VEZ",(IF(R21=1,"IMPROBABLE",""))))))))) | U21: =+IF(T21=5,"ALTO",(IF(T21=3,"MEDIO",(IF(T21=1,"BAJO",IF(OR(T21=2,T21=4),"NO APLICA","")))))) | V21: =IF(AND(R21<>"",T21<>"",U21<>"NO APLICA"),R21*T21,"") | W21: =IF(AND(V21<4,V21>0),"BAJA",IF(AND(V21>9,V21<26),"ALTA",IF(AND(V21>3,V21<10),"MEDIA",""))) | Z21: =IF(OR(AA21="Preventivo",AA21="Detectivo"),"Probabilidad",IF(AA21="Correctivo","Impacto","")) | AC21: =IF(AND(AA21="Preventivo",AB21="Automático"),"50%",IF(AND(AA21="Preventivo",AB21="Manual"),"40%",IF(AND(AA21="Detectivo",AB21="Automático"),"40%",IF(AND(AA21="Detectivo",AB21="Manual"),"30%",IF(AND(AA21="Correctivo",AB21="Automático"),"35%",IF(AND(AA21="Correctivo",AB21="Manual"),"25%","")))))) | AG21: =IFERROR(IF(AND(Z20="Probabilidad",Z21="Probabilidad"),(AI20-(+AI20*AC21)),IF(AND(Z20="Impacto",Z21="Probabilidad"),(AI19-(+AI19*AC21)),IF(Z21="Impacto",AI20,""))),"") | AH21: =IFERROR(IF(AG21="","",IF(AG21<=0.2,"Muy Baja",IF(AG21<=0.4,"Baja",IF(AG21<=0.6,"Media",IF(AG21<=0.8,"Alta","Muy Alta"))))),"") | AI21: =+AG21 | AJ21: =IFERROR(IF(AK21="","",IF(AK21<=0.2,"Leve",IF(AK21<=0.4,"Menor",IF(AK21<=0.6,"Moderado",IF(AK21<=0.8,"Mayor","Catastrófico"))))),"") | AK21: =IFERROR(IF(AND(Z20="Impacto",Z21="Impacto"),(AK20-(+AK20*AC21)),IF(AND(Z20="Probabilidad",Z21="Impacto"),(AK19-(+AK19*AC21)),IF(Z21="Probabilidad",AK20,""))),"") | AL21: =IFERROR(IF(OR(AND(AH21="Muy Baja",AJ21="Leve"),AND(AH21="Muy Baja",AJ21="Menor"),AND(AH21="Baja",AJ21="Leve")),"Bajo",IF(OR(AND(AH21="Muy baja",AJ21="Moderado"),AND(AH21="Baja",AJ21="Menor"),AND(AH21="Baja",AJ21="Moderado"),AND(AH21="Media",AJ21="Leve"),AND(AH21="Media",AJ21="Menor"),AND(AH21="Media",AJ21="Moderado"),AND(AH21="Alta",AJ21="Leve"),AND(AH21="Alta",AJ21="Menor")),"Moderado",IF(OR(AND(AH21="Muy Baja",AJ21="Mayor"),AND(AH21="Baja",AJ21="Mayor"),AND(AH21="Media",AJ21="Mayor"),AND(AH21="Alta",AJ21="Moderado"),AND(AH21="Alta",AJ21="Mayor"),AND(AH21="Muy Alta",AJ21="Leve"),AND(AH21="Muy Alta",AJ21="Menor"),AND(AH21="Muy Alta",AJ21="Moderado"),AND(AH21="Muy Alta",AJ21="Mayor")),"Alto",IF(OR(AND(AH21="Muy Baja",AJ21="Catastrófico"),AND(AH21="Baja",AJ21="Catastrófico"),AND(AH21="Media",AJ21="Catastrófico"),AND(AH21="Alta",AJ21="Catastrófico"),AND(AH21="Muy Alta",AJ21="Catastrófico")),"Extremo","")))),"") | AO21: =+IF(AN21=5,"CASI SEGURO",(IF(AN21=4,"PROBABLE",(IF(AN21=3,"POSIBLE",(IF(AN21=2,"RARA VEZ",(IF(AN21=1,"IMPROBABLE",""))))))))) | AQ21: =+IF(AP21=5,"ALTO",(IF(AP21=3,"MEDIO",(IF(AP21=1,"BAJO",IF(OR(AP21=2,AP21=4),"NO APLICA","")))))) | AR21: =IF(AND(AN21<>"",AP21<>"",AQ21<>"NO APLICA"),AN21*AP21,"") | AS21: =IF(AND(AR21<4,AR21>0),"BAJA",IF(AND(AR21>9,AR21<26),"ALTA",IF(AND(AR21>3,AR21<10),"MEDIA","")))
N22: =IF(NOT(ISERROR(MATCH(M22,_xlfn.ANCHORARRAY(G33),0))),L35&"Por favor no seleccionar los criterios de impacto",M22) -> 0 | S22: =+IF(R22=5,"CASI SEGURO",(IF(R22=4,"PROBABLE",(IF(R22=3,"POSIBLE",(IF(R22=2,"RARA VEZ",(IF(R22=1,"IMPROBABLE",""))))))))) | U22: =+IF(T22=5,"ALTO",(IF(T22=3,"MEDIO",(IF(T22=1,"BAJO",IF(OR(T22=2,T22=4),"NO APLICA","")))))) | V22: =IF(AND(R22<>"",T22<>"",U22<>"NO APLICA"),R22*T22,"") | W22: =IF(AND(V22<4,V22>0),"BAJA",IF(AND(V22>9,V22<26),"ALTA",IF(AND(V22>3,V22<10),"MEDIA",""))) | X22: 5 | Z22: =IF(OR(AA22="Preventivo",AA22="Detectivo"),"Probabilidad",IF(AA22="Correctivo","Impacto","")) | AC22: =IF(AND(AA22="Preventivo",AB22="Automático"),"50%",IF(AND(AA22="Preventivo",AB22="Manual"),"40%",IF(AND(AA22="Detectivo",AB22="Automático"),"40%",IF(AND(AA22="Detectivo",AB22="Manual"),"30%",IF(AND(AA22="Correctivo",AB22="Automático"),"35%",IF(AND(AA22="Correctivo",AB22="Manual"),"25%","")))))) | AG22: =IFERROR(IF(AND(Z21="Probabilidad",Z22="Probabilidad"),(AI21-(+AI21*AC22)),IF(AND(Z21="Impacto",Z22="Probabilidad"),(AI20-(+AI20*AC22)),IF(Z22="Impacto",AI21,""))),"") | AH22: =IFERROR(IF(AG22="","",IF(AG22<=0.2,"Muy Baja",IF(AG22<=0.4,"Baja",IF(AG22<=0.6,"Media",IF(AG22<=0.8,"Alta","Muy Alta"))))),"") | AI22: =+AG22 | AJ22: =IFERROR(IF(AK22="","",IF(AK22<=0.2,"Leve",IF(AK22<=0.4,"Menor",IF(AK22<=0.6,"Moderado",IF(AK22<=0.8,"Mayor","Catastrófico"))))),"") | AK22: =IFERROR(IF(AND(Z21="Impacto",Z22="Impacto"),(AK21-(+AK21*AC22)),IF(AND(Z21="Probabilidad",Z22="Impacto"),(AK20-(+AK20*AC22)),IF(Z22="Probabilidad",AK21,""))),"") | AL22: =IFERROR(IF(OR(AND(AH22="Muy Baja",AJ22="Leve"),AND(AH22="Muy Baja",AJ22="Menor"),AND(AH22="Baja",AJ22="Leve")),"Bajo",IF(OR(AND(AH22="Muy baja",AJ22="Moderado"),AND(AH22="Baja",AJ22="Menor"),AND(AH22="Baja",AJ22="Moderado"),AND(AH22="Media",AJ22="Leve"),AND(AH22="Media",AJ22="Menor"),AND(AH22="Media",AJ22="Moderado"),AND(AH22="Alta",AJ22="Leve"),AND(AH22="Alta",AJ22="Menor")),"Moderado",IF(OR(AND(AH22="Muy Baja",AJ22="Mayor"),AND(AH22="Baja",AJ22="Mayor"),AND(AH22="Media",AJ22="Mayor"),AND(AH22="Alta",AJ22="Moderado"),AND(AH22="Alta",AJ22="Mayor"),AND(AH22="Muy Alta",AJ22="Leve"),AND(AH22="Muy Alta",AJ22="Menor"),AND(AH22="Muy Alta",AJ22="Moderado"),AND(AH22="Muy Alta",AJ22="Mayor")),"Alto",IF(OR(AND(AH22="Muy Baja",AJ22="Catastrófico"),AND(AH22="Baja",AJ22="Catastrófico"),AND(AH22="Media",AJ22="Catastrófico"),AND(AH22="Alta",AJ22="Catastrófico"),AND(AH22="Muy Alta",AJ22="Catastrófico")),"Extremo","")))),"") | AO22: =+IF(AN22=5,"CASI SEGURO",(IF(AN22=4,"PROBABLE",(IF(AN22=3,"POSIBLE",(IF(AN22=2,"RARA VEZ",(IF(AN22=1,"IMPROBABLE",""))))))))) | AQ22: =+IF(AP22=5,"ALTO",(IF(AP22=3,"MEDIO",(IF(AP22=1,"BAJO",IF(OR(AP22=2,AP22=4),"NO APLICA","")))))) | AR22: =IF(AND(AN22<>"",AP22<>"",AQ22<>"NO APLICA"),AN22*AP22,"") | AS22: =IF(AND(AR22<4,AR22>0),"BAJA",IF(AND(AR22>9,AR22<26),"ALTA",IF(AND(AR22>3,AR22<10),"MEDIA","")))
N23: =IF(NOT(ISERROR(MATCH(M23,_xlfn.ANCHORARRAY(G34),0))),L36&"Por favor no seleccionar los criterios de impacto",M23) -> 0 | S23: =+IF(R23=5,"CASI SEGURO",(IF(R23=4,"PROBABLE",(IF(R23=3,"POSIBLE",(IF(R23=2,"RARA VEZ",(IF(R23=1,"IMPROBABLE",""))))))))) | U23: =+IF(T23=5,"ALTO",(IF(T23=3,"MEDIO",(IF(T23=1,"BAJO",IF(OR(T23=2,T23=4),"NO APLICA","")))))) | V23: =IF(AND(R23<>"",T23<>"",U23<>"NO APLICA"),R23*T23,"") | W23: =IF(AND(V23<4,V23>0),"BAJA",IF(AND(V23>9,V23<26),"ALTA",IF(AND(V23>3,V23<10),"MEDIA",""))) | X23: 6 | Z23: =IF(OR(AA23="Preventivo",AA23="Detectivo"),"Probabilidad",IF(AA23="Correctivo","Impacto","")) | AC23: =IF(AND(AA23="Preventivo",AB23="Automático"),"50%",IF(AND(AA23="Preventivo",AB23="Manual"),"40%",IF(AND(AA23="Detectivo",AB23="Automático"),"40%",IF(AND(AA23="Detectivo",AB23="Manual"),"30%",IF(AND(AA23="Correctivo",AB23="Automático"),"35%",IF(AND(AA23="Correctivo",AB23="Manual"),"25%","")))))) | AG23: =IFERROR(IF(AND(Z22="Probabilidad",Z23="Probabilidad"),(AI22-(+AI22*AC23)),IF(AND(Z22="Impacto",Z23="Probabilidad"),(AI21-(+AI21*AC23)),IF(Z23="Impacto",AI22,""))),"") | AH23: =IFERROR(IF(AG23="","",IF(AG23<=0.2,"Muy Baja",IF(AG23<=0.4,"Baja",IF(AG23<=0.6,"Media",IF(AG23<=0.8,"Alta","Muy Alta"))))),"") | AI23: =+AG23 | AJ23: =IFERROR(IF(AK23="","",IF(AK23<=0.2,"Leve",IF(AK23<=0.4,"Menor",IF(AK23<=0.6,"Moderado",IF(AK23<=0.8,"Mayor","Catastrófico"))))),"") | AK23: =IFERROR(IF(AND(Z22="Impacto",Z23="Impacto"),(AK22-(+AK22*AC23)),IF(AND(Z22="Probabilidad",Z23="Impacto"),(AK21-(+AK21*AC23)),IF(Z23="Probabilidad",AK22,""))),"") | AL23: =IFERROR(IF(OR(AND(AH23="Muy Baja",AJ23="Leve"),AND(AH23="Muy Baja",AJ23="Menor"),AND(AH23="Baja",AJ23="Leve")),"Bajo",IF(OR(AND(AH23="Muy baja",AJ23="Moderado"),AND(AH23="Baja",AJ23="Menor"),AND(AH23="Baja",AJ23="Moderado"),AND(AH23="Media",AJ23="Leve"),AND(AH23="Media",AJ23="Menor"),AND(AH23="Media",AJ23="Moderado"),AND(AH23="Alta",AJ23="Leve"),AND(AH23="Alta",AJ23="Menor")),"Moderado",IF(OR(AND(AH23="Muy Baja",AJ23="Mayor"),AND(AH23="Baja",AJ23="Mayor"),AND(AH23="Media",AJ23="Mayor"),AND(AH23="Alta",AJ23="Moderado"),AND(AH23="Alta",AJ23="Mayor"),AND(AH23="Muy Alta",AJ23="Leve"),AND(AH23="Muy Alta",AJ23="Menor"),AND(AH23="Muy Alta",AJ23="Moderado"),AND(AH23="Muy Alta",AJ23="Mayor")),"Alto",IF(OR(AND(AH23="Muy Baja",AJ23="Catastrófico"),AND(AH23="Baja",AJ23="Catastrófico"),AND(AH23="Media",AJ23="Catastrófico"),AND(AH23="Alta",AJ23="Catastrófico"),AND(AH23="Muy Alta",AJ23="Catastrófico")),"Extremo","")))),"") | AO23: =+IF(AN23=5,"CASI SEGURO",(IF(AN23=4,"PROBABLE",(IF(AN23=3,"POSIBLE",(IF(AN23=2,"RARA VEZ",(IF(AN23=1,"IMPROBABLE",""))))))))) | AQ23: =+IF(AP23=5,"ALTO",(IF(AP23=3,"MEDIO",(IF(AP23=1,"BAJO",IF(OR(AP23=2,AP23=4),"NO APLICA","")))))) | AR23: =IF(AND(AN23<>"",AP23<>"",AQ23<>"NO APLICA"),AN23*AP23,"") | AS23: =IF(AND(AR23<4,AR23>0),"BAJA",IF(AND(AR23>9,AR23<26),"ALTA",IF(AND(AR23>3,AR23<10),"MEDIA","")))
