Workbook

Sheet Intructivo
B2: Matriz Mapa de Riesgos
B4: Teniendo en cuenta que con la expedición del Decreto 1499 de 2017 “Por medio del cual se modifica el Decreto 1083 de 2015, Decreto Único Reglamentario del Sector Función Pública, en lo relacionado con el Sistema de Gestión establecido en el artículo 133 de la Ley 1753 de 2015”, se crea un solo Sistema de Gestión y se alinea con el Sistema de Control Interno, hoy todas las entidades públicas requieren actualizar y/o implementar el Modelo Integrado de Planeación y Gestión MIPG, modelo que incorpora el Modelo Estándar de Control Interno MECI a través de la 7a dimensión del mismo. En este marco general, el proceso de administración del riesgo es un esfuerzo conjunto entre la Alta Dirección y los servidores en todos sus niveles, ejercicio que inicia con la formulación de la política de Administración del Riesgo, la cual incluye los niveles de responsabilidad frente al seguimiento y evaluación, aspectos que deberán definirse acorde con el Esquema de Líneas de Defensa vinculado a la Dimensión 7. Teniendo en cuenta lo anterior y dada la necesidad de las entidades frente a la estructuración de los mapas de riesgos, como herramienta fundamental frente a la gestión del riesgo, el presente formato desarrolla un esquema completo acorde con los contenidos metodológicos de la Guía para la Administración del Riesgo y el diseño de controles V5. El formato cuenta con celdas parametrizadas y permite contar con los respectivos mapas de calor para riesgo inherente y riesgo residual.
B6: Orientaciones Generales
B7: Antes de iniciar con el diligenciamiento de la información en la matriz, se requiere haber avanzado en el análisis del proceso, su objetivo, alcance, actividades clave, considere los lineamientos establecidos en el Paso 2: identificación del riesgo, donde se explica ampliamente las bases para adelanter este análisis. Así mismo, considere en el Paso 3: valoración del riesgo los lineamientos para definir el No. de veces que se hace la actividad con la cual se relaciona el riesgo y su impacto en términos económicos o reputacionales. En este mismo paso se analizan los controles que deben responder a los atributos de eficiencia e informativos. NOTA: Si lo considera pertinente, es posible agregar hojas de trabajo adicionales al presente formato que permitan incluir la traza de estos análisis.
B9: El archivo contiene las siguientes hojas: - Hoja 1 Instructivo - Hoja 2 Mapa Final: Encontrará la totalidad de la estructura para la identificación y valoración de los riesgos por proceso, programa o proyecto, acorde con el nivel de desagregación que la entidad considere necesaria.
C12: Columna | E12: Descripción - Lineamientos para el diligenciamiento
C13: Proceso | E13: Diligencie el nombre del proceso al cual se le identificarán y valorarán los riesgos.
C14: Objetivo | E14: Diligencie el objetivo del proceso.
C15: Alcance | E15: Diligencie el alcance del proceso.
C16: Referencia | E16: Permite definir unl consecutivo de riesgos. Una entidad puede ir en el riesgo 150, pero tener 70 riesgos, lo que permite llevar una traza de los riesgos. Esta información la debe administrar la oficina asesora de planeación o gerencia de riesgos. Cuando un el riesgo salga del mapa no existirá otro riesgo con el mismo número.
C17: Impacto | E17: Analice las consecuencias que puede ocasionar a la organización la materialización del riesgo, redacte de la forma más concreta posible.
C18: Causa Inmediata | E18: Circunstancias bajo las cuales se presenta el riesgo, es la situación más evidente frente al riesgo, redacte de la forma más concreta posible.
C19: Causa Raíz | E19: Causa principal o básica, corresponde a las razones por la cuales se puede presentar el riesgo, redacte de la forma más concreta posible.
C20: Descripción del Riesgo | E20: Consolida o resume los análisis sobre impacto + causa inmediata + causa raíz, permitiendo contar con una redacción clara y concreta del riesgo indentificado. Tenga en cuenta la estructura de alto nivel establecida en al guía, inicia con POSIBILIDAD DE + Impacto para la entidad (Qué) + Causa Inmediata (Cómo) + Causa Raíz (Por qué)
C21: Clasificación del Riesgo | E21: Utilice la lista de despligue que se encuentra parametrizada, le aparecerán las opciones: i)Daños Activos Fisicos, ii)Ejecucion y Administracion de procesos, iii)Fallas Tecnologicas, iv)Fraude Externo, v)Fraude Interno, vi)Relaciones Laborales, vii)Usuarios, productos y practicas organizacionales.
C22: Frecuencia con la cual se lleva a cabo la actividad | E22: Defina el # de veces que se ejecuta la actividad durante el año, (Recuerde la probabilidad e ocurrencia del riesgo se defien como el No. de veces que se pasa por el punto de riesgo en el periodo de 1 año). La matriz automáticamente hará el cálculo para el nivel de probabilidad inherente (Columnas H-I)
C23: Criterios de Impacto | E23: Utilice la lista de despligue que se encuentra parametrizada, le aparecerán las opciones de la tabla de Impacto en la Hoja 6 del presente documento. La matriz automáticamente hará el cálculo para el nivel de impacto inherente (Columnas L-M)
... C37: Estado | E37: Utilice la lista de despligue que se encuentra parametrizada, le aparecerán las opciones: i)Finalizado, ii)En curso, la selección en este caso dependerá de las acciones del plan que se hayan establecido en cada caso.
B40: - Hoja 3 Matriz de Calor Inherente: En esta hoja, en la medida en que ese diligencia el Mapa Final, se verán reflejados los riesgos en su zona correspondiente. Esta hoja no se diligencia se genera de manera automática.
B41: - Hoja 4 Matriz de Calor Residual: En esta hoja, en la medida en que ese diligencia el Mapa Final, se verán reflejados los riesgos en su zona correspondiente. Esta hoja no se diligencia se genera de manera automática.
B42: - Hoja 5 Tabla de probabilidad: Tabla referente para todos los cálculos (no se diligencia)
B43: - Hoja 6 Tabla de Impacto: Tabla referente para todos los cálculos (no se diligencia)
B44: - Hoja 7 Tabla de Valoración de Controles: Tabla referente para todos los cálculos (no se diligencia)

Sheet Mapa final
F1: SISTEMA INTEGRADO DE GESTIÓN PLANEACIÓN ESTRATEGICA MAPA DE RIESGOS Y OPORTUNIDADES POR PROCESOS | N1: CODIGO: PCE-01-F-02
N2: Versión: 4.0
N3: FECHA: 27/12/2024
N4: Fecha Actualización: 31/12/2025
A5: Proceso: | D5: GESTIÓN DE EDUCACIÓN AMBIENTAL Y PARTICIPACIÓN CIUDADANA
A6: Objetivo: | D6: Planificar, organizar y gestionar la educación ambiental para el fortalecimiento de la cultura ambiental regional y la participación ciudadana.
A7: Alcance: | D7: Aplica a todos los procesos del sistema de gestión de calidad de CORPOCESAR.
A8: Identificación del riesgo y/o Oportunidad(es) | L8: Análisis del riesgo inherente | S8: Análisis de Oportunidades | Y8: Evaluación del riesgo - Valoración de los controles | AH8: Evaluación del riesgo - Nivel del riesgo residual | AO8: Análisis de Oportunidades con Tratamiento | AU8: Plan de Acción
A9: Referencia | C9: Impacto | E9: Causa | F9: Riesgo | G9: Descripción del Riesgo | J9: Clasificación del Riesgo | K9: Frecuencia con la cual se realiza la actividad | L9: Probabilidad Inherente | M9: % | N9: Criterios de impacto | O9: Observación de criterio | P9: Impacto Inherente | Q9: % | R9: Zona de Riesgo Inherente | S9: Calificación | W9: Evaluación | Y9: No. Control | Z9: Descripción del Control para Riesgos y/o Oportunidad(es) | AA9: Afectación | AB9: Atributos | AH9: Probabilidad Residual | AI9: Probabilidad Residual Final | AJ9: % | AK9: Impacto Residual Final | AL9: % | AM9: Zona de Riesgo Final | AN9: Tratamiento | AO9: Calificación | AS9: Evaluación | AU9: Plan de Acción | AV9: Responsable | AW9: Fecha Implementación | AX9: Fecha Seguimiento | AY9: Seguimiento | AZ9: Estado
B10: Objetivo Estratégico | D10: Contexto Estrategico Interno-Externo-Proceso | H10: Oportunidad (es) | I10: Consecuencia | S10: Probabilidad | U10: Impacto | W10: Nivel de la Oportunidad | X10: Zona de Oportunidad | AB10: Tipo | AC10: Implementación | AD10: Calificación | AE10: Documentación | AF10: Frecuencia | AG10: Evidencia | AO10: Probabilidad | AQ10: Impacto | AS10: Nivel de la oportunidad | AT10: Zona de la Oportunidad con Tratamiento
A11: 1 | B11: Administrar los recursos naturales renovables y el ambiente en el área de su jurisdicción, generando conocimiento y adelantando procesos de sensibilización que permitan su conservación, recuperación, manejo y uso sostenible. Lograr la satisfacción de los diferentes actores sociales involucrados en la ejecución de la misión de la Corporación.. | C11: Reputacional | D11: Economico | E11: 1. Deficiente autocontrol en la revision previa. 2. No cumplir con las actividades planteadas. 3. Inaplicabilidad de la norma. 4. Falta de apoyo de la alta dirección para que el área financiera pueda cumplir con las acciones acordadas en el plan de mejoramiento. | F11: Descoordinación inter institucional en los entes territoriales para la implementación de la Politica Nacional de Educación Ambiental en los instrumentos de planificación territorial. De igual manera poca permanencia de los actores institucionales en el proceso, por ser en su mayoria de contratos. | G11: Probabilidad de no alcanzar la eficacia y eifciencia de los objetivos establecidos para cada una de las actividades educativas relativas al ambiente, cuando, debido a una o mas causas de las definidas, no permiten alcanzar con efectividad y eficacia el cumplimiento de los objetivos especificos que se persiguen con el desarrollo de cada una de las actividades, sobre todo cuando los grupos de valor y grupos de interés tienen necesidades y expectativas deseosas de que sen cumplidas por la Corporación. | H11: Participación ciudadana como veedores ambientales | I11: Incumplimiento de los objetivos en las actividades de educación ambiental | J11: Ejecucion y Administracion de procesos | K11: 25 | L11: =IF(K11<=0,"",IF(K11<=2,"Muy Baja",IF(K11<=24,"Baja",IF(K11<=500,"Media",IF(K11<=5000,"Alta","Muy Alta"))))) -> Media | M11: =IF(L11="","",IF(L11="Muy Baja",0.2,IF(L11="Baja",0.4,IF(L11="Media",0.6,IF(L11="Alta",0.8,IF(L11="Muy Alta",1,)))))) -> 0.6 | N11: El riesgo afecta la imagen de la entidad con algunos usuarios de relevancia frente al logro de los objetivos | O11: =IF(NOT(ISERROR(MATCH(N11,'Tabla Impacto'!$B$221:$B$223,0))),'Tabla Impacto'!$F$223&"Por favor no seleccionar los criterios de impacto(Afectación Económica o presupuestal y Pérdida Reputacional)",N11) -> El riesgo afecta la imagen de la entidad con algunos usuarios de relevancia frente al logro de los objetivos | P11: =IF(OR(O11='Tabla Impacto'!$C$11,O11='Tabla Impacto'!$D$11),"Leve",IF(OR(O11='Tabla Impacto'!$C$12,O11='Tabla Impacto'!$D$12),"Menor",IF(OR(O11='Tabla Impacto'!$C$13,O11='Tabla Impacto'!$D$13),"Moderado",IF(OR(O11='Tabla Impacto'!$C$14,O11='Tabla Impacto'!$D$14),"Mayor",IF(OR(O11='Tabla Impacto'!$C$15,O11='Tabla Impacto'!$D$15),"Catastrófico",""))))) -> Moderado | Q11: =IF(P11="","",IF(P11="Leve",0.2,IF(P11="Menor",0.4,IF(P11="Moderado",0.6,IF(P11="Mayor",0.8,IF(P11="Catastrófico",1,)))))) -> 0.6 | R11: =IF(OR(AND(L11="Muy Baja",P11="Leve"),AND(L11="Muy Baja",P11="Menor"),AND(L11="Baja",P11="Leve")),"Bajo",IF(OR(AND(L11="Muy baja",P11="Moderado"),AND(L11="Baja",P11="Menor"),AND(L11="Baja",P11="Moderado"),AND(L11="Media",P11="Leve"),AND(L11="Media",P11="Menor"),AND(L11="Media",P11="Moderado"),AND(L11="Alta",P11="Leve"),AND(L11="Alta",P11="Menor")),"Moderado",IF(OR(AND(L11="Muy Baja",P11="Mayor"),AND(L11="Baja",P11="Mayor"),AND(L11="Media",P11="Mayor"),AND(L11="Alta",P11="Moderado"),AND(L11="Alta",P11="Mayor"),AND(L11="Muy Alta",P11="Leve"),AND(L11="Muy Alta",P11="Menor"),AND(L11="Muy Alta",P11="Moderado"),AND(L11="Muy Alta",P11="Mayor")),"Alto",IF(OR(AND(L11="Muy Baja",P11="Catastrófico"),AND(L11="Baja",P11="Catastrófico"),AND(L11="Media",P11="Catastrófico"),AND(L11="Alta",P11="Catastrófico"),AND(L11="Muy Alta",P11="Catastrófico")),"Extremo","")))) -> Moderado | S11: 3 | T11: =+IF(S11=5,"CASI SEGURO",(IF(S11=4,"PROBABLE",(IF(S11=3,"POSIBLE",(IF(S11=2,"RARA VEZ",(IF(S11=1,"IMPROBABLE",""))))))))) -> POSIBLE | U11: 3 | V11: =+IF(U11=5,"ALTO",(IF(U11=3,"MEDIO",(IF(U11=1,"BAJO",IF(OR(U11=2,U11=4),"NO APLICA","")))))) -> MEDIO | W11: =IF(AND(S11<>"",U11<>"",V11<>"NO APLICA"),S11*U11,"") -> 9 | X11: =IF(AND(W11<4,W11>0),"BAJA",IF(AND(W11>9,W11<26),"ALTA",IF(AND(W11>3,W11<10),"MEDIA",""))) -> MEDIA | Y11: 1 | Z11: Utilizar todas las estrategias para el acompañamiento institucional gubernamental y no gubernamental. | AA11: =IF(OR(AB11="Preventivo",AB11="Detectivo"),"Probabilidad",IF(AB11="Correctivo","Impacto","")) -> Impacto | AB11: Correctivo | AC11: Manual | AD11: =IF(AND(AB11="Preventivo",AC11="Automático"),"50%",IF(AND(AB11="Preventivo",AC11="Manual"),"40%",IF(AND(AB11="Detectivo",AC11="Automático"),"40%",IF(AND(AB11="Detectivo",AC11="Manual"),"30%",IF(AND(AB11="Correctivo",AC11="Automático"),"35%",IF(AND(AB11="Correctivo",AC11="Manual"),"25%","")))))) -> 25% | AE11: Documentado | AF11: Continua | AG11: Con Registro | AH11: =IFERROR(IF(AA11="Probabilidad",(M11-(+M11*AD11)),IF(AA11="Impacto",M11,"")),"") -> 0.6 | AI11: =IFERROR(IF(AH11="","",IF(AH11<=0.2,"Muy Baja",IF(AH11<=0.4,"Baja",IF(AH11<=0.6,"Media",IF(AH11<=0.8,"Alta","Muy Alta"))))),"") -> Media | AJ11: =+AH11 -> 0.6 | AK11: =IFERROR(IF(AL11="","",IF(AL11<=0.2,"Leve",IF(AL11<=0.4,"Menor",IF(AL11<=0.6,"Moderado",IF(AL11<=0.8,"Mayor","Catastrófico"))))),"") -> Moderado | AL11: =IFERROR(IF(AA11="Impacto",(Q11-(+Q11*AD11)),IF(AA11="Probabilidad",Q11,"")),"") -> 0.45 | AM11: =IFERROR(IF(OR(AND(AI11="Muy Baja",AK11="Leve"),AND(AI11="Muy Baja",AK11="Menor"),AND(AI11="Baja",AK11="Leve")),"Bajo",IF(OR(AND(AI11="Muy baja",AK11="Moderado"),AND(AI11="Baja",AK11="Menor"),AND(AI11="Baja",AK11="Moderado"),AND(AI11="Media",AK11="Leve"),AND(AI11="Media",AK11="Menor"),AND(AI11="Media",AK11="Moderado"),AND(AI11="Alta",AK11="Leve"),AND(AI11="Alta",AK11="Menor")),"Moderado",IF(OR(AND(AI11="Muy Baja",AK11="Mayor"),AND(AI11="Baja",AK11="Mayor"),AND(AI11="Media",AK11="Mayor"),AND(AI11="Alta",AK11="Moderado"),AND(AI11="Alta",AK11="Mayor"),AND(AI11="Muy Alta",AK11="Leve"),AND(AI11="Muy Alta",AK11="Menor"),AND(AI11="Muy Alta",AK11="Moderado"),AND(AI11="Muy Alta",AK11="Mayor")),"Alto",IF(OR(AND(AI11="Muy Baja",AK11="Catastrófico"),AND(AI11="Baja",AK11="Catastrófico"),AND(AI11="Media",AK11="Catastrófico"),AND(AI11="Alta",AK11="Catastrófico"),AND(AI11="Muy Alta",AK11="Catastrófico")),"Extremo","")))),"") -> Moderado | AN11: Reducir (mitigar) | AO11: 4 | AP11: =+IF(AO11=5,"CASI SEGURO",(IF(AO11=4,"PROBABLE",(IF(AO11=3,"POSIBLE",(IF(AO11=2,"RARA VEZ",(IF(AO11=1,"IMPROBABLE",""))))))))) -> PROBABLE | AQ11: 5 | AR11: =+IF(AQ11=5,"ALTO",(IF(AQ11=3,"MEDIO",(IF(AQ11=1,"BAJO",IF(OR(AQ11=2,AQ11=4),"NO APLICA","")))))) -> ALTO | AS11: =IF(AND(AO11<>"",AQ11<>"",AR11<>"NO APLICA"),AO11*AQ11,"") -> 20 | AT11: =IF(AND(AS11<4,AS11>0),"BAJA",IF(AND(AS11>9,AS11<26),"ALTA",IF(AND(AS11>3,AS11<10),"MEDIA",""))) -> ALTA | AU11: Obtención recursos a través de gestión. | AV11: Profesional Coordinador GIT para la gestión de la educación ambiental y la participación ciudadana | AW11: Enero a Diciembre de 2025 | AX11: Semestral | AY11: Durante el transcurso de la vigencia y finalizando año, se llevaron a cabo alianzas con entes a nivel nacional, municipal y departamental como lo son el MADS, con la Academia Colombiana de las Ciencias Exactas, Físicas y Naturales, ALEC- la SEM para curso hibrido Educación para enfrentar el Cambio Climático además de instituciones Secretaria de Educación Departamental, Secretaria de Educación Municipal, Secretaria de Ambiente, JAC, coordinadores ambientales, UMATAS, jefes de núcleos, docentes dinamizadores PRAES, para el fortalecimiento de la educación ambiental y la participación ciudadana, estas reuniones se han llevado a cabo durante el año en curso y se cuenta con actas, listado de asistencia, registro fotográfico y pantallazos. Estas alianzas se hicieron con el fin de fortalecer el trabajo interinstitucional y abordar problemáticas de manera conjunta para encontrar posibles soluciones. Para la Oportunidad: En el mes de noviembre de 2025, la Coordinación de Educación Ambiental y Participación Ciudadana de Corpocesar realizó una serie de visitas a los municipios de El Copey, Bosconia, El Paso, Pailitas y el corregimiento Puerto Patiño en Aguachica, con el objetivo de fortalecer los procesos de gestión ambiental y promover prácticas sostenibles en las comunidades. Durante las visitas, se brindó asistencia técnica en la implementación de estrategias clave del Sistema de Gestión Ambiental Municipal (SIGAM) y se revisó el rol y participación de los Veedores Ambientales Comunitarios. Además, se entregaron árboles maderables en Pailitas y Puerto Patiño, contribuyendo al fortalecimiento de procesos de recuperación ambiental y reforestación. Logros: – Entrega de 80 árboles maderables en Pailitas y 120 en Puerto Patiño. – Asistencia técnica en la implementación de SIGAM, CIDEA, PRAES y PROCEDA. – Fortalecimiento de la participación de los Veedores Ambientales Comunitarios. – Programación de capacitaciones para fortalecer conocimientos y habilidades. Evidencia: https://www.midiario.co/2025/12/02/corpocesar-fortalece-gestion-ambiental-en-cinco-municipios-del-cesar/ | AZ11: Finalizado
D12: Humano | O12: =IF(NOT(ISERROR(MATCH(N12,_xlfn.ANCHORARRAY(G24),0))),M26&"Por favor no seleccionar los criterios de impacto",N12) -> 0 | Y12: 2 | Z12: Acompañar a los entes territoriales en el cumplimiento de sus metas enmarcadas en el PDM. | AA12: =IF(OR(AB12="Preventivo",AB12="Detectivo"),"Probabilidad",IF(AB12="Correctivo","Impacto","")) -> Probabilidad | AB12: Preventivo | AC12: Manual | AD12: =IF(AND(AB12="Preventivo",AC12="Automático"),"50%",IF(AND(AB12="Preventivo",AC12="Manual"),"40%",IF(AND(AB12="Detectivo",AC12="Automático"),"40%",IF(AND(AB12="Detectivo",AC12="Manual"),"30%",IF(AND(AB12="Correctivo",AC12="Automático"),"35%",IF(AND(AB12="Correctivo",AC12="Manual"),"25%","")))))) -> 40% | AE12: Documentado | AF12: Continua | AG12: Con Registro | AH12: =IFERROR(IF(AND(AA11="Probabilidad",AA12="Probabilidad"),(AJ11-(+AJ11*AD12)),IF(AA12="Probabilidad",(M11-(+M11*AD12)),IF(AA12="Impacto",AJ11,""))),"") -> 0.36 | AI12: =IFERROR(IF(AH12="","",IF(AH12<=0.2,"Muy Baja",IF(AH12<=0.4,"Baja",IF(AH12<=0.6,"Media",IF(AH12<=0.8,"Alta","Muy Alta"))))),"") -> Baja | AJ12: =+AH12 -> 0.36 | AK12: =IFERROR(IF(AL12="","",IF(AL12<=0.2,"Leve",IF(AL12<=0.4,"Menor",IF(AL12<=0.6,"Moderado",IF(AL12<=0.8,"Mayor","Catastrófico"))))),"") -> Moderado | AL12: =IFERROR(IF(AND(AA11="Impacto",AA12="Impacto"),(AL11-(+AL11*AD12)),IF(AA12="Impacto",(Q11-(+Q11*AD12)),IF(AA12="Probabilidad",AL11,""))),"") -> 0.45 | AM12: =IFERROR(IF(OR(AND(AI12="Muy Baja",AK12="Leve"),AND(AI12="Muy Baja",AK12="Menor"),AND(AI12="Baja",AK12="Leve")),"Bajo",IF(OR(AND(AI12="Muy baja",AK12="Moderado"),AND(AI12="Baja",AK12="Menor"),AND(AI12="Baja",AK12="Moderado"),AND(AI12="Media",AK12="Leve"),AND(AI12="Media",AK12="Menor"),AND(AI12="Media",AK12="Moderado"),AND(AI12="Alta",AK12="Leve"),AND(AI12="Alta",AK12="Menor")),"Moderado",IF(OR(AND(AI12="Muy Baja",AK12="Mayor"),AND(AI12="Baja",AK12="Mayor"),AND(AI12="Media",AK12="Mayor"),AND(AI12="Alta",AK12="Moderado"),AND(AI12="Alta",AK12="Mayor"),AND(AI12="Muy Alta",AK12="Leve"),AND(AI12="Muy Alta",AK12="Menor"),AND(AI12="Muy Alta",AK12="Moderado"),AND(AI12="Muy Alta",AK12="Mayor")),"Alto",IF(OR(AND(AI12="Muy Baja",AK12="Catastrófico"),AND(AI12="Baja",AK12="Catastrófico"),AND(AI12="Media",AK12="Catastrófico"),AND(AI12="Alta",AK12="Catastrófico"),AND(AI12="Muy Alta",AK12="Catastrófico")),"Extremo","")))),"") -> Moderado | AU12: Desarrollar estrategías para buscar sentidos pertenencia y pertinencia en los actores internos y externos. | AV12: Profesional Coordinador GIT y Grupo para la gestión de la educación ambiental y la participación ciudadana, y otras dependencias | AW12: Enero a Diciembre de 2025 | AX12: Trimestral | AY12: EL GIT participó en el Encuentro Educación Ambiental Cesar CIDEA, con el apoyo del MADS, este se llevó a cabo el 14 de noviembre del 2025 y se tienen como evidencia fotos, actas, listado de asistencia, se participó en la reunión virtual sobre los Avances de la implementación acuerdo de Escazú el 25 de noviembre de 2025, se cuenta con pantallazos de estas actividades, se realizaron acercamientos virtuales sobre curso virtual educación para enfrentar el cambio climático, con alianzas con SEM, ALEC y CORPOCESAR, este se llevara a cabo durante el primer semestre 2026. | AZ12: Finalizado
D13: Tecnologico | H13: Aumento en la participación del sector educativo en la integración de la educación en cambio climático para los proyectos educativos institucionales. | O13: =IF(NOT(ISERROR(MATCH(N13,_xlfn.ANCHORARRAY(G25),0))),M27&"Por favor no seleccionar los criterios de impacto",N13) -> 0 | Y13: 3 | Z13: Faicilitar el asesoramiento permanente a los grupos de valor y grupos de interes asentados en los 25 municipios que integran el Departamento del Cesar. | AA13: =IF(OR(AB13="Preventivo",AB13="Detectivo"),"Probabilidad",IF(AB13="Correctivo","Impacto","")) -> Probabilidad | AB13: Preventivo | AC13: Manual | AD13: =IF(AND(AB13="Preventivo",AC13="Automático"),"50%",IF(AND(AB13="Preventivo",AC13="Manual"),"40%",IF(AND(AB13="Detectivo",AC13="Automático"),"40%",IF(AND(AB13="Detectivo",AC13="Manual"),"30%",IF(AND(AB13="Correctivo",AC13="Automático"),"35%",IF(AND(AB13="Correctivo",AC13="Manual"),"25%","")))))) -> 40% | AE13: Documentado | AF13: Continua | AG13: Con Registro | AH13: =IFERROR(IF(AND(AA12="Probabilidad",AA13="Probabilidad"),(AJ12-(+AJ12*AD13)),IF(AND(AA12="Impacto",AA13="Probabilidad"),(AJ11-(+AJ11*AD13)),IF(AA13="Impacto",AJ12,""))),"") -> 0.216 | AI13: =IFERROR(IF(AH13="","",IF(AH13<=0.2,"Muy Baja",IF(AH13<=0.4,"Baja",IF(AH13<=0.6,"Media",IF(AH13<=0.8,"Alta","Muy Alta"))))),"") -> Baja | AJ13: =+AH13 -> 0.216 | AK13: =IFERROR(IF(AL13="","",IF(AL13<=0.2,"Leve",IF(AL13<=0.4,"Menor",IF(AL13<=0.6,"Moderado",IF(AL13<=0.8,"Mayor","Catastrófico"))))),"") -> Moderado | AL13: =IFERROR(IF(AND(AA12="Impacto",AA13="Impacto"),(AL12-(+AL12*AD13)),IF(AND(AA12="Probabilidad",AA13="Impacto"),(AL11-(+AL11*AD13)),IF(AA13="Probabilidad",AL12,""))),"") -> 0.45 | AM13: =IFERROR(IF(OR(AND(AI13="Muy Baja",AK13="Leve"),AND(AI13="Muy Baja",AK13="Menor"),AND(AI13="Baja",AK13="Leve")),"Bajo",IF(OR(AND(AI13="Muy baja",AK13="Moderado"),AND(AI13="Baja",AK13="Menor"),AND(AI13="Baja",AK13="Moderado"),AND(AI13="Media",AK13="Leve"),AND(AI13="Media",AK13="Menor"),AND(AI13="Media",AK13="Moderado"),AND(AI13="Alta",AK13="Leve"),AND(AI13="Alta",AK13="Menor")),"Moderado",IF(OR(AND(AI13="Muy Baja",AK13="Mayor"),AND(AI13="Baja",AK13="Mayor"),AND(AI13="Media",AK13="Mayor"),AND(AI13="Alta",AK13="Moderado"),AND(AI13="Alta",AK13="Mayor"),AND(AI13="Muy Alta",AK13="Leve"),AND(AI13="Muy Alta",AK13="Menor"),AND(AI13="Muy Alta",AK13="Moderado"),AND(AI13="Muy Alta",AK13="Mayor")),"Alto",IF(OR(AND(AI13="Muy Baja",AK13="Catastrófico"),AND(AI13="Baja",AK13="Catastrófico"),AND(AI13="Media",AK13="Catastrófico"),AND(AI13="Alta",AK13="Catastrófico"),AND(AI13="Muy Alta",AK13="Catastrófico")),"Extremo","")))),"") -> Moderado | AU13: Buscar alianzas con aliados que tengan fortaleza en este componente internos y externos. | AV13: Profesional Coordinador GIT y Grupo para la gestión de la educación ambiental y la participación ciudadana, y otras dependencias | AW13: Enero a Diciembre de 2025 | AX13: Trimestral | AY13: Se buscó como aliado al Ministerio de Ambiente y Desarrollo Sostenible (MADS), los cuales brindaron asistencia técnica CIDEA y la Estrategia Nacional de Educación Ambiental y se llevó a cabo de manera presencial el día 14 de noviembre de 2025 el Encuentro Educación Ambiental Cesar CIDEA, este encuentro buscó el fortalecimiento y dinamización de los comités técnicos Interinstitucionales de educación ambiental (CIDEA), del Cesar y de los municipios, participaron coordinadores ambientales de algunos municipios, asimismo la Secretaría de Ambiente Departamental y Secretaría de Educación Departamental. De igual forma durante el mes de octubre, noviembre y diciembre se llevaron a cabo reuniones de trabajo con la Academia Colombiana de las Ciencias Exactas, Físicas y Naturales, ALEC- la SEM y CORPOCESAR para curso virtual Educación para enfrentar el Cambio Climático, se realizó alianza con estudiantes de la UPC para trabajar en torno a la problemática del rio Guatapurí a través del proyecto Guatapurí Eco- vive. | AZ13: Finalizado
S14: 3 | T14: =+IF(S14=5,"CASI SEGURO",(IF(S14=4,"PROBABLE",(IF(S14=3,"POSIBLE",(IF(S14=2,"RARA VEZ",(IF(S14=1,"IMPROBABLE",""))))))))) -> POSIBLE | U14: 5 | V14: =+IF(U14=5,"ALTO",(IF(U14=3,"MEDIO",(IF(U14=1,"BAJO",IF(OR(U14=2,U14=4),"NO APLICA","")))))) -> ALTO | W14: =IF(AND(S14<>"",U14<>"",V14<>"NO APLICA"),S14*U14,"") -> 15 | X14: =IF(AND(W14<4,W14>0),"BAJA",IF(AND(W14>9,W14<26),"ALTA",IF(AND(W14>3,W14<10),"MEDIA",""))) -> ALTA | Z14: Para la oportunidad: Acercamientos y apoyo a las instituciones educativas en la integración de la educación en cambio climático para los proyectos educativos institucionales. | AO14: 4 | AP14: =+IF(AO14=5,"CASI SEGURO",(IF(AO14=4,"PROBABLE",(IF(AO14=3,"POSIBLE",(IF(AO14=2,"RARA VEZ",(IF(AO14=1,"IMPROBABLE",""))))))))) -> PROBABLE | AQ14: 5 | AR14: =+IF(AQ14=5,"ALTO",(IF(AQ14=3,"MEDIO",(IF(AQ14=1,"BAJO",IF(OR(AQ14=2,AQ14=4),"NO APLICA","")))))) -> ALTO | AS14: =IF(AND(AO14<>"",AQ14<>"",AR14<>"NO APLICA"),AO14*AQ14,"") -> 20 | AT14: =IF(AND(AS14<4,AS14>0),"BAJA",IF(AND(AS14>9,AS14<26),"ALTA",IF(AND(AS14>3,AS14<10),"MEDIA",""))) -> ALTA | AU14: Brindar Apoyo a las instituciones educativas, entes municipales, comunidad, en la integración de la educación en cambio climático | AW14: Enero a Diciembre de 2025 | AX14: Semestral | AY14: En el marco de nuestra estrategia de educación ambiental y participación ciudadana, Corpocesar lideró una significativa jornada en la vereda La Iberia, municipio de Agustín Codazzi, con el propósito de proteger los ecosistemas locales y promover la cultura del cuidado ambiental en la comunidad. La actividad inició con un recorrido por los caminos que conducen al Caño Azul, siguiendo la ruta demarcada por el Comité Ambiental “Las Recoje Potes”, donde se recolectaron residuos sólidos que afectaban la biodiversidad y el paisaje natural del territorio. Como acción complementaria y sostenible, entregamos 100 árboles frutales a las familias de la comunidad, quienes asumieron el compromiso de sembrarlos en sus parcelas, garantizar su mantenimiento y reponerlos en caso de pérdida, firmando un acta que respalda su sentido de pertenencia y responsabilidad ambiental. Cada árbol se convierte en un símbolo de esperanza y vida, aportando a la recuperación del entorno, a la seguridad alimentaria y a la lucha contra el cambio climático. Evidencia: https://www.instagram.com/reel/DN6iHOFDyHP/?igsh=MWdyOWFpa2pnMmh4bg== Durante la vigencia 2025, CORPOCESAR avanzó en la gestión de medidas integrales de adaptación y mitigación al cambio climático mediante la ejecución del proyecto denominado: “Implementación de medidas de adaptación y mitigación al cambio climático y recuperación del recurso ictiológico en ecosistemas priorizados en la jurisdicción de CORPOCESAR, departamento del Cesar”. | AZ14: Finalizado
O15: =IF(NOT(ISERROR(MATCH(N15,_xlfn.ANCHORARRAY(G26),0))),M28&"Por favor no seleccionar los criterios de impacto",N15) -> 0 | T15: =+IF(S15=5,"CASI SEGURO",(IF(S15=4,"PROBABLE",(IF(S15=3,"POSIBLE",(IF(S15=2,"RARA VEZ",(IF(S15=1,"IMPROBABLE",""))))))))) | V15: =+IF(U15=5,"ALTO",(IF(U15=3,"MEDIO",(IF(U15=1,"BAJO",IF(OR(U15=2,U15=4),"NO APLICA","")))))) | W15: =IF(AND(S15<>"",U15<>"",V15<>"NO APLICA"),S15*U15,"") | X15: =IF(AND(W15<4,W15>0),"BAJA",IF(AND(W15>9,W15<26),"ALTA",IF(AND(W15>3,W15<10),"MEDIA",""))) | Y15: 4 | Z15: Comunicación permanente a traves de todos los medios de comunicación con los actores institucionales gubernamentales y no gubernamentales con derechos y deberes en lo ambiental. | AA15: =IF(OR(AB15="Preventivo",AB15="Detectivo"),"Probabilidad",IF(AB15="Correctivo","Impacto","")) -> Probabilidad | AB15: Preventivo | AC15: Manual | AD15: =IF(AND(AB15="Preventivo",AC15="Automático"),"50%",IF(AND(AB15="Preventivo",AC15="Manual"),"40%",IF(AND(AB15="Detectivo",AC15="Automático"),"40%",IF(AND(AB15="Detectivo",AC15="Manual"),"30%",IF(AND(AB15="Correctivo",AC15="Automático"),"35%",IF(AND(AB15="Correctivo",AC15="Manual"),"25%","")))))) -> 40% | AE15: Documentado | AF15: Continua | AG15: Con Registro | AH15: =IFERROR(IF(AND(AA13="Probabilidad",AA15="Probabilidad"),(AJ13-(+AJ13*AD15)),IF(AND(AA13="Impacto",AA15="Probabilidad"),(AJ12-(+AJ12*AD15)),IF(AA15="Impacto",AJ13,""))),"") -> 0.1296 | AI15: =IFERROR(IF(AH15="","",IF(AH15<=0.2,"Muy Baja",IF(AH15<=0.4,"Baja",IF(AH15<=0.6,"Media",IF(AH15<=0.8,"Alta","Muy Alta"))))),"") -> Muy Baja | AJ15: =+AH15 -> 0.1296 | AK15: =IFERROR(IF(AL15="","",IF(AL15<=0.2,"Leve",IF(AL15<=0.4,"Menor",IF(AL15<=0.6,"Moderado",IF(AL15<=0.8,"Mayor","Catastrófico"))))),"") -> Moderado | AL15: =IFERROR(IF(AND(AA13="Impacto",AA15="Impacto"),(AL13-(+AL13*AD15)),IF(AND(AA13="Probabilidad",AA15="Impacto"),(AL12-(+AL12*AD15)),IF(AA15="Probabilidad",AL13,""))),"") -> 0.45 | AM15: =IFERROR(IF(OR(AND(AI15="Muy Baja",AK15="Leve"),AND(AI15="Muy Baja",AK15="Menor"),AND(AI15="Baja",AK15="Leve")),"Bajo",IF(OR(AND(AI15="Muy baja",AK15="Moderado"),AND(AI15="Baja",AK15="Menor"),AND(AI15="Baja",AK15="Moderado"),AND(AI15="Media",AK15="Leve"),AND(AI15="Media",AK15="Menor"),AND(AI15="Media",AK15="Moderado"),AND(AI15="Alta",AK15="Leve"),AND(AI15="Alta",AK15="Menor")),"Moderado",IF(OR(AND(AI15="Muy Baja",AK15="Mayor"),AND(AI15="Baja",AK15="Mayor"),AND(AI15="Media",AK15="Mayor"),AND(AI15="Alta",AK15="Moderado"),AND(AI15="Alta",AK15="Mayor"),AND(AI15="Muy Alta",AK15="Leve"),AND(AI15="Muy Alta",AK15="Menor"),AND(AI15="Muy Alta",AK15="Moderado"),AND(AI15="Muy Alta",AK15="Mayor")),"Alto",IF(OR(AND(AI15="Muy Baja",AK15="Catastrófico"),AND(AI15="Baja",AK15="Catastrófico"),AND(AI15="Media",AK15="Catastrófico"),AND(AI15="Alta",AK15="Catastrófico"),AND(AI15="Muy Alta",AK15="Catastrófico")),"Extremo","")))),"") -> Moderado | AP15: =+IF(AO15=5,"CASI SEGURO",(IF(AO15=4,"PROBABLE",(IF(AO15=3,"POSIBLE",(IF(AO15=2,"RARA VEZ",(IF(AO15=1,"IMPROBABLE",""))))))))) | AR15: =+IF(AQ15=5,"ALTO",(IF(AQ15=3,"MEDIO",(IF(AQ15=1,"BAJO",IF(OR(AQ15=2,AQ15=4),"NO APLICA","")))))) | AS15: =IF(AND(AO15<>"",AQ15<>"",AR15<>"NO APLICA"),AO15*AQ15,"") | AT15: =IF(AND(AS15<4,AS15>0),"BAJA",IF(AND(AS15>9,AS15<26),"ALTA",IF(AND(AS15>3,AS15<10),"MEDIA",""))) | AU15: Acompañamiento a los grupos de valor y grupos de interes en los entes territoriales para el cumplimiento de sus necesidades y expectativas. | AV15: Profesional Coordinador GIT y Grupo para la gestión de la educación ambiental y la participación ciudadana, y otras dependencias | AW15: Enero a Diciembre de 2025 | AX15: Trimestral | AY15: Durante los meses de octubre, noviembre y diciembre de 2025, se desarrollaron diversas actividades de educación ambiental y participación ciudadana en diferentes territorios del departamento del Cesar. Se realizó el acompañamiento a la feria EXPOCORPOCESAR, se participó en el primer encuentro de Educación Ambiental Cesar, con el acompañamiento del CIDEA Cesar y municipales, se acompañó a la IE Oswaldo Quintana en la conmemoración contra el Cambio Climático y a la IE Cesar Pompeyo en su reinado ecológico. Asimismo, se participó en un académico virtual, realizado por la Universidad distrital Francisco José de Caldas, el foro de Política Nacional de Educación Ambiental. Se participó de manera virtual en la reunión del MADS sobre los avances de la implementación acuerdo de Escazú.De igual forma, se adelantaron acciones en el balneario La Vega (Cesar), relacionadas con la creación de vigías ambientales, en acompañamiento de la estrategia de Educación Ambiental. Se realizaron reuniones de trabajo con la Academia Colombiana de las Ciencias Exactas, Físicas y Naturales, ALEC- la secretaria de Educación Municipal para curso hibrido Educación para enfrentar el Cambio Climático, dirigido a docentes y actores ambientales municipales, que se llevara a cabo en el primer semestre de 2026. En el corregimiento de El Jabo se llevaron a cabo una jornada de siembra y procesos de educación ambiental y entrega de chalecos a estudiantes formados como vigías ambientales, con la comunidad educativa de la Escuela Nueva de El Jabo, en Valledupar, se entregaron donaciones en la casa del adulto mayor sede Mayales y el acompañamiento a talleres comunitarios como Guatapurí Eco- vive con estudiantes del programa de sociología de la UPC y se realizaron reuniones de revisión PRAES con la SED, Todas las actividades ejecutadas cuentan con sus respectivos soportes, tales como actas, listados de asistencia, registros fotográficos y, en el caso de eventos virtuales, pantallazos que evidencian su realización. | AZ15: Finalizado
O16: =IF(NOT(ISERROR(MATCH(N16,_xlfn.ANCHORARRAY(G27),0))),M29&"Por favor no seleccionar los criterios de impacto",N16) -> 0 | T16: =+IF(S16=5,"CASI SEGURO",(IF(S16=4,"PROBABLE",(IF(S16=3,"POSIBLE",(IF(S16=2,"RARA VEZ",(IF(S16=1,"IMPROBABLE",""))))))))) | V16: =+IF(U16=5,"ALTO",(IF(U16=3,"MEDIO",(IF(U16=1,"BAJO",IF(OR(U16=2,U16=4),"NO APLICA","")))))) | W16: =IF(AND(S16<>"",U16<>"",V16<>"NO APLICA"),S16*U16,"") | X16: =IF(AND(W16<4,W16>0),"BAJA",IF(AND(W16>9,W16<26),"ALTA",IF(AND(W16>3,W16<10),"MEDIA",""))) | Y16: 5 | AA16: =IF(OR(AB16="Preventivo",AB16="Detectivo"),"Probabilidad",IF(AB16="Correctivo","Impacto","")) | AD16: =IF(AND(AB16="Preventivo",AC16="Automático"),"50%",IF(AND(AB16="Preventivo",AC16="Manual"),"40%",IF(AND(AB16="Detectivo",AC16="Automático"),"40%",IF(AND(AB16="Detectivo",AC16="Manual"),"30%",IF(AND(AB16="Correctivo",AC16="Automático"),"35%",IF(AND(AB16="Correctivo",AC16="Manual"),"25%","")))))) | AH16: =IFERROR(IF(AND(AA15="Probabilidad",AA16="Probabilidad"),(AJ15-(+AJ15*AD16)),IF(AND(AA15="Impacto",AA16="Probabilidad"),(AJ13-(+AJ13*AD16)),IF(AA16="Impacto",AJ15,""))),"") | AI16: =IFERROR(IF(AH16="","",IF(AH16<=0.2,"Muy Baja",IF(AH16<=0.4,"Baja",IF(AH16<=0.6,"Media",IF(AH16<=0.8,"Alta","Muy Alta"))))),"") | AJ16: =+AH16 | AK16: =IFERROR(IF(AL16="","",IF(AL16<=0.2,"Leve",IF(AL16<=0.4,"Menor",IF(AL16<=0.6,"Moderado",IF(AL16<=0.8,"Mayor","Catastrófico"))))),"") | AL16: =IFERROR(IF(AND(AA15="Impacto",AA16="Impacto"),(AL15-(+AL15*AD16)),IF(AND(AA15="Probabilidad",AA16="Impacto"),(AL13-(+AL13*AD16)),IF(AA16="Probabilidad",AL15,""))),"") | AM16: =IFERROR(IF(OR(AND(AI16="Muy Baja",AK16="Leve"),AND(AI16="Muy Baja",AK16="Menor"),AND(AI16="Baja",AK16="Leve")),"Bajo",IF(OR(AND(AI16="Muy baja",AK16="Moderado"),AND(AI16="Baja",AK16="Menor"),AND(AI16="Baja",AK16="Moderado"),AND(AI16="Media",AK16="Leve"),AND(AI16="Media",AK16="Menor"),AND(AI16="Media",AK16="Moderado"),AND(AI16="Alta",AK16="Leve"),AND(AI16="Alta",AK16="Menor")),"Moderado",IF(OR(AND(AI16="Muy Baja",AK16="Mayor"),AND(AI16="Baja",AK16="Mayor"),AND(AI16="Media",AK16="Mayor"),AND(AI16="Alta",AK16="Moderado"),AND(AI16="Alta",AK16="Mayor"),AND(AI16="Muy Alta",AK16="Leve"),AND(AI16="Muy Alta",AK16="Menor"),AND(AI16="Muy Alta",AK16="Moderado"),AND(AI16="Muy Alta",AK16="Mayor")),"Alto",IF(OR(AND(AI16="Muy Baja",AK16="Catastrófico"),AND(AI16="Baja",AK16="Catastrófico"),AND(AI16="Media",AK16="Catastrófico"),AND(AI16="Alta",AK16="Catastrófico"),AND(AI16="Muy Alta",AK16="Catastrófico")),"Extremo","")))),"") | AP16: =+IF(AO16=5,"CASI SEGURO",(IF(AO16=4,"PROBABLE",(IF(AO16=3,"POSIBLE",(IF(AO16=2,"RARA VEZ",(IF(AO16=1,"IMPROBABLE",""))))))))) | AR16: =+IF(AQ16=5,"ALTO",(IF(AQ16=3,"MEDIO",(IF(AQ16=1,"BAJO",IF(OR(AQ16=2,AQ16=4),"NO APLICA","")))))) | AS16: =IF(AND(AO16<>"",AQ16<>"",AR16<>"NO APLICA"),AO16*AQ16,"") | AT16: =IF(AND(AS16<4,AS16>0),"BAJA",IF(AND(AS16>9,AS16<26),"ALTA",IF(AND(AS16>3,AS16<10),"MEDIA","")))
O17: =IF(NOT(ISERROR(MATCH(N17,_xlfn.ANCHORARRAY(G28),0))),M30&"Por favor no seleccionar los criterios de impacto",N17) -> 0 | T17: =+IF(S17=5,"CASI SEGURO",(IF(S17=4,"PROBABLE",(IF(S17=3,"POSIBLE",(IF(S17=2,"RARA VEZ",(IF(S17=1,"IMPROBABLE",""))))))))) | V17: =+IF(U17=5,"ALTO",(IF(U17=3,"MEDIO",(IF(U17=1,"BAJO",IF(OR(U17=2,U17=4),"NO APLICA","")))))) | W17: =IF(AND(S17<>"",U17<>"",V17<>"NO APLICA"),S17*U17,"") | X17: =IF(AND(W17<4,W17>0),"BAJA",IF(AND(W17>9,W17<26),"ALTA",IF(AND(W17>3,W17<10),"MEDIA",""))) | Y17: 6 | AA17: =IF(OR(AB17="Preventivo",AB17="Detectivo"),"Probabilidad",IF(AB17="Correctivo","Impacto","")) | AD17: =IF(AND(AB17="Preventivo",AC17="Automático"),"50%",IF(AND(AB17="Preventivo",AC17="Manual"),"40%",IF(AND(AB17="Detectivo",AC17="Automático"),"40%",IF(AND(AB17="Detectivo",AC17="Manual"),"30%",IF(AND(AB17="Correctivo",AC17="Automático"),"35%",IF(AND(AB17="Correctivo",AC17="Manual"),"25%","")))))) | AH17: =IFERROR(IF(AND(AA16="Probabilidad",AA17="Probabilidad"),(AJ16-(+AJ16*AD17)),IF(AND(AA16="Impacto",AA17="Probabilidad"),(AJ15-(+AJ15*AD17)),IF(AA17="Impacto",AJ16,""))),"") | AI17: =IFERROR(IF(AH17="","",IF(AH17<=0.2,"Muy Baja",IF(AH17<=0.4,"Baja",IF(AH17<=0.6,"Media",IF(AH17<=0.8,"Alta","Muy Alta"))))),"") | AJ17: =+AH17 | AK17: =IFERROR(IF(AL17="","",IF(AL17<=0.2,"Leve",IF(AL17<=0.4,"Menor",IF(AL17<=0.6,"Moderado",IF(AL17<=0.8,"Mayor","Catastrófico"))))),"") | AL17: =IFERROR(IF(AND(AA16="Impacto",AA17="Impacto"),(AL16-(+AL16*AD17)),IF(AND(AA16="Probabilidad",AA17="Impacto"),(AL15-(+AL15*AD17)),IF(AA17="Probabilidad",AL16,""))),"") | AM17: =IFERROR(IF(OR(AND(AI17="Muy Baja",AK17="Leve"),AND(AI17="Muy Baja",AK17="Menor"),AND(AI17="Baja",AK17="Leve")),"Bajo",IF(OR(AND(AI17="Muy baja",AK17="Moderado"),AND(AI17="Baja",AK17="Menor"),AND(AI17="Baja",AK17="Moderado"),AND(AI17="Media",AK17="Leve"),AND(AI17="Media",AK17="Menor"),AND(AI17="Media",AK17="Moderado"),AND(AI17="Alta",AK17="Leve"),AND(AI17="Alta",AK17="Menor")),"Moderado",IF(OR(AND(AI17="Muy Baja",AK17="Mayor"),AND(AI17="Baja",AK17="Mayor"),AND(AI17="Media",AK17="Mayor"),AND(AI17="Alta",AK17="Moderado"),AND(AI17="Alta",AK17="Mayor"),AND(AI17="Muy Alta",AK17="Leve"),AND(AI17="Muy Alta",AK17="Menor"),AND(AI17="Muy Alta",AK17="Moderado"),AND(AI17="Muy Alta",AK17="Mayor")),"Alto",IF(OR(AND(AI17="Muy Baja",AK17="Catastrófico"),AND(AI17="Baja",AK17="Catastrófico"),AND(AI17="Media",AK17="Catastrófico"),AND(AI17="Alta",AK17="Catastrófico"),AND(AI17="Muy Alta",AK17="Catastrófico")),"Extremo","")))),"") | AP17: =+IF(AO17=5,"CASI SEGURO",(IF(AO17=4,"PROBABLE",(IF(AO17=3,"POSIBLE",(IF(AO17=2,"RARA VEZ",(IF(AO17=1,"IMPROBABLE",""))))))))) | AR17: =+IF(AQ17=5,"ALTO",(IF(AQ17=3,"MEDIO",(IF(AQ17=1,"BAJO",IF(OR(AQ17=2,AQ17=4),"NO APLICA","")))))) | AS17: =IF(AND(AO17<>"",AQ17<>"",AR17<>"NO APLICA"),AO17*AQ17,"") | AT17: =IF(AND(AS17<4,AS17>0),"BAJA",IF(AND(AS17>9,AS17<26),"ALTA",IF(AND(AS17>3,AS17<10),"MEDIA","")))
A18: 2 | L18: =IF(K18<=0,"",IF(K18<=2,"Muy Baja",IF(K18<=24,"Baja",IF(K18<=500,"Media",IF(K18<=5000,"Alta","Muy Alta"))))) | M18: =IF(L18="","",IF(L18="Muy Baja",0.2,IF(L18="Baja",0.4,IF(L18="Media",0.6,IF(L18="Alta",0.8,IF(L18="Muy Alta",1,)))))) | O18: =IF(NOT(ISERROR(MATCH(N18,'Tabla Impacto'!$B$221:$B$223,0))),'Tabla Impacto'!$F$223&"Por favor no seleccionar los criterios de impacto(Afectación Económica o presupuestal y Pérdida Reputacional)",N18) -> 0 | P18: =IF(OR(O18='Tabla Impacto'!$C$11,O18='Tabla Impacto'!$D$11),"Leve",IF(OR(O18='Tabla Impacto'!$C$12,O18='Tabla Impacto'!$D$12),"Menor",IF(OR(O18='Tabla Impacto'!$C$13,O18='Tabla Impacto'!$D$13),"Moderado",IF(OR(O18='Tabla Impacto'!$C$14,O18='Tabla Impacto'!$D$14),"Mayor",IF(OR(O18='Tabla Impacto'!$C$15,O18='Tabla Impacto'!$D$15),"Catastrófico",""))))) | Q18: =IF(P18="","",IF(P18="Leve",0.2,IF(P18="Menor",0.4,IF(P18="Moderado",0.6,IF(P18="Mayor",0.8,IF(P18="Catastrófico",1,)))))) | R18: =IF(OR(AND(L18="Muy Baja",P18="Leve"),AND(L18="Muy Baja",P18="Menor"),AND(L18="Baja",P18="Leve")),"Bajo",IF(OR(AND(L18="Muy baja",P18="Moderado"),AND(L18="Baja",P18="Menor"),AND(L18="Baja",P18="Moderado"),AND(L18="Media",P18="Leve"),AND(L18="Media",P18="Menor"),AND(L18="Media",P18="Moderado"),AND(L18="Alta",P18="Leve"),AND(L18="Alta",P18="Menor")),"Moderado",IF(OR(AND(L18="Muy Baja",P18="Mayor"),AND(L18="Baja",P18="Mayor"),AND(L18="Media",P18="Mayor"),AND(L18="Alta",P18="Moderado"),AND(L18="Alta",P18="Mayor"),AND(L18="Muy Alta",P18="Leve"),AND(L18="Muy Alta",P18="Menor"),AND(L18="Muy Alta",P18="Moderado"),AND(L18="Muy Alta",P18="Mayor")),"Alto",IF(OR(AND(L18="Muy Baja",P18="Catastrófico"),AND(L18="Baja",P18="Catastrófico"),AND(L18="Media",P18="Catastrófico"),AND(L18="Alta",P18="Catastrófico"),AND(L18="Muy Alta",P18="Catastrófico")),"Extremo","")))) | T18: =+IF(S18=5,"CASI SEGURO",(IF(S18=4,"PROBABLE",(IF(S18=3,"POSIBLE",(IF(S18=2,"RARA VEZ",(IF(S18=1,"IMPROBABLE",""))))))))) | V18: =+IF(U18=5,"ALTO",(IF(U18=3,"MEDIO",(IF(U18=1,"BAJO",IF(OR(U18=2,U18=4),"NO APLICA","")))))) | W18: =IF(AND(S18<>"",U18<>"",V18<>"NO APLICA"),S18*U18,"") | X18: =IF(AND(W18<4,W18>0),"BAJA",IF(AND(W18>9,W18<26),"ALTA",IF(AND(W18>3,W18<10),"MEDIA",""))) | AA18: =IF(OR(AB18="Preventivo",AB18="Detectivo"),"Probabilidad",IF(AB18="Correctivo","Impacto","")) | AD18: =IF(AND(AB18="Preventivo",AC18="Automático"),"50%",IF(AND(AB18="Preventivo",AC18="Manual"),"40%",IF(AND(AB18="Detectivo",AC18="Automático"),"40%",IF(AND(AB18="Detectivo",AC18="Manual"),"30%",IF(AND(AB18="Correctivo",AC18="Automático"),"35%",IF(AND(AB18="Correctivo",AC18="Manual"),"25%","")))))) | AH18: =IFERROR(IF(AA18="Probabilidad",(M18-(+M18*AD18)),IF(AA18="Impacto",M18,"")),"") | AI18: =IFERROR(IF(AH18="","",IF(AH18<=0.2,"Muy Baja",IF(AH18<=0.4,"Baja",IF(AH18<=0.6,"Media",IF(AH18<=0.8,"Alta","Muy Alta"))))),"") | AJ18: =+AH18 | AK18: =IFERROR(IF(AL18="","",IF(AL18<=0.2,"Leve",IF(AL18<=0.4,"Menor",IF(AL18<=0.6,"Moderado",IF(AL18<=0.8,"Mayor","Catastrófico"))))),"") | AL18: =IFERROR(IF(AA18="Impacto",(Q18-(+Q18*AD18)),IF(AA18="Probabilidad",Q18,"")),"") | AM18: =IFERROR(IF(OR(AND(AI18="Muy Baja",AK18="Leve"),AND(AI18="Muy Baja",AK18="Menor"),AND(AI18="Baja",AK18="Leve")),"Bajo",IF(OR(AND(AI18="Muy baja",AK18="Moderado"),AND(AI18="Baja",AK18="Menor"),AND(AI18="Baja",AK18="Moderado"),AND(AI18="Media",AK18="Leve"),AND(AI18="Media",AK18="Menor"),AND(AI18="Media",AK18="Moderado"),AND(AI18="Alta",AK18="Leve"),AND(AI18="Alta",AK18="Menor")),"Moderado",IF(OR(AND(AI18="Muy Baja",AK18="Mayor"),AND(AI18="Baja",AK18="Mayor"),AND(AI18="Media",AK18="Mayor"),AND(AI18="Alta",AK18="Moderado"),AND(AI18="Alta",AK18="Mayor"),AND(AI18="Muy Alta",AK18="Leve"),AND(AI18="Muy Alta",AK18="Menor"),AND(AI18="Muy Alta",AK18="Moderado"),AND(AI18="Muy Alta",AK18="Mayor")),"Alto",IF(OR(AND(AI18="Muy Baja",AK18="Catastrófico"),AND(AI18="Baja",AK18="Catastrófico"),AND(AI18="Media",AK18="Catastrófico"),AND(AI18="Alta",AK18="Catastrófico"),AND(AI18="Muy Alta",AK18="Catastrófico")),"Extremo","")))),"") | AP18: =+IF(AO18=5,"CASI SEGURO",(IF(AO18=4,"PROBABLE",(IF(AO18=3,"POSIBLE",(IF(AO18=2,"RARA VEZ",(IF(AO18=1,"IMPROBABLE",""))))))))) | AR18: =+IF(AQ18=5,"ALTO",(IF(AQ18=3,"MEDIO",(IF(AQ18=1,"BAJO",IF(OR(AQ18=2,AQ18=4),"NO APLICA","")))))) | AS18: =IF(AND(AO18<>"",AQ18<>"",AR18<>"NO APLICA"),AO18*AQ18,"") | AT18: =IF(AND(AS18<4,AS18>0),"BAJA",IF(AND(AS18>9,AS18<26),"ALTA",IF(AND(AS18>3,AS18<10),"MEDIA","")))
O19: =IF(NOT(ISERROR(MATCH(N19,_xlfn.ANCHORARRAY(G30),0))),M32&"Por favor no seleccionar los criterios de impacto",N19) -> 0 | T19: =+IF(S19=5,"CASI SEGURO",(IF(S19=4,"PROBABLE",(IF(S19=3,"POSIBLE",(IF(S19=2,"RARA VEZ",(IF(S19=1,"IMPROBABLE",""))))))))) | V19: =+IF(U19=5,"ALTO",(IF(U19=3,"MEDIO",(IF(U19=1,"BAJO",IF(OR(U19=2,U19=4),"NO APLICA","")))))) | W19: =IF(AND(S19<>"",U19<>"",V19<>"NO APLICA"),S19*U19,"") | X19: =IF(AND(W19<4,W19>0),"BAJA",IF(AND(W19>9,W19<26),"ALTA",IF(AND(W19>3,W19<10),"MEDIA",""))) | AA19: =IF(OR(AB19="Preventivo",AB19="Detectivo"),"Probabilidad",IF(AB19="Correctivo","Impacto","")) | AD19: =IF(AND(AB19="Preventivo",AC19="Automático"),"50%",IF(AND(AB19="Preventivo",AC19="Manual"),"40%",IF(AND(AB19="Detectivo",AC19="Automático"),"40%",IF(AND(AB19="Detectivo",AC19="Manual"),"30%",IF(AND(AB19="Correctivo",AC19="Automático"),"35%",IF(AND(AB19="Correctivo",AC19="Manual"),"25%","")))))) | AH19: =IFERROR(IF(AND(AA18="Probabilidad",AA19="Probabilidad"),(AJ18-(+AJ18*AD19)),IF(AA19="Probabilidad",(M18-(+M18*AD19)),IF(AA19="Impacto",AJ18,""))),"") | AI19: =IFERROR(IF(AH19="","",IF(AH19<=0.2,"Muy Baja",IF(AH19<=0.4,"Baja",IF(AH19<=0.6,"Media",IF(AH19<=0.8,"Alta","Muy Alta"))))),"") | AJ19: =+AH19 | AK19: =IFERROR(IF(AL19="","",IF(AL19<=0.2,"Leve",IF(AL19<=0.4,"Menor",IF(AL19<=0.6,"Moderado",IF(AL19<=0.8,"Mayor","Catastrófico"))))),"") | AL19: =IFERROR(IF(AND(AA18="Impacto",AA19="Impacto"),(AL18-(+AL18*AD19)),IF(AA19="Impacto",(Q18-(+Q18*AD19)),IF(AA19="Probabilidad",AL18,""))),"") | AM19: =IFERROR(IF(OR(AND(AI19="Muy Baja",AK19="Leve"),AND(AI19="Muy Baja",AK19="Menor"),AND(AI19="Baja",AK19="Leve")),"Bajo",IF(OR(AND(AI19="Muy baja",AK19="Moderado"),AND(AI19="Baja",AK19="Menor"),AND(AI19="Baja",AK19="Moderado"),AND(AI19="Media",AK19="Leve"),AND(AI19="Media",AK19="Menor"),AND(AI19="Media",AK19="Moderado"),AND(AI19="Alta",AK19="Leve"),AND(AI19="Alta",AK19="Menor")),"Moderado",IF(OR(AND(AI19="Muy Baja",AK19="Mayor"),AND(AI19="Baja",AK19="Mayor"),AND(AI19="Media",AK19="Mayor"),AND(AI19="Alta",AK19="Moderado"),AND(AI19="Alta",AK19="Mayor"),AND(AI19="Muy Alta",AK19="Leve"),AND(AI19="Muy Alta",AK19="Menor"),AND(AI19="Muy Alta",AK19="Moderado"),AND(AI19="Muy Alta",AK19="Mayor")),"Alto",IF(OR(AND(AI19="Muy Baja",AK19="Catastrófico"),AND(AI19="Baja",AK19="Catastrófico"),AND(AI19="Media",AK19="Catastrófico"),AND(AI19="Alta",AK19="Catastrófico"),AND(AI19="Muy Alta",AK19="Catastrófico")),"Extremo","")))),"") | AP19: =+IF(AO19=5,"CASI SEGURO",(IF(AO19=4,"PROBABLE",(IF(AO19=3,"POSIBLE",(IF(AO19=2,"RARA VEZ",(IF(AO19=1,"IMPROBABLE",""))))))))) | AR19: =+IF(AQ19=5,"ALTO",(IF(AQ19=3,"MEDIO",(IF(AQ19=1,"BAJO",IF(OR(AQ19=2,AQ19=4),"NO APLICA","")))))) | AS19: =IF(AND(AO19<>"",AQ19<>"",AR19<>"NO APLICA"),AO19*AQ19,"") | AT19: =IF(AND(AS19<4,AS19>0),"BAJA",IF(AND(AS19>9,AS19<26),"ALTA",IF(AND(AS19>3,AS19<10),"MEDIA","")))
O20: =IF(NOT(ISERROR(MATCH(N20,_xlfn.ANCHORARRAY(G31),0))),M33&"Por favor no seleccionar los criterios de impacto",N20) -> 0 | T20: =+IF(S20=5,"CASI SEGURO",(IF(S20=4,"PROBABLE",(IF(S20=3,"POSIBLE",(IF(S20=2,"RARA VEZ",(IF(S20=1,"IMPROBABLE",""))))))))) | V20: =+IF(U20=5,"ALTO",(IF(U20=3,"MEDIO",(IF(U20=1,"BAJO",IF(OR(U20=2,U20=4),"NO APLICA","")))))) | W20: =IF(AND(S20<>"",U20<>"",V20<>"NO APLICA"),S20*U20,"") | X20: =IF(AND(W20<4,W20>0),"BAJA",IF(AND(W20>9,W20<26),"ALTA",IF(AND(W20>3,W20<10),"MEDIA",""))) | AA20: =IF(OR(AB20="Preventivo",AB20="Detectivo"),"Probabilidad",IF(AB20="Correctivo","Impacto","")) | AD20: =IF(AND(AB20="Preventivo",AC20="Automático"),"50%",IF(AND(AB20="Preventivo",AC20="Manual"),"40%",IF(AND(AB20="Detectivo",AC20="Automático"),"40%",IF(AND(AB20="Detectivo",AC20="Manual"),"30%",IF(AND(AB20="Correctivo",AC20="Automático"),"35%",IF(AND(AB20="Correctivo",AC20="Manual"),"25%","")))))) | AH20: =IFERROR(IF(AND(AA19="Probabilidad",AA20="Probabilidad"),(AJ19-(+AJ19*AD20)),IF(AND(AA19="Impacto",AA20="Probabilidad"),(AJ18-(+AJ18*AD20)),IF(AA20="Impacto",AJ19,""))),"") | AI20: =IFERROR(IF(AH20="","",IF(AH20<=0.2,"Muy Baja",IF(AH20<=0.4,"Baja",IF(AH20<=0.6,"Media",IF(AH20<=0.8,"Alta","Muy Alta"))))),"") | AJ20: =+AH20 | AK20: =IFERROR(IF(AL20="","",IF(AL20<=0.2,"Leve",IF(AL20<=0.4,"Menor",IF(AL20<=0.6,"Moderado",IF(AL20<=0.8,"Mayor","Catastrófico"))))),"") | AL20: =IFERROR(IF(AND(AA19="Impacto",AA20="Impacto"),(AL19-(+AL19*AD20)),IF(AND(AA19="Probabilidad",AA20="Impacto"),(AL18-(+AL18*AD20)),IF(AA20="Probabilidad",AL19,""))),"") | AM20: =IFERROR(IF(OR(AND(AI20="Muy Baja",AK20="Leve"),AND(AI20="Muy Baja",AK20="Menor"),AND(AI20="Baja",AK20="Leve")),"Bajo",IF(OR(AND(AI20="Muy baja",AK20="Moderado"),AND(AI20="Baja",AK20="Menor"),AND(AI20="Baja",AK20="Moderado"),AND(AI20="Media",AK20="Leve"),AND(AI20="Media",AK20="Menor"),AND(AI20="Media",AK20="Moderado"),AND(AI20="Alta",AK20="Leve"),AND(AI20="Alta",AK20="Menor")),"Moderado",IF(OR(AND(AI20="Muy Baja",AK20="Mayor"),AND(AI20="Baja",AK20="Mayor"),AND(AI20="Media",AK20="Mayor"),AND(AI20="Alta",AK20="Moderado"),AND(AI20="Alta",AK20="Mayor"),AND(AI20="Muy Alta",AK20="Leve"),AND(AI20="Muy Alta",AK20="Menor"),AND(AI20="Muy Alta",AK20="Moderado"),AND(AI20="Muy Alta",AK20="Mayor")),"Alto",IF(OR(AND(AI20="Muy Baja",AK20="Catastrófico"),AND(AI20="Baja",AK20="Catastrófico"),AND(AI20="Media",AK20="Catastrófico"),AND(AI20="Alta",AK20="Catastrófico"),AND(AI20="Muy Alta",AK20="Catastrófico")),"Extremo","")))),"") | AP20: =+IF(AO20=5,"CASI SEGURO",(IF(AO20=4,"PROBABLE",(IF(AO20=3,"POSIBLE",(IF(AO20=2,"RARA VEZ",(IF(AO20=1,"IMPROBABLE",""))))))))) | AR20: =+IF(AQ20=5,"ALTO",(IF(AQ20=3,"MEDIO",(IF(AQ20=1,"BAJO",IF(OR(AQ20=2,AQ20=4),"NO APLICA","")))))) | AS20: =IF(AND(AO20<>"",AQ20<>"",AR20<>"NO APLICA"),AO20*AQ20,"") | AT20: =IF(AND(AS20<4,AS20>0),"BAJA",IF(AND(AS20>9,AS20<26),"ALTA",IF(AND(AS20>3,AS20<10),"MEDIA","")))
O21: =IF(NOT(ISERROR(MATCH(N21,_xlfn.ANCHORARRAY(G32),0))),M34&"Por favor no seleccionar los criterios de impacto",N21) -> 0 | T21: =+IF(S21=5,"CASI SEGURO",(IF(S21=4,"PROBABLE",(IF(S21=3,"POSIBLE",(IF(S21=2,"RARA VEZ",(IF(S21=1,"IMPROBABLE",""))))))))) | V21: =+IF(U21=5,"ALTO",(IF(U21=3,"MEDIO",(IF(U21=1,"BAJO",IF(OR(U21=2,U21=4),"NO APLICA","")))))) | W21: =IF(AND(S21<>"",U21<>"",V21<>"NO APLICA"),S21*U21,"") | X21: =IF(AND(W21<4,W21>0),"BAJA",IF(AND(W21>9,W21<26),"ALTA",IF(AND(W21>3,W21<10),"MEDIA",""))) | AA21: =IF(OR(AB21="Preventivo",AB21="Detectivo"),"Probabilidad",IF(AB21="Correctivo","Impacto","")) | AD21: =IF(AND(AB21="Preventivo",AC21="Automático"),"50%",IF(AND(AB21="Preventivo",AC21="Manual"),"40%",IF(AND(AB21="Detectivo",AC21="Automático"),"40%",IF(AND(AB21="Detectivo",AC21="Manual"),"30%",IF(AND(AB21="Correctivo",AC21="Automático"),"35%",IF(AND(AB21="Correctivo",AC21="Manual"),"25%","")))))) | AH21: =IFERROR(IF(AND(AA20="Probabilidad",AA21="Probabilidad"),(AJ20-(+AJ20*AD21)),IF(AND(AA20="Impacto",AA21="Probabilidad"),(AJ19-(+AJ19*AD21)),IF(AA21="Impacto",AJ20,""))),"") | AI21: =IFERROR(IF(AH21="","",IF(AH21<=0.2,"Muy Baja",IF(AH21<=0.4,"Baja",IF(AH21<=0.6,"Media",IF(AH21<=0.8,"Alta","Muy Alta"))))),"") | AJ21: =+AH21 | AK21: =IFERROR(IF(AL21="","",IF(AL21<=0.2,"Leve",IF(AL21<=0.4,"Menor",IF(AL21<=0.6,"Moderado",IF(AL21<=0.8,"Mayor","Catastrófico"))))),"") | AL21: =IFERROR(IF(AND(AA20="Impacto",AA21="Impacto"),(AL20-(+AL20*AD21)),IF(AND(AA20="Probabilidad",AA21="Impacto"),(AL19-(+AL19*AD21)),IF(AA21="Probabilidad",AL20,""))),"") | AM21: =IFERROR(IF(OR(AND(AI21="Muy Baja",AK21="Leve"),AND(AI21="Muy Baja",AK21="Menor"),AND(AI21="Baja",AK21="Leve")),"Bajo",IF(OR(AND(AI21="Muy baja",AK21="Moderado"),AND(AI21="Baja",AK21="Menor"),AND(AI21="Baja",AK21="Moderado"),AND(AI21="Media",AK21="Leve"),AND(AI21="Media",AK21="Menor"),AND(AI21="Media",AK21="Moderado"),AND(AI21="Alta",AK21="Leve"),AND(AI21="Alta",AK21="Menor")),"Moderado",IF(OR(AND(AI21="Muy Baja",AK21="Mayor"),AND(AI21="Baja",AK21="Mayor"),AND(AI21="Media",AK21="Mayor"),AND(AI21="Alta",AK21="Moderado"),AND(AI21="Alta",AK21="Mayor"),AND(AI21="Muy Alta",AK21="Leve"),AND(AI21="Muy Alta",AK21="Menor"),AND(AI21="Muy Alta",AK21="Moderado"),AND(AI21="Muy Alta",AK21="Mayor")),"Alto",IF(OR(AND(AI21="Muy Baja",AK21="Catastrófico"),AND(AI21="Baja",AK21="Catastrófico"),AND(AI21="Media",AK21="Catastrófico"),AND(AI21="Alta",AK21="Catastrófico"),AND(AI21="Muy Alta",AK21="Catastrófico")),"Extremo","")))),"") | AP21: =+IF(AO21=5,"CASI SEGURO",(IF(AO21=4,"PROBABLE",(IF(AO21=3,"POSIBLE",(IF(AO21=2,"RARA VEZ",(IF(AO21=1,"IMPROBABLE",""))))))))) | AR21: =+IF(AQ21=5,"ALTO",(IF(AQ21=3,"MEDIO",(IF(AQ21=1,"BAJO",IF(OR(AQ21=2,AQ21=4),"NO APLICA","")))))) | AS21: =IF(AND(AO21<>"",AQ21<>"",AR21<>"NO APLICA"),AO21*AQ21,"") | AT21: =IF(AND(AS21<4,AS21>0),"BAJA",IF(AND(AS21>9,AS21<26),"ALTA",IF(AND(AS21>3,AS21<10),"MEDIA","")))
O22: =IF(NOT(ISERROR(MATCH(N22,_xlfn.ANCHORARRAY(G33),0))),M35&"Por favor no seleccionar los criterios de impacto",N22) -> 0 | T22: =+IF(S22=5,"CASI SEGURO",(IF(S22=4,"PROBABLE",(IF(S22=3,"POSIBLE",(IF(S22=2,"RARA VEZ",(IF(S22=1,"IMPROBABLE",""))))))))) | V22: =+IF(U22=5,"ALTO",(IF(U22=3,"MEDIO",(IF(U22=1,"BAJO",IF(OR(U22=2,U22=4),"NO APLICA","")))))) | W22: =IF(AND(S22<>"",U22<>"",V22<>"NO APLICA"),S22*U22,"") | X22: =IF(AND(W22<4,W22>0),"BAJA",IF(AND(W22>9,W22<26),"ALTA",IF(AND(W22>3,W22<10),"MEDIA",""))) | AA22: =IF(OR(AB22="Preventivo",AB22="Detectivo"),"Probabilidad",IF(AB22="Correctivo","Impacto","")) | AD22: =IF(AND(AB22="Preventivo",AC22="Automático"),"50%",IF(AND(AB22="Preventivo",AC22="Manual"),"40%",IF(AND(AB22="Detectivo",AC22="Automático"),"40%",IF(AND(AB22="Detectivo",AC22="Manual"),"30%",IF(AND(AB22="Correctivo",AC22="Automático"),"35%",IF(AND(AB22="Correctivo",AC22="Manual"),"25%","")))))) | AH22: =IFERROR(IF(AND(AA21="Probabilidad",AA22="Probabilidad"),(AJ21-(+AJ21*AD22)),IF(AND(AA21="Impacto",AA22="Probabilidad"),(AJ20-(+AJ20*AD22)),IF(AA22="Impacto",AJ21,""))),"") | AI22: =IFERROR(IF(AH22="","",IF(AH22<=0.2,"Muy Baja",IF(AH22<=0.4,"Baja",IF(AH22<=0.6,"Media",IF(AH22<=0.8,"Alta","Muy Alta"))))),"") | AJ22: =+AH22 | AK22: =IFERROR(IF(AL22="","",IF(AL22<=0.2,"Leve",IF(AL22<=0.4,"Menor",IF(AL22<=0.6,"Moderado",IF(AL22<=0.8,"Mayor","Catastrófico"))))),"") | AL22: =IFERROR(IF(AND(AA21="Impacto",AA22="Impacto"),(AL21-(+AL21*AD22)),IF(AND(AA21="Probabilidad",AA22="Impacto"),(AL20-(+AL20*AD22)),IF(AA22="Probabilidad",AL21,""))),"") | AM22: =IFERROR(IF(OR(AND(AI22="Muy Baja",AK22="Leve"),AND(AI22="Muy Baja",AK22="Menor"),AND(AI22="Baja",AK22="Leve")),"Bajo",IF(OR(AND(AI22="Muy baja",AK22="Moderado"),AND(AI22="Baja",AK22="Menor"),AND(AI22="Baja",AK22="Moderado"),AND(AI22="Media",AK22="Leve"),AND(AI22="Media",AK22="Menor"),AND(AI22="Media",AK22="Moderado"),AND(AI22="Alta",AK22="Leve"),AND(AI22="Alta",AK22="Menor")),"Moderado",IF(OR(AND(AI22="Muy Baja",AK22="Mayor"),AND(AI22="Baja",AK22="Mayor"),AND(AI22="Media",AK22="Mayor"),AND(AI22="Alta",AK22="Moderado"),AND(AI22="Alta",AK22="Mayor"),AND(AI22="Muy Alta",AK22="Leve"),AND(AI22="Muy Alta",AK22="Menor"),AND(AI22="Muy Alta",AK22="Moderado"),AND(AI22="Muy Alta",AK22="Mayor")),"Alto",IF(OR(AND(AI22="Muy Baja",AK22="Catastrófico"),AND(AI22="Baja",AK22="Catastrófico"),AND(AI22="Media",AK22="Catastrófico"),AND(AI22="Alta",AK22="Catastrófico"),AND(AI22="Muy Alta",AK22="Catastrófico")),"Extremo","")))),"") | AP22: =+IF(AO22=5,"CASI SEGURO",(IF(AO22=4,"PROBABLE",(IF(AO22=3,"POSIBLE",(IF(AO22=2,"RARA VEZ",(IF(AO22=1,"IMPROBABLE",""))))))))) | AR22: =+IF(AQ22=5,"ALTO",(IF(AQ22=3,"MEDIO",(IF(AQ22=1,"BAJO",IF(OR(AQ22=2,AQ22=4),"NO APLICA","")))))) | AS22: =IF(AND(AO22<>"",AQ22<>"",AR22<>"NO APLICA"),AO22*AQ22,"") | AT22: =IF(AND(AS22<4,AS22>0),"BAJA",IF(AND(AS22>9,AS22<26),"ALTA",IF(AND(AS22>3,AS22<10),"MEDIA","")))
O23: =IF(NOT(ISERROR(MATCH(N23,_xlfn.ANCHORARRAY(G34),0))),M36&"Por favor no seleccionar los criterios de impacto",N23) -> 0 | T23: =+IF(S23=5,"CASI SEGURO",(IF(S23=4,"PROBABLE",(IF(S23=3,"POSIBLE",(IF(S23=2,"RARA VEZ",(IF(S23=1,"IMPROBABLE",""))))))))) | V23: =+IF(U23=5,"ALTO",(IF(U23=3,"MEDIO",(IF(U23=1,"BAJO",IF(OR(U23=2,U23=4),"NO APLICA","")))))) | W23: =IF(AND(S23<>"",U23<>"",V23<>"NO APLICA"),S23*U23,"") | X23: =IF(AND(W23<4,W23>0),"BAJA",IF(AND(W23>9,W23<26),"ALTA",IF(AND(W23>3,W23<10),"MEDIA",""))) | AA23: =IF(OR(AB23="Preventivo",AB23="Detectivo"),"Probabilidad",IF(AB23="Correctivo","Impacto","")) | AD23: =IF(AND(AB23="Preventivo",AC23="Automático"),"50%",IF(AND(AB23="Preventivo",AC23="Manual"),"40%",IF(AND(AB23="Detectivo",AC23="Automático"),"40%",IF(AND(AB23="Detectivo",AC23="Manual"),"30%",IF(AND(AB23="Correctivo",AC23="Automático"),"35%",IF(AND(AB23="Correctivo",AC23="Manual"),"25%","")))))) | AH23: =IFERROR(IF(AND(AA22="Probabilidad",AA23="Probabilidad"),(AJ22-(+AJ22*AD23)),IF(AND(AA22="Impacto",AA23="Probabilidad"),(AJ21-(+AJ21*AD23)),IF(AA23="Impacto",AJ22,""))),"") | AI23: =IFERROR(IF(AH23="","",IF(AH23<=0.2,"Muy Baja",IF(AH23<=0.4,"Baja",IF(AH23<=0.6,"Media",IF(AH23<=0.8,"Alta","Muy Alta"))))),"") | AJ23: =+AH23 | AK23: =IFERROR(IF(AL23="","",IF(AL23<=0.2,"Leve",IF(AL23<=0.4,"Menor",IF(AL23<=0.6,"Moderado",IF(AL23<=0.8,"Mayor","Catastrófico"))))),"") | AL23: =IFERROR(IF(AND(AA22="Impacto",AA23="Impacto"),(AL22-(+AL22*AD23)),IF(AND(AA22="Probabilidad",AA23="Impacto"),(AL21-(+AL21*AD23)),IF(AA23="Probabilidad",AL22,""))),"") | AM23: =IFERROR(IF(OR(AND(AI23="Muy Baja",AK23="Leve"),AND(AI23="Muy Baja",AK23="Menor"),AND(AI23="Baja",AK23="Leve")),"Bajo",IF(OR(AND(AI23="Muy baja",AK23="Moderado"),AND(AI23="Baja",AK23="Menor"),AND(AI23="Baja",AK23="Moderado"),AND(AI23="Media",AK23="Leve"),AND(AI23="Media",AK23="Menor"),AND(AI23="Media",AK23="Moderado"),AND(AI23="Alta",AK23="Leve"),AND(AI23="Alta",AK23="Menor")),"Moderado",IF(OR(AND(AI23="Muy Baja",AK23="Mayor"),AND(AI23="Baja",AK23="Mayor"),AND(AI23="Media",AK23="Mayor"),AND(AI23="Alta",AK23="Moderado"),AND(AI23="Alta",AK23="Mayor"),AND(AI23="Muy Alta",AK23="Leve"),AND(AI23="Muy Alta",AK23="Menor"),AND(AI23="Muy Alta",AK23="Moderado"),AND(AI23="Muy Alta",AK23="Mayor")),"Alto",IF(OR(AND(AI23="Muy Baja",AK23="Catastrófico"),AND(AI23="Baja",AK23="Catastrófico"),AND(AI23="Media",AK23="Catastrófico"),AND(AI23="Alta",AK23="Catastrófico"),AND(AI23="Muy Alta",AK23="Catastrófico")),"Extremo","")))),"") | AP23: =+IF(AO23=5,"CASI SEGURO",(IF(AO23=4,"PROBABLE",(IF(AO23=3,"POSIBLE",(IF(AO23=2,"RARA VEZ",(IF(AO23=1,"IMPROBABLE",""))))))))) | AR23: =+IF(AQ23=5,"ALTO",(IF(AQ23=3,"MEDIO",(IF(AQ23=1,"BAJO",IF(OR(AQ23=2,AQ23=4),"NO APLICA","")))))) | AS23: =IF(AND(AO23<>"",AQ23<>"",AR23<>"NO APLICA"),AO23*AQ23,"") | AT23: =IF(AND(AS23<4,AS23>0),"BAJA",IF(AND(AS23>9,AS23<26),"ALTA",IF(AND(AS23>3,AS23<10),"MEDIA","")))
