Workbook

Sheet Instructivo
B2: Matriz Mapa de Riesgos
B4: Teniendo en cuenta que con la expedición del Decreto 1499 de 2017 “Por medio del cual se modifica el Decreto 1083 de 2015, Decreto Único Reglamentario del Sector Función Pública, en lo relacionado con el Sistema de Gestión establecido en el artículo 133 de la Ley 1753 de 2015”, se crea un solo Sistema de Gestión y se alinea con el Sistema de Control Interno, hoy todas las entidades públicas requieren actualizar y/o implementar el Modelo Integrado de Planeación y Gestión MIPG, modelo que incorpora el Modelo Estándar de Control Interno MECI a través de la 7a dimensión del mismo. En este marco general, el proceso de administración del riesgo es un esfuerzo conjunto entre la Alta Dirección y los servidores en todos sus niveles, ejercicio que inicia con la formulación de la política de Administración del Riesgo, la cual incluye los niveles de responsabilidad frente al seguimiento y evaluación, aspectos que deberán definirse acorde con el Esquema de Líneas de Defensa vinculado a la Dimensión 7. Teniendo en cuenta lo anterior y dada la necesidad de las entidades frente a la estructuración de los mapas de riesgos, como herramienta fundamental frente a la gestión del riesgo, el presente formato desarrolla un esquema completo acorde con los contenidos metodológicos de la Guía para la Administración del Riesgo y el diseño de controles V5. El formato cuenta con celdas parametrizadas y permite contar con los respectivos mapas de calor para riesgo inherente y riesgo residual.
B6: Orientaciones Generales
B7: Antes de iniciar con el diligenciamiento de la información en la matriz, se requiere haber avanzado en el análisis del proceso, su objetivo, alcance, actividades clave, considere los lineamientos establecidos en el Paso 2: identificación del riesgo, donde se explica ampliamente las bases para adelanter este análisis. Así mismo, considere en el Paso 3: valoración del riesgo los lineamientos para definir el No. de veces que se hace la actividad con la cual se relaciona el riesgo y su impacto en términos económicos o reputacionales. En este mismo paso se analizan los controles que deben responder a los atributos de eficiencia e informativos. NOTA: Si lo considera pertinente, es posible agregar hojas de trabajo adicionales al presente formato que permitan incluir la traza de estos análisis.
B9: El archivo contiene las siguientes hojas: - Hoja 1 Instructivo - Hoja 2 Mapa Final: Encontrará la totalidad de la estructura para la identificación y valoración de los riesgos por proceso, programa o proyecto, acorde con el nivel de desagregación que la entidad considere necesaria.
C12: Columna | E12: Descripción - Lineamientos para el diligenciamiento
C13: Proceso | E13: Diligencie el nombre del proceso al cual se le identificarán y valorarán los riesgos.
C14: Objetivo | E14: Diligencie el objetivo del proceso.
C15: Alcance | E15: Diligencie el alcance del proceso.
C16: Referencia | E16: Permite definir unl consecutivo de riesgos. Una entidad puede ir en el riesgo 150, pero tener 70 riesgos, lo que permite llevar una traza de los riesgos. Esta información la debe administrar la oficina asesora de planeación o gerencia de riesgos. Cuando un el riesgo salga del mapa no existirá otro riesgo con el mismo número.
C17: Impacto | E17: Analice las consecuencias que puede ocasionar a la organización la materialización del riesgo, redacte de la forma más concreta posible.
C18: Causa Inmediata | E18: Circunstancias bajo las cuales se presenta el riesgo, es la situación más evidente frente al riesgo, redacte de la forma más concreta posible.
C19: Causa Raíz | E19: Causa principal o básica, corresponde a las razones por la cuales se puede presentar el riesgo, redacte de la forma más concreta posible.
C20: Descripción del Riesgo | E20: Consolida o resume los análisis sobre impacto + causa inmediata + causa raíz, permitiendo contar con una redacción clara y concreta del riesgo indentificado. Tenga en cuenta la estructura de alto nivel establecida en al guía, inicia con POSIBILIDAD DE + Impacto para la entidad (Qué) + Causa Inmediata (Cómo) + Causa Raíz (Por qué)
C21: Clasificación del Riesgo | E21: Utilice la lista de despligue que se encuentra parametrizada, le aparecerán las opciones: i)Daños Activos Fisicos, ii)Ejecucion y Administracion de procesos, iii)Fallas Tecnologicas, iv)Fraude Externo, v)Fraude Interno, vi)Relaciones Laborales, vii)Usuarios, productos y practicas organizacionales.
C22: Frecuencia con la cual se lleva a cabo la actividad | E22: Defina el # de veces que se ejecuta la actividad durante el año, (Recuerde la probabilidad e ocurrencia del riesgo se defien como el No. de veces que se pasa por el punto de riesgo en el periodo de 1 año). La matriz automáticamente hará el cálculo para el nivel de probabilidad inherente (Columnas H-I)
C23: Criterios de Impacto | E23: Utilice la lista de despligue que se encuentra parametrizada, le aparecerán las opciones de la tabla de Impacto en la Hoja 6 del presente documento. La matriz automáticamente hará el cálculo para el nivel de impacto inherente (Columnas L-M)
... C37: Estado | E37: Utilice la lista de despligue que se encuentra parametrizada, le aparecerán las opciones: i)Finalizado, ii)En curso, la selección en este caso dependerá de las acciones del plan que se hayan establecido en cada caso.
B40: - Hoja 3 Matriz de Calor Inherente: En esta hoja, en la medida en que ese diligencia el Mapa Final, se verán reflejados los riesgos en su zona correspondiente. Esta hoja no se diligencia se genera de manera automática.
B41: - Hoja 4 Matriz de Calor Residual: En esta hoja, en la medida en que ese diligencia el Mapa Final, se verán reflejados los riesgos en su zona correspondiente. Esta hoja no se diligencia se genera de manera automática.
B42: - Hoja 5 Tabla de probabilidad: Tabla referente para todos los cálculos (no se diligencia)
B43: - Hoja 6 Tabla de Impacto: Tabla referente para todos los cálculos (no se diligencia)
B44: - Hoja 7 Tabla de Valoración de Controles: Tabla referente para todos los cálculos (no se diligencia)

Sheet Mapa final
F1: SISTEMA INTEGRADO DE GESTIÓN PLANEACIÓN ESTRATEGICA MAPA DE RIESGOS Y OPORTUNIDADES POR PROCESOS | N1: CODIGO: PCE-01-F-02
N2: versión: 4.0
N3: FECHA: 27/12/2024
N4: Fecha Actualización: 31/12/2025
A5: Proceso: | D5: GESTIÓN PLANIFICACIÓN Y ORDENAMIENTO AMBIENTAL DEL TERRITORIO
A6: Objetivo: | D6: Planificar, regular y ordenar el manejo de los recursos naturales y el uso del territorio y sus componentes físicos, bióticos y sociales en el departamento.
A7: Alcance: | D7: Inicia con la planificación, la gestión del conocimiento de la cuenca, pasando por la programación de acciones integrales técnico-sociales y de inversiones para el manejo ordenado de los recursos naturales y sus servicios ecosistémicos, hasta la respectiva implementación, evaluación y seguimiento, así como la armonización de los lineamientos del POMCA, adaptación al cambio climático, en la gestión ambiental del ordenamiento territorial.
A8: Identificación del riesgo y/o Oportunidad(es) | L8: Análisis del riesgo inherente | S8: Análisis de Oportunidades | Y8: Evaluación del riesgo - Valoración de los controles | AH8: Evaluación del riesgo - Nivel del riesgo residual | AO8: Análisis de Oportunidades con Tratamiento | AU8: Plan de Acción
A9: Referencia | C9: Impacto | D9: Contexto Estrategico Interno -Externo- Proceso | E9: Causa | F9: Riesgo | G9: Descripción del Riesgo | J9: Clasificación del Riesgo | K9: Frecuencia con la cual se realiza la actividad | L9: Probabilidad Inherente | M9: % | N9: Criterios de impacto | O9: Observación de criterio | P9: Impacto Inherente | Q9: % | R9: Zona de Riesgo Inherente | S9: Calificación | W9: Evaluación | Y9: No. Control | Z9: Descripción del Control para Riesgo y/o Oportunidad | AA9: Afectación | AB9: Atributos | AH9: Probabilidad Residual | AI9: Probabilidad Residual Final | AJ9: % | AK9: Impacto Residual Final | AL9: % | AM9: Zona de Riesgo Final | AN9: Tratamiento | AO9: Calificación | AS9: Evaluación | AU9: Plan de Acción | AV9: Responsable | AW9: Fecha Implementación | AX9: Fecha Seguimiento | AY9: Seguimiento | AZ9: Estado
B10: Objetivo Estrategico | H10: Oportunidad (es) | I10: Consecuencia | S10: Probabilidad | U10: Impacto | W10: Nivel de la Oportunidad | X10: Zona de Oportunidad | AB10: Tipo | AC10: Implementación | AD10: Calificación | AE10: Documentación | AF10: Frecuencia | AG10: Evidencia | AO10: Probabilidad | AQ10: Impacto | AS10: Nivel de la oportunidad | AT10: Zona de la Oportunidad con Tratamiento
A11: 1 | B11: Reglamentar la planificación integral de los recursos naturales y el ambiente con el fin de coadyuvar en la implementación de normas de ocupación y uso ambiental del territorio en el dpto del Cesar | C11: Reputacional | D11: PERSONAL | E11: Falta de incorporación del POMCA como una determinante ambiental en los planes de ordenamiento territoriales de los municipios | F11: Poca inversión en la ejecución de los POMCAS, en jurisdicción del departamento del Cesar. | G11: Probabilidad de no cumplir con los objetivos propuestos para la ejecución de los POMCAS, en jurisdicción del departamento del Cesar. | H11: Aprovechar espacios de articulación de iniciativas y políticas en el Territorio, para contribuir al cumplimiento de la normativa vigente y las metas de la entidad. | I11: Incumplimiento en los indicadores de gestión e incumplimiento con lo establecido en las normativas legales vigentes que apliquen. | J11: Ejecucion y Administracion de procesos | K11: 6 | L11: =IF(K11<=0,"",IF(K11<=2,"Muy Baja",IF(K11<=24,"Baja",IF(K11<=500,"Media",IF(K11<=5000,"Alta","Muy Alta"))))) -> Baja | M11: =IF(L11="","",IF(L11="Muy Baja",0.2,IF(L11="Baja",0.4,IF(L11="Media",0.6,IF(L11="Alta",0.8,IF(L11="Muy Alta",1,)))))) -> 0.4 | N11: El riesgo afecta la imagen de la entidad a nivel nacional, con efecto publicitarios sostenible a nivel país | O11: =IF(NOT(ISERROR(MATCH(N11,'Tabla Impacto'!$B$221:$B$223,0))),'Tabla Impacto'!$F$223&"Por favor no seleccionar los criterios de impacto(Afectación Económica o presupuestal y Pérdida Reputacional)",N11) -> El riesgo afecta la imagen de la entidad a nivel nacional, con efecto publicitarios sostenible a nivel país | P11: =IF(OR(O11='Tabla Impacto'!$C$11,O11='Tabla Impacto'!$D$11),"Leve",IF(OR(O11='Tabla Impacto'!$C$12,O11='Tabla Impacto'!$D$12),"Menor",IF(OR(O11='Tabla Impacto'!$C$13,O11='Tabla Impacto'!$D$13),"Moderado",IF(OR(O11='Tabla Impacto'!$C$14,O11='Tabla Impacto'!$D$14),"Mayor",IF(OR(O11='Tabla Impacto'!$C$15,O11='Tabla Impacto'!$D$15),"Catastrófico",""))))) -> Catastrófico | Q11: =IF(P11="","",IF(P11="Leve",0.2,IF(P11="Menor",0.4,IF(P11="Moderado",0.6,IF(P11="Mayor",0.8,IF(P11="Catastrófico",1,)))))) -> 1 | R11: =IF(OR(AND(L11="Muy Baja",P11="Leve"),AND(L11="Muy Baja",P11="Menor"),AND(L11="Baja",P11="Leve")),"Bajo",IF(OR(AND(L11="Muy baja",P11="Moderado"),AND(L11="Baja",P11="Menor"),AND(L11="Baja",P11="Moderado"),AND(L11="Media",P11="Leve"),AND(L11="Media",P11="Menor"),AND(L11="Media",P11="Moderado"),AND(L11="Alta",P11="Leve"),AND(L11="Alta",P11="Menor")),"Moderado",IF(OR(AND(L11="Muy Baja",P11="Mayor"),AND(L11="Baja",P11="Mayor"),AND(L11="Media",P11="Mayor"),AND(L11="Alta",P11="Moderado"),AND(L11="Alta",P11="Mayor"),AND(L11="Muy Alta",P11="Leve"),AND(L11="Muy Alta",P11="Menor"),AND(L11="Muy Alta",P11="Moderado"),AND(L11="Muy Alta",P11="Mayor")),"Alto",IF(OR(AND(L11="Muy Baja",P11="Catastrófico"),AND(L11="Baja",P11="Catastrófico"),AND(L11="Media",P11="Catastrófico"),AND(L11="Alta",P11="Catastrófico"),AND(L11="Muy Alta",P11="Catastrófico")),"Extremo","")))) -> Extremo | S11: 3 | T11: =+IF(S11=5,"CASI SEGURO",(IF(S11=4,"PROBABLE",(IF(S11=3,"POSIBLE",(IF(S11=2,"RARA VEZ",(IF(S11=1,"IMPROBABLE",""))))))))) -> POSIBLE | U11: 3 | V11: =+IF(U11=5,"ALTO",(IF(U11=3,"MEDIO",(IF(U11=1,"BAJO",IF(OR(U11=2,U11=4),"NO APLICA","")))))) -> MEDIO | W11: =IF(AND(S11<>"",U11<>"",V11<>"NO APLICA"),S11*U11,"") -> 9 | X11: =IF(AND(W11<4,W11>0),"BAJA",IF(AND(W11>9,W11<26),"ALTA",IF(AND(W11>3,W11<10),"MEDIA",""))) -> MEDIA | Y11: 1 | Z11: Supervisión adecuada a la consultoria y a la interventoria con un equipo de apoyo interdisciplinario. Para la Oportunidad: Articular iniciativas de participación de la comunidad en los proyectos a desarrollar | AA11: =IF(OR(AB11="Preventivo",AB11="Detectivo"),"Probabilidad",IF(AB11="Correctivo","Impacto","")) -> Probabilidad | AB11: Preventivo | AC11: Manual | AD11: =IF(AND(AB11="Preventivo",AC11="Automático"),"50%",IF(AND(AB11="Preventivo",AC11="Manual"),"40%",IF(AND(AB11="Detectivo",AC11="Automático"),"40%",IF(AND(AB11="Detectivo",AC11="Manual"),"30%",IF(AND(AB11="Correctivo",AC11="Automático"),"35%",IF(AND(AB11="Correctivo",AC11="Manual"),"25%","")))))) -> 40% | AE11: Documentado | AF11: Continua | AG11: Con Registro | AH11: =IFERROR(IF(AA11="Probabilidad",(M11-(+M11*AD11)),IF(AA11="Impacto",M11,"")),"") -> 0.24 | AI11: =IFERROR(IF(AH11="","",IF(AH11<=0.2,"Muy Baja",IF(AH11<=0.4,"Baja",IF(AH11<=0.6,"Media",IF(AH11<=0.8,"Alta","Muy Alta"))))),"") -> Baja | AJ11: =+AH11 -> 0.24 | AK11: =IFERROR(IF(AL11="","",IF(AL11<=0.2,"Leve",IF(AL11<=0.4,"Menor",IF(AL11<=0.6,"Moderado",IF(AL11<=0.8,"Mayor","Catastrófico"))))),"") -> Catastrófico | AL11: =IFERROR(IF(AA11="Impacto",(Q11-(+Q11*AD11)),IF(AA11="Probabilidad",Q11,"")),"") -> 1 | AM11: =IFERROR(IF(OR(AND(AI11="Muy Baja",AK11="Leve"),AND(AI11="Muy Baja",AK11="Menor"),AND(AI11="Baja",AK11="Leve")),"Bajo",IF(OR(AND(AI11="Muy baja",AK11="Moderado"),AND(AI11="Baja",AK11="Menor"),AND(AI11="Baja",AK11="Moderado"),AND(AI11="Media",AK11="Leve"),AND(AI11="Media",AK11="Menor"),AND(AI11="Media",AK11="Moderado"),AND(AI11="Alta",AK11="Leve"),AND(AI11="Alta",AK11="Menor")),"Moderado",IF(OR(AND(AI11="Muy Baja",AK11="Mayor"),AND(AI11="Baja",AK11="Mayor"),AND(AI11="Media",AK11="Mayor"),AND(AI11="Alta",AK11="Moderado"),AND(AI11="Alta",AK11="Mayor"),AND(AI11="Muy Alta",AK11="Leve"),AND(AI11="Muy Alta",AK11="Menor"),AND(AI11="Muy Alta",AK11="Moderado"),AND(AI11="Muy Alta",AK11="Mayor")),"Alto",IF(OR(AND(AI11="Muy Baja",AK11="Catastrófico"),AND(AI11="Baja",AK11="Catastrófico"),AND(AI11="Media",AK11="Catastrófico"),AND(AI11="Alta",AK11="Catastrófico"),AND(AI11="Muy Alta",AK11="Catastrófico")),"Extremo","")))),"") -> Extremo | AN11: Reducir (mitigar) | AO11: 4 | AP11: =+IF(AO11=5,"CASI SEGURO",(IF(AO11=4,"PROBABLE",(IF(AO11=3,"POSIBLE",(IF(AO11=2,"RARA VEZ",(IF(AO11=1,"IMPROBABLE",""))))))))) -> PROBABLE | AQ11: 5 | AR11: =+IF(AQ11=5,"ALTO",(IF(AQ11=3,"MEDIO",(IF(AQ11=1,"BAJO",IF(OR(AQ11=2,AQ11=4),"NO APLICA","")))))) -> ALTO | AS11: =IF(AND(AO11<>"",AQ11<>"",AR11<>"NO APLICA"),AO11*AQ11,"") -> 20 | AT11: =IF(AND(AS11<4,AS11>0),"BAJA",IF(AND(AS11>9,AS11<26),"ALTA",IF(AND(AS11>3,AS11<10),"MEDIA",""))) -> ALTA | AU11: Entrega de informes de supervisión adecuada a la consultoria y a la interventoria. Participación en espacios de articulación de iniciativas y políticas en el Territorio (local y/o nacional) | AV11: Coordinador GIT para la gestión del Cambio Climatico, POMCAS y ordnamiento territotial | AW11: Durante el proceso de formulación | AX11: Durante el proceso de formulación | AY11: El 16 de Octubre de 2025, se dió inicio al Contrato 19-6-0197-0-2025, proyecto de la Formulación del POMCA Quebrada La Floresta y otro directos.Se llevó a cabo una socialización del proyecto a las comunidades de Pelaya, Pailitas, Tamlameque y La Gloria que se encuentran inmersa en el poligono de dicha cuenca hidrográfica, de igual manera a los consejos comunitarios que fueron certificados por Dependencia de Consulta Previa - DCP con el fin de realizar la ruta metodologica de la consulta previa. Adicionalmente se viene haciendo seguimiento a la ejecución del Componente Programático POMCA del Rio Calenturitas y Cuenca Rio Bajo Cesar - Cienaga de Zapatosa. Soportes: Oficios SGAGA CGIT OAT 3800-025, -026, 027, 028, 029, 030, 031 y 032 de 29 de mayo de 2025. Para la Oportunidad: - Con el Contrato No 19-6-0162-0-2025 Implementación de medidas de adaptación y miigación al cambio climático y recuperación del recurso ictiológico en ecosistemas priorizados en la jurisdicción de CORPOCESAR, con inicio de 21 de julio de 2025, finalizado el 20 de marzo de 2026; se tuvo Articulación institucional dado por la Coordinación con CORPOCESAR como autoridad ambiental; se presentó Alineación con políticas de Cambio climático (adaptación y mitigación), Conservación de ecosistemas acuáticos, Seguridad alimentaria. la Inclusión de comunidades locales en la Construcción de estufas ecoeficientes, Jornadas de extracción de plantas acuáticas, Procesos de compostaje con residuos orgánicos, Transferencia de conocimiento mediante jornadas de socialización, esto fortalece la apropiación social del proyecto; se contó con la Integración con iniciativas productivas y ambientales, dado que hay Recuperación del recurso ictiológico mediante Entrega de alevinos, Sensibilización sobre pesca sostenible, Aprovechamiento de residuos → economía circular (compostaje); Gracias a esta participación, se logró Integración del proyecto con políticas públicas ambientales, Fortalecimiento de capacidades comunitarias, Recuperación de ecosistemas priorizados, Reducción de impactos ambientales (uso eficiente de energía y residuos) y Sostenibilidad de las acciones más allá del proyecto. - Con la comunidad del Corregimiento de Media Luna (Rio Tocaimo) del municipio de San Diego, Corregimientos de Villa Germania (Rio Garupal) y El Sanjón del municipio de Valledupar, se realizaron integraciones con las comunidades para socializar actividades, luego se dieron talleres de aprovechamiento dle recurso hídrico, y coordinar actividades de siembratón, todo esto con el fin de garantizar el mínimo vital de agua en las comunidades que se abastecen de dichas corrientes; de esto se cuenta con levantamiento de actas de reunión y registros fotográficos. | AZ11: Finalizado
D12: PROCESOS | E12: Atrasos en el inicio de las actividades de las fases de los planes de ordenación y manejo de cuencas hidrográficas | I12: Afectación en el cumplimiento del Índice de gestión de Proyectos. | T12: =+IF(S12=5,"CASI SEGURO",(IF(S12=4,"PROBABLE",(IF(S12=3,"POSIBLE",(IF(S12=2,"RARA VEZ",(IF(S12=1,"IMPROBABLE",""))))))))) | V12: =+IF(U12=5,"ALTO",(IF(U12=3,"MEDIO",(IF(U12=1,"BAJO",IF(OR(U12=2,U12=4),"NO APLICA","")))))) | W12: =IF(AND(S12<>"",U12<>"",V12<>"NO APLICA"),S12*U12,"") | X12: =IF(AND(W12<4,W12>0),"BAJA",IF(AND(W12>9,W12<26),"ALTA",IF(AND(W12>3,W12<10),"MEDIA",""))) | Y12: 2 | Z12: Manual de Contratación y Supervisión e Interventoría | AA12: Probabilidad | AB12: Preventivo | AC12: Manual | AD12: =IF(AND(AB12="Preventivo",AC12="Automático"),"50%",IF(AND(AB12="Preventivo",AC12="Manual"),"40%",IF(AND(AB12="Detectivo",AC12="Automático"),"40%",IF(AND(AB12="Detectivo",AC12="Manual"),"30%",IF(AND(AB12="Correctivo",AC12="Automático"),"35%",IF(AND(AB12="Correctivo",AC12="Manual"),"25%","")))))) -> 40% | AE12: Documentado | AF12: Continua | AG12: Con Registro | AH12: =IFERROR(IF(AND(AA11="Probabilidad",AA12="Probabilidad"),(AJ11-(+AJ11*AD12)),IF(AND(AA11="Impacto",AA12="Probabilidad"),(AJ10-(+AJ10*AD12)),IF(AA12="Impacto",AJ11,""))),"") -> 0.144 | AI12: =IFERROR(IF(AH12="","",IF(AH12<=0.2,"Muy Baja",IF(AH12<=0.4,"Baja",IF(AH12<=0.6,"Media",IF(AH12<=0.8,"Alta","Muy Alta"))))),"") -> Muy Baja | AJ12: =+AH12 -> 0.144 | AK12: =IFERROR(IF(AL12="","",IF(AL12<=0.2,"Leve",IF(AL12<=0.4,"Menor",IF(AL12<=0.6,"Moderado",IF(AL12<=0.8,"Mayor","Catastrófico"))))),"") -> Catastrófico | AL12: =IFERROR(IF(AND(AA11="Impacto",AA12="Impacto"),(AL11-(+AL11*AD12)),IF(AND(AA11="Probabilidad",AA12="Impacto"),(AL10-(+AL10*AD12)),IF(AA12="Probabilidad",AL11,""))),"") -> 1 | AM12: =IFERROR(IF(OR(AND(AI12="Muy Baja",AK12="Leve"),AND(AI12="Muy Baja",AK12="Menor"),AND(AI12="Baja",AK12="Leve")),"Bajo",IF(OR(AND(AI12="Muy baja",AK12="Moderado"),AND(AI12="Baja",AK12="Menor"),AND(AI12="Baja",AK12="Moderado"),AND(AI12="Media",AK12="Leve"),AND(AI12="Media",AK12="Menor"),AND(AI12="Media",AK12="Moderado"),AND(AI12="Alta",AK12="Leve"),AND(AI12="Alta",AK12="Menor")),"Moderado",IF(OR(AND(AI12="Muy Baja",AK12="Mayor"),AND(AI12="Baja",AK12="Mayor"),AND(AI12="Media",AK12="Mayor"),AND(AI12="Alta",AK12="Moderado"),AND(AI12="Alta",AK12="Mayor"),AND(AI12="Muy Alta",AK12="Leve"),AND(AI12="Muy Alta",AK12="Menor"),AND(AI12="Muy Alta",AK12="Moderado"),AND(AI12="Muy Alta",AK12="Mayor")),"Alto",IF(OR(AND(AI12="Muy Baja",AK12="Catastrófico"),AND(AI12="Baja",AK12="Catastrófico"),AND(AI12="Media",AK12="Catastrófico"),AND(AI12="Alta",AK12="Catastrófico"),AND(AI12="Muy Alta",AK12="Catastrófico")),"Extremo","")))),"") -> Extremo | AN12: Reducir (mitigar) | AP12: =+IF(AO12=5,"CASI SEGURO",(IF(AO12=4,"PROBABLE",(IF(AO12=3,"POSIBLE",(IF(AO12=2,"RARA VEZ",(IF(AO12=1,"IMPROBABLE",""))))))))) | AR12: =+IF(AQ12=5,"ALTO",(IF(AQ12=3,"MEDIO",(IF(AQ12=1,"BAJO",IF(OR(AQ12=2,AQ12=4),"NO APLICA","")))))) | AS12: =IF(AND(AO12<>"",AQ12<>"",AR12<>"NO APLICA"),AO12*AQ12,"") | AT12: =IF(AND(AS12<4,AS12>0),"BAJA",IF(AND(AS12>9,AS12<26),"ALTA",IF(AND(AS12>3,AS12<10),"MEDIA",""))) | AU12: Solicitar informes, aclaraciones y explicaciones sobre el desarrollo de la ejecución contractual, ymantener informada a la entidad de los hechos o circunstancias que puedan constituir actos de corrupción tipificados como conductas punibles, o que puedan poner o pongan en riesgo el cumplimiento del contrato, o cuando tal incumplimiento se presente. | AV12: Coordinador GIT para la gestión del Cambio Climatico, POMCAS y ordnamiento territotial | AW12: Durante las fases del proceso de formulación del POMCA | AX12: Durante las fases del proceso de formulación del POMCA | AY12: En la vigencia 2025 no se ha presentado incumplimientos contractuales. | AZ12: Finalizado
D13: PERSONAL | E13: Volumen de trabajo superior a la capacidad de personal empleado y/o contratado . | I13: Deficiente planificación, regulación y ordenación en el manejo de los recursos naturales renovables y el uso u ocupación del territorio para su adecuada explotación en el marco del desarrollo sostenible en el área de jurisdicción de Corpocesar. | O13: =IF(NOT(ISERROR(MATCH(N13,_xlfn.ANCHORARRAY(G22),0))),M24&"Por favor no seleccionar los criterios de impacto",N13) -> 0 | T13: =+IF(S13=5,"CASI SEGURO",(IF(S13=4,"PROBABLE",(IF(S13=3,"POSIBLE",(IF(S13=2,"RARA VEZ",(IF(S13=1,"IMPROBABLE",""))))))))) | V13: =+IF(U13=5,"ALTO",(IF(U13=3,"MEDIO",(IF(U13=1,"BAJO",IF(OR(U13=2,U13=4),"NO APLICA","")))))) | W13: =IF(AND(S13<>"",U13<>"",V13<>"NO APLICA"),S13*U13,"") | X13: =IF(AND(W13<4,W13>0),"BAJA",IF(AND(W13>9,W13<26),"ALTA",IF(AND(W13>3,W13<10),"MEDIA",""))) | Y13: 3 | Z13: Contratar personal de apoyo de acuerdo a las necesidades de formulación, ejecución y seguimiento a los POMCAS | AA13: =IF(OR(AB13="Preventivo",AB13="Detectivo"),"Probabilidad",IF(AB13="Correctivo","Impacto","")) -> Probabilidad | AB13: Preventivo | AC13: Manual | AD13: =IF(AND(AB13="Preventivo",AC13="Automático"),"50%",IF(AND(AB13="Preventivo",AC13="Manual"),"40%",IF(AND(AB13="Detectivo",AC13="Automático"),"40%",IF(AND(AB13="Detectivo",AC13="Manual"),"30%",IF(AND(AB13="Correctivo",AC13="Automático"),"35%",IF(AND(AB13="Correctivo",AC13="Manual"),"25%","")))))) -> 40% | AE13: Documentado | AF13: Continua | AG13: Con Registro | AH13: =IFERROR(IF(AND(AA11="Probabilidad",AA13="Probabilidad"),(AJ11-(+AJ11*AD13)),IF(AA13="Probabilidad",(M11-(+M11*AD13)),IF(AA13="Impacto",AJ11,""))),"") -> 0.144 | AI13: =IFERROR(IF(AH13="","",IF(AH13<=0.2,"Muy Baja",IF(AH13<=0.4,"Baja",IF(AH13<=0.6,"Media",IF(AH13<=0.8,"Alta","Muy Alta"))))),"") -> Muy Baja | AJ13: =+AH13 -> 0.144 | AK13: =IFERROR(IF(AL13="","",IF(AL13<=0.2,"Leve",IF(AL13<=0.4,"Menor",IF(AL13<=0.6,"Moderado",IF(AL13<=0.8,"Mayor","Catastrófico"))))),"") -> Catastrófico | AL13: =IFERROR(IF(AND(AA11="Impacto",AA13="Impacto"),(AL11-(+AL11*AD13)),IF(AA13="Impacto",(Q11-(+Q11*AD13)),IF(AA13="Probabilidad",AL11,""))),"") -> 1 | AM13: =IFERROR(IF(OR(AND(AI13="Muy Baja",AK13="Leve"),AND(AI13="Muy Baja",AK13="Menor"),AND(AI13="Baja",AK13="Leve")),"Bajo",IF(OR(AND(AI13="Muy baja",AK13="Moderado"),AND(AI13="Baja",AK13="Menor"),AND(AI13="Baja",AK13="Moderado"),AND(AI13="Media",AK13="Leve"),AND(AI13="Media",AK13="Menor"),AND(AI13="Media",AK13="Moderado"),AND(AI13="Alta",AK13="Leve"),AND(AI13="Alta",AK13="Menor")),"Moderado",IF(OR(AND(AI13="Muy Baja",AK13="Mayor"),AND(AI13="Baja",AK13="Mayor"),AND(AI13="Media",AK13="Mayor"),AND(AI13="Alta",AK13="Moderado"),AND(AI13="Alta",AK13="Mayor"),AND(AI13="Muy Alta",AK13="Leve"),AND(AI13="Muy Alta",AK13="Menor"),AND(AI13="Muy Alta",AK13="Moderado"),AND(AI13="Muy Alta",AK13="Mayor")),"Alto",IF(OR(AND(AI13="Muy Baja",AK13="Catastrófico"),AND(AI13="Baja",AK13="Catastrófico"),AND(AI13="Media",AK13="Catastrófico"),AND(AI13="Alta",AK13="Catastrófico"),AND(AI13="Muy Alta",AK13="Catastrófico")),"Extremo","")))),"") -> Extremo | AN13: Reducir (mitigar) | AP13: =+IF(AO13=5,"CASI SEGURO",(IF(AO13=4,"PROBABLE",(IF(AO13=3,"POSIBLE",(IF(AO13=2,"RARA VEZ",(IF(AO13=1,"IMPROBABLE",""))))))))) | AR13: =+IF(AQ13=5,"ALTO",(IF(AQ13=3,"MEDIO",(IF(AQ13=1,"BAJO",IF(OR(AQ13=2,AQ13=4),"NO APLICA","")))))) | AS13: =IF(AND(AO13<>"",AQ13<>"",AR13<>"NO APLICA"),AO13*AQ13,"") | AT13: =IF(AND(AS13<4,AS13>0),"BAJA",IF(AND(AS13>9,AS13<26),"ALTA",IF(AND(AS13>3,AS13<10),"MEDIA",""))) | AU13: Oficiar la necesidad del personal que se requiere en la Coordinador GIT para la gestión del Cambio Climatico, POMCAS y ordnamiento territotial | AV13: Coordinador GIT para la gestión del Cambio Climatico, POMCAS y ordnamiento territotial | AW13: Primer trimeste de cada anualidad | AX13: Primer trimeste de cada anualidad | AY13: Se hizo la solicitud a la Subdirección Administrativa y Financiera a través de correo electrónico, en el que se informa la necesidad del personal que se requiere en la Coordinación GIT para la gestión del Cambio Climático, POMCAS y Ordenamiento Territorial dando respuesta de igual manera a la solicitud de necesidades a incluir en el Plan Anual de Adquisiciones 2025. Para el último trimestre de la vigencia 2025, se logró la contratación de tres (3) profesionales de apoyo a la Coordinación GIT para la gestión del Cambio Climatico, POMCAS y ordenamiento territotial. Contrato 19-6-0211-0-2025; Contrato 19-6-0213-0-2025; Contrato 19-6-0223-0-2025. | AZ13: Finalizado
D14: FINANCIERO | E14: deficiente gestión y destinación de los recursos para la ejecución de los POMCAS. | O14: =IF(NOT(ISERROR(MATCH(N14,_xlfn.ANCHORARRAY(G23),0))),M25&"Por favor no seleccionar los criterios de impacto",N14) -> 0 | T14: =+IF(S14=5,"CASI SEGURO",(IF(S14=4,"PROBABLE",(IF(S14=3,"POSIBLE",(IF(S14=2,"RARA VEZ",(IF(S14=1,"IMPROBABLE",""))))))))) | V14: =+IF(U14=5,"ALTO",(IF(U14=3,"MEDIO",(IF(U14=1,"BAJO",IF(OR(U14=2,U14=4),"NO APLICA","")))))) | W14: =IF(AND(S14<>"",U14<>"",V14<>"NO APLICA"),S14*U14,"") | X14: =IF(AND(W14<4,W14>0),"BAJA",IF(AND(W14>9,W14<26),"ALTA",IF(AND(W14>3,W14<10),"MEDIA",""))) | Y14: 4 | Z14: Oficiar a los entes territoriales y demas actores, para que se implementen las acciones del componente programatico de los POMCAS. | AA14: =IF(OR(AB14="Preventivo",AB14="Detectivo"),"Probabilidad",IF(AB14="Correctivo","Impacto","")) -> Impacto | AB14: Correctivo | AC14: Manual | AD14: =IF(AND(AB14="Preventivo",AC14="Automático"),"50%",IF(AND(AB14="Preventivo",AC14="Manual"),"40%",IF(AND(AB14="Detectivo",AC14="Automático"),"40%",IF(AND(AB14="Detectivo",AC14="Manual"),"30%",IF(AND(AB14="Correctivo",AC14="Automático"),"35%",IF(AND(AB14="Correctivo",AC14="Manual"),"25%","")))))) -> 25% | AE14: Documentado | AF14: Continua | AG14: Con Registro | AH14: =IFERROR(IF(AND(AA13="Probabilidad",AA14="Probabilidad"),(AJ13-(+AJ13*AD14)),IF(AND(AA13="Impacto",AA14="Probabilidad"),(AJ11-(+AJ11*AD14)),IF(AA14="Impacto",AJ13,""))),"") -> 0.144 | AI14: =IFERROR(IF(AH14="","",IF(AH14<=0.2,"Muy Baja",IF(AH14<=0.4,"Baja",IF(AH14<=0.6,"Media",IF(AH14<=0.8,"Alta","Muy Alta"))))),"") -> Muy Baja | AJ14: =+AH14 -> 0.144 | AK14: =IFERROR(IF(AL14="","",IF(AL14<=0.2,"Leve",IF(AL14<=0.4,"Menor",IF(AL14<=0.6,"Moderado",IF(AL14<=0.8,"Mayor","Catastrófico"))))),"") -> Mayor | AL14: =IFERROR(IF(AND(AA13="Impacto",AA14="Impacto"),(AL13-(+AL13*AD14)),IF(AND(AA13="Probabilidad",AA14="Impacto"),(AL11-(+AL11*AD14)),IF(AA14="Probabilidad",AL13,""))),"") -> 0.75 | AM14: =IFERROR(IF(OR(AND(AI14="Muy Baja",AK14="Leve"),AND(AI14="Muy Baja",AK14="Menor"),AND(AI14="Baja",AK14="Leve")),"Bajo",IF(OR(AND(AI14="Muy baja",AK14="Moderado"),AND(AI14="Baja",AK14="Menor"),AND(AI14="Baja",AK14="Moderado"),AND(AI14="Media",AK14="Leve"),AND(AI14="Media",AK14="Menor"),AND(AI14="Media",AK14="Moderado"),AND(AI14="Alta",AK14="Leve"),AND(AI14="Alta",AK14="Menor")),"Moderado",IF(OR(AND(AI14="Muy Baja",AK14="Mayor"),AND(AI14="Baja",AK14="Mayor"),AND(AI14="Media",AK14="Mayor"),AND(AI14="Alta",AK14="Moderado"),AND(AI14="Alta",AK14="Mayor"),AND(AI14="Muy Alta",AK14="Leve"),AND(AI14="Muy Alta",AK14="Menor"),AND(AI14="Muy Alta",AK14="Moderado"),AND(AI14="Muy Alta",AK14="Mayor")),"Alto",IF(OR(AND(AI14="Muy Baja",AK14="Catastrófico"),AND(AI14="Baja",AK14="Catastrófico"),AND(AI14="Media",AK14="Catastrófico"),AND(AI14="Alta",AK14="Catastrófico"),AND(AI14="Muy Alta",AK14="Catastrófico")),"Extremo","")))),"") -> Alto | AN14: Reducir (mitigar) | AP14: =+IF(AO14=5,"CASI SEGURO",(IF(AO14=4,"PROBABLE",(IF(AO14=3,"POSIBLE",(IF(AO14=2,"RARA VEZ",(IF(AO14=1,"IMPROBABLE",""))))))))) | AR14: =+IF(AQ14=5,"ALTO",(IF(AQ14=3,"MEDIO",(IF(AQ14=1,"BAJO",IF(OR(AQ14=2,AQ14=4),"NO APLICA","")))))) | AS14: =IF(AND(AO14<>"",AQ14<>"",AR14<>"NO APLICA"),AO14*AQ14,"") | AT14: =IF(AND(AS14<4,AS14>0),"BAJA",IF(AND(AS14>9,AS14<26),"ALTA",IF(AND(AS14>3,AS14<10),"MEDIA",""))) | AU14: Comunicar mediante oficio o reuniones a los entes territoriales y demas actores, para que se implementen las acciones del componente programatico de los POMCAS. | AV14: Coordinador GIT para la gestión del Cambio Climatico, POMCAS y ordnamiento territotial | AW14: 45778 | AX14: 45807 | AY14: Durante lo transcurrido de la vigencia 2025, se viene haciendo seguimiento a la ejecución del Componente Programático POMCA del Rio Calenturitas y Cuenca Rio Bajo Cesar - Cienaga de Zapatosa. Soportes: Oficios SGAGA CGIT OAT 3800-025, -026, 027, 028, 029, 030, 031 y 032 de 29 de mayo de 2025. Estos seguimientos se ejecutaron a partir del mes de junio de 2025, se cuenta con el Informe de seguimiento. | AZ14: Finalizado
O15: =IF(NOT(ISERROR(MATCH(N15,_xlfn.ANCHORARRAY(G24),0))),M26&"Por favor no seleccionar los criterios de impacto",N15) -> 0 | T15: =+IF(S15=5,"CASI SEGURO",(IF(S15=4,"PROBABLE",(IF(S15=3,"POSIBLE",(IF(S15=2,"RARA VEZ",(IF(S15=1,"IMPROBABLE",""))))))))) | V15: =+IF(U15=5,"ALTO",(IF(U15=3,"MEDIO",(IF(U15=1,"BAJO",IF(OR(U15=2,U15=4),"NO APLICA","")))))) | W15: =IF(AND(S15<>"",U15<>"",V15<>"NO APLICA"),S15*U15,"") | X15: =IF(AND(W15<4,W15>0),"BAJA",IF(AND(W15>9,W15<26),"ALTA",IF(AND(W15>3,W15<10),"MEDIA",""))) | AP15: =+IF(AO15=5,"CASI SEGURO",(IF(AO15=4,"PROBABLE",(IF(AO15=3,"POSIBLE",(IF(AO15=2,"RARA VEZ",(IF(AO15=1,"IMPROBABLE",""))))))))) | AR15: =+IF(AQ15=5,"ALTO",(IF(AQ15=3,"MEDIO",(IF(AQ15=1,"BAJO",IF(OR(AQ15=2,AQ15=4),"NO APLICA","")))))) | AS15: =IF(AND(AO15<>"",AQ15<>"",AR15<>"NO APLICA"),AO15*AQ15,"") | AT15: =IF(AND(AS15<4,AS15>0),"BAJA",IF(AND(AS15>9,AS15<26),"ALTA",IF(AND(AS15>3,AS15<10),"MEDIA","")))
A16: 2 | C16: Reputacional | D16: POLITICA Y FINANCIERA | E16: Desinteres de las oficinas de planeación de los municipios en el cumplimiento de las determinantes ambientales expedidad por la Autoridad Ambiental. | F16: Deficiencia en la incorporación de los determinantes ambientales en los procesos de concertación de los POT | G16: Probabilidad de no concertación de las determinantes ambientales por parte de los municipios durante los procesos de revisión del POT | H16: Aprovechar espacios de articulación con los entes territoriales, para contribuir al cumplimiento de la normativa vigente y la misión de la entidad. | I16: Inadecuada ocupación del territorio en los municipios Incumpliendo la normatividad ambiental y su impacto en el desarrollo territorial. | J16: Ejecucion y Administracion de procesos | K16: 25 | L16: =IF(K16<=0,"",IF(K16<=2,"Muy Baja",IF(K16<=24,"Baja",IF(K16<=500,"Media",IF(K16<=5000,"Alta","Muy Alta"))))) -> Media | M16: =IF(L16="","",IF(L16="Muy Baja",0.2,IF(L16="Baja",0.4,IF(L16="Media",0.6,IF(L16="Alta",0.8,IF(L16="Muy Alta",1,)))))) -> 0.6 | N16: El riesgo afecta la imagen de de la entidad con efecto publicitario sostenido a nivel de sector administrativo, nivel departamental o municipal | O16: =IF(NOT(ISERROR(MATCH(N16,'Tabla Impacto'!$B$221:$B$223,0))),'Tabla Impacto'!$F$223&"Por favor no seleccionar los criterios de impacto(Afectación Económica o presupuestal y Pérdida Reputacional)",N16) -> El riesgo afecta la imagen de de la entidad con efecto publicitario sostenido a nivel de sector administrativo, nivel departamental o municipal | P16: =IF(OR(O16='Tabla Impacto'!$C$11,O16='Tabla Impacto'!$D$11),"Leve",IF(OR(O16='Tabla Impacto'!$C$12,O16='Tabla Impacto'!$D$12),"Menor",IF(OR(O16='Tabla Impacto'!$C$13,O16='Tabla Impacto'!$D$13),"Moderado",IF(OR(O16='Tabla Impacto'!$C$14,O16='Tabla Impacto'!$D$14),"Mayor",IF(OR(O16='Tabla Impacto'!$C$15,O16='Tabla Impacto'!$D$15),"Catastrófico",""))))) -> Mayor | Q16: =IF(P16="","",IF(P16="Leve",0.2,IF(P16="Menor",0.4,IF(P16="Moderado",0.6,IF(P16="Mayor",0.8,IF(P16="Catastrófico",1,)))))) -> 0.8 | R16: =IF(OR(AND(L16="Muy Baja",P16="Leve"),AND(L16="Muy Baja",P16="Menor"),AND(L16="Baja",P16="Leve")),"Bajo",IF(OR(AND(L16="Muy baja",P16="Moderado"),AND(L16="Baja",P16="Menor"),AND(L16="Baja",P16="Moderado"),AND(L16="Media",P16="Leve"),AND(L16="Media",P16="Menor"),AND(L16="Media",P16="Moderado"),AND(L16="Alta",P16="Leve"),AND(L16="Alta",P16="Menor")),"Moderado",IF(OR(AND(L16="Muy Baja",P16="Mayor"),AND(L16="Baja",P16="Mayor"),AND(L16="Media",P16="Mayor"),AND(L16="Alta",P16="Moderado"),AND(L16="Alta",P16="Mayor"),AND(L16="Muy Alta",P16="Leve"),AND(L16="Muy Alta",P16="Menor"),AND(L16="Muy Alta",P16="Moderado"),AND(L16="Muy Alta",P16="Mayor")),"Alto",IF(OR(AND(L16="Muy Baja",P16="Catastrófico"),AND(L16="Baja",P16="Catastrófico"),AND(L16="Media",P16="Catastrófico"),AND(L16="Alta",P16="Catastrófico"),AND(L16="Muy Alta",P16="Catastrófico")),"Extremo","")))) -> Alto | S16: 3 | T16: =+IF(S16=5,"CASI SEGURO",(IF(S16=4,"PROBABLE",(IF(S16=3,"POSIBLE",(IF(S16=2,"RARA VEZ",(IF(S16=1,"IMPROBABLE",""))))))))) -> POSIBLE | U16: 5 | V16: =+IF(U16=5,"ALTO",(IF(U16=3,"MEDIO",(IF(U16=1,"BAJO",IF(OR(U16=2,U16=4),"NO APLICA","")))))) -> ALTO | W16: =IF(AND(S16<>"",U16<>"",V16<>"NO APLICA"),S16*U16,"") -> 15 | X16: =IF(AND(W16<4,W16>0),"BAJA",IF(AND(W16>9,W16<26),"ALTA",IF(AND(W16>3,W16<10),"MEDIA",""))) -> ALTA | Y16: 1 | Z16: Visitas de seguimiento para la verifricación de cumplimiento de los asuntos ambientales concertados y de la actualización de los intrumentos de Ordenamiento Territorial (POT). | AA16: =IF(OR(AB16="Preventivo",AB16="Detectivo"),"Probabilidad",IF(AB16="Correctivo","Impacto","")) -> Probabilidad | AB16: Preventivo | AC16: Manual | AD16: =IF(AND(AB16="Preventivo",AC16="Automático"),"50%",IF(AND(AB16="Preventivo",AC16="Manual"),"40%",IF(AND(AB16="Detectivo",AC16="Automático"),"40%",IF(AND(AB16="Detectivo",AC16="Manual"),"30%",IF(AND(AB16="Correctivo",AC16="Automático"),"35%",IF(AND(AB16="Correctivo",AC16="Manual"),"25%","")))))) -> 40% | AE16: Documentado | AF16: Continua | AG16: Con Registro | AH16: =IFERROR(IF(AA16="Probabilidad",(M16-(+M16*AD16)),IF(AA16="Impacto",M16,"")),"") -> 0.36 | AI16: =IFERROR(IF(AH16="","",IF(AH16<=0.2,"Muy Baja",IF(AH16<=0.4,"Baja",IF(AH16<=0.6,"Media",IF(AH16<=0.8,"Alta","Muy Alta"))))),"") -> Baja | AJ16: =+AH16 -> 0.36 | AK16: =IFERROR(IF(AL16="","",IF(AL16<=0.2,"Leve",IF(AL16<=0.4,"Menor",IF(AL16<=0.6,"Moderado",IF(AL16<=0.8,"Mayor","Catastrófico"))))),"") -> Mayor | AL16: =IFERROR(IF(AA16="Impacto",(Q16-(+Q16*AD16)),IF(AA16="Probabilidad",Q16,"")),"") -> 0.8 | AM16: =IFERROR(IF(OR(AND(AI16="Muy Baja",AK16="Leve"),AND(AI16="Muy Baja",AK16="Menor"),AND(AI16="Baja",AK16="Leve")),"Bajo",IF(OR(AND(AI16="Muy baja",AK16="Moderado"),AND(AI16="Baja",AK16="Menor"),AND(AI16="Baja",AK16="Moderado"),AND(AI16="Media",AK16="Leve"),AND(AI16="Media",AK16="Menor"),AND(AI16="Media",AK16="Moderado"),AND(AI16="Alta",AK16="Leve"),AND(AI16="Alta",AK16="Menor")),"Moderado",IF(OR(AND(AI16="Muy Baja",AK16="Mayor"),AND(AI16="Baja",AK16="Mayor"),AND(AI16="Media",AK16="Mayor"),AND(AI16="Alta",AK16="Moderado"),AND(AI16="Alta",AK16="Mayor"),AND(AI16="Muy Alta",AK16="Leve"),AND(AI16="Muy Alta",AK16="Menor"),AND(AI16="Muy Alta",AK16="Moderado"),AND(AI16="Muy Alta",AK16="Mayor")),"Alto",IF(OR(AND(AI16="Muy Baja",AK16="Catastrófico"),AND(AI16="Baja",AK16="Catastrófico"),AND(AI16="Media",AK16="Catastrófico"),AND(AI16="Alta",AK16="Catastrófico"),AND(AI16="Muy Alta",AK16="Catastrófico")),"Extremo","")))),"") -> Alto | AN16: Reducir (mitigar) | AP16: =+IF(AO16=5,"CASI SEGURO",(IF(AO16=4,"PROBABLE",(IF(AO16=3,"POSIBLE",(IF(AO16=2,"RARA VEZ",(IF(AO16=1,"IMPROBABLE",""))))))))) | AR16: =+IF(AQ16=5,"ALTO",(IF(AQ16=3,"MEDIO",(IF(AQ16=1,"BAJO",IF(OR(AQ16=2,AQ16=4),"NO APLICA","")))))) | AS16: =IF(AND(AO16<>"",AQ16<>"",AR16<>"NO APLICA"),AO16*AQ16,"") | AT16: =IF(AND(AS16<4,AS16>0),"BAJA",IF(AND(AS16>9,AS16<26),"ALTA",IF(AND(AS16>3,AS16<10),"MEDIA",""))) | AU16: Acta de visita de seguimiento que incluyen compromisos por parte de los municipios y de la Corporación. Informe consolidado del estado de los POT y del cumplimiento de los compromisos de los municipios. | AV16: Coordinador GIT para la gestión del Cambio Climatico, POMCAS y ordnamiento territotial | AW16: Anual | AX16: Anual | AY16: El 10 de marzo de 2025, se envió a todos los municipios del Departamento del Cesar, oficios cuyo asunto es Revisión y ajuste de los Planes de Ordenamiento Territorial(POT-PBOT-EOT); informando a los municipios que es pertinente iniciar el proceso de revisión y ajuste del PBOT, en aras de garantizar la inclusión de las Determinantes Ambientales en el Modelo de Ocupación del Territorio, ya que su incumplimiento puede conllevar a sanciones ambientales para la entidad de los municipios en jurisdicción de Corpocesar. Soporte: Oficios SGAP-4000-024, 025, 026, 027, 028, 029, 030, 031, 032, 033, 034, 035, 036, 037, 038, 039, 040, 041, 042, 043, 044, 045, 046 y 047 de 10 de marzo de 2025. Entre los meses de Abril y Agosto se ha venido realizando las visitas de seguimientos a 22 de los 25 municipios en cuanto a los asuntos ambientales concertados en los POT, se cuenta con las actas de seguimiento. El Informe consolidado del estado de los POT y del cumplimiento de los compromisos de los municipios, se realiza durante el primer trimestre de la anualidad siguiente, una vez se cuente con la información consolidada. | AZ16: En curso
D17: ESTRATEGICO Y PERSONAL | E17: Insuficiente asistencia técnica y acompañamiento brindado a los municipios de la jurisdicción para la incorporación de las determinantes ambientales en los proyectos de revisión y ajuste de los POT. | O17: =IF(NOT(ISERROR(MATCH(N17,_xlfn.ANCHORARRAY(G28),0))),M30&"Por favor no seleccionar los criterios de impacto",N17) -> 0 | Y17: 2 | Z17: Realización de jornadas de asistencia tecnica por nodo de los municipios, sobre la adecuada incorporación de las determinanates ambientales, procesos de revisión de los POT y actualización normativa. | AA17: =IF(OR(AB17="Preventivo",AB17="Detectivo"),"Probabilidad",IF(AB17="Correctivo","Impacto","")) -> Probabilidad | AB17: Preventivo | AC17: Manual | AD17: =IF(AND(AB17="Preventivo",AC17="Automático"),"50%",IF(AND(AB17="Preventivo",AC17="Manual"),"40%",IF(AND(AB17="Detectivo",AC17="Automático"),"40%",IF(AND(AB17="Detectivo",AC17="Manual"),"30%",IF(AND(AB17="Correctivo",AC17="Automático"),"35%",IF(AND(AB17="Correctivo",AC17="Manual"),"25%","")))))) -> 40% | AE17: Documentado | AF17: Continua | AG17: Con Registro | AH17: =IFERROR(IF(AND(AA16="Probabilidad",AA17="Probabilidad"),(AJ16-(+AJ16*AD17)),IF(AA17="Probabilidad",(M16-(+M16*AD17)),IF(AA17="Impacto",AJ16,""))),"") -> 0.216 | AI17: =IFERROR(IF(AH17="","",IF(AH17<=0.2,"Muy Baja",IF(AH17<=0.4,"Baja",IF(AH17<=0.6,"Media",IF(AH17<=0.8,"Alta","Muy Alta"))))),"") -> Baja | AJ17: =+AH17 -> 0.216 | AK17: =IFERROR(IF(AL17="","",IF(AL17<=0.2,"Leve",IF(AL17<=0.4,"Menor",IF(AL17<=0.6,"Moderado",IF(AL17<=0.8,"Mayor","Catastrófico"))))),"") -> Mayor | AL17: =IFERROR(IF(AND(AA16="Impacto",AA17="Impacto"),(AL16-(+AL16*AD17)),IF(AA17="Impacto",(Q16-(+Q16*AD17)),IF(AA17="Probabilidad",AL16,""))),"") -> 0.8 | AM17: =IFERROR(IF(OR(AND(AI17="Muy Baja",AK17="Leve"),AND(AI17="Muy Baja",AK17="Menor"),AND(AI17="Baja",AK17="Leve")),"Bajo",IF(OR(AND(AI17="Muy baja",AK17="Moderado"),AND(AI17="Baja",AK17="Menor"),AND(AI17="Baja",AK17="Moderado"),AND(AI17="Media",AK17="Leve"),AND(AI17="Media",AK17="Menor"),AND(AI17="Media",AK17="Moderado"),AND(AI17="Alta",AK17="Leve"),AND(AI17="Alta",AK17="Menor")),"Moderado",IF(OR(AND(AI17="Muy Baja",AK17="Mayor"),AND(AI17="Baja",AK17="Mayor"),AND(AI17="Media",AK17="Mayor"),AND(AI17="Alta",AK17="Moderado"),AND(AI17="Alta",AK17="Mayor"),AND(AI17="Muy Alta",AK17="Leve"),AND(AI17="Muy Alta",AK17="Menor"),AND(AI17="Muy Alta",AK17="Moderado"),AND(AI17="Muy Alta",AK17="Mayor")),"Alto",IF(OR(AND(AI17="Muy Baja",AK17="Catastrófico"),AND(AI17="Baja",AK17="Catastrófico"),AND(AI17="Media",AK17="Catastrófico"),AND(AI17="Alta",AK17="Catastrófico"),AND(AI17="Muy Alta",AK17="Catastrófico")),"Extremo","")))),"") -> Alto | AN17: Reducir (mitigar) | AP17: =+IF(AO17=5,"CASI SEGURO",(IF(AO17=4,"PROBABLE",(IF(AO17=3,"POSIBLE",(IF(AO17=2,"RARA VEZ",(IF(AO17=1,"IMPROBABLE",""))))))))) | AR17: =+IF(AQ17=5,"ALTO",(IF(AQ17=3,"MEDIO",(IF(AQ17=1,"BAJO",IF(OR(AQ17=2,AQ17=4),"NO APLICA","")))))) | AS17: =IF(AND(AO17<>"",AQ17<>"",AR17<>"NO APLICA"),AO17*AQ17,"") | AT17: =IF(AND(AS17<4,AS17>0),"BAJA",IF(AND(AS17>9,AS17<26),"ALTA",IF(AND(AS17>3,AS17<10),"MEDIA",""))) | AU17: Asistencia técnica a los 25 municipios y planillas de asistencia | AV17: Coordinador GIT para la gestión del Cambio Climático, POMCAS y ordenamiento territorial | AW17: Anual | AX17: Anual | AY17: Durante las visitas de seguimiento a cada uno de los municipios se realiza asistencia técnica. En el año 2025 se realizó jornada en valledupar, 16 y 17 de septiembre de 2025, a los 25 municipios del departamento con el acompañamiento de MADS, MinVivienda, Gobernación del Cesar, Procuraduría General de la Nación. | AZ17: Finalizado
O18: =IF(NOT(ISERROR(MATCH(N18,_xlfn.ANCHORARRAY(G29),0))),M31&"Por favor no seleccionar los criterios de impacto",N18) -> 0 | Y18: 3 | Z18: Para la oportunidad: Vinculación de organismos de control para el cumplimiento de normatividad ambiental. | AA18: =IF(OR(AB18="Preventivo",AB18="Detectivo"),"Probabilidad",IF(AB18="Correctivo","Impacto","")) | AD18: =IF(AND(AB18="Preventivo",AC18="Automático"),"50%",IF(AND(AB18="Preventivo",AC18="Manual"),"40%",IF(AND(AB18="Detectivo",AC18="Automático"),"40%",IF(AND(AB18="Detectivo",AC18="Manual"),"30%",IF(AND(AB18="Correctivo",AC18="Automático"),"35%",IF(AND(AB18="Correctivo",AC18="Manual"),"25%","")))))) | AH18: =IFERROR(IF(AND(AA17="Probabilidad",AA18="Probabilidad"),(AJ17-(+AJ17*AD18)),IF(AND(AA17="Impacto",AA18="Probabilidad"),(AJ16-(+AJ16*AD18)),IF(AA18="Impacto",AJ17,""))),"") | AI18: =IFERROR(IF(AH18="","",IF(AH18<=0.2,"Muy Baja",IF(AH18<=0.4,"Baja",IF(AH18<=0.6,"Media",IF(AH18<=0.8,"Alta","Muy Alta"))))),"") | AJ18: =+AH18 | AK18: =IFERROR(IF(AL18="","",IF(AL18<=0.2,"Leve",IF(AL18<=0.4,"Menor",IF(AL18<=0.6,"Moderado",IF(AL18<=0.8,"Mayor","Catastrófico"))))),"") | AL18: =IFERROR(IF(AND(AA17="Impacto",AA18="Impacto"),(AL17-(+AL17*AD18)),IF(AND(AA17="Probabilidad",AA18="Impacto"),(AL16-(+AL16*AD18)),IF(AA18="Probabilidad",AL17,""))),"") | AM18: =IFERROR(IF(OR(AND(AI18="Muy Baja",AK18="Leve"),AND(AI18="Muy Baja",AK18="Menor"),AND(AI18="Baja",AK18="Leve")),"Bajo",IF(OR(AND(AI18="Muy baja",AK18="Moderado"),AND(AI18="Baja",AK18="Menor"),AND(AI18="Baja",AK18="Moderado"),AND(AI18="Media",AK18="Leve"),AND(AI18="Media",AK18="Menor"),AND(AI18="Media",AK18="Moderado"),AND(AI18="Alta",AK18="Leve"),AND(AI18="Alta",AK18="Menor")),"Moderado",IF(OR(AND(AI18="Muy Baja",AK18="Mayor"),AND(AI18="Baja",AK18="Mayor"),AND(AI18="Media",AK18="Mayor"),AND(AI18="Alta",AK18="Moderado"),AND(AI18="Alta",AK18="Mayor"),AND(AI18="Muy Alta",AK18="Leve"),AND(AI18="Muy Alta",AK18="Menor"),AND(AI18="Muy Alta",AK18="Moderado"),AND(AI18="Muy Alta",AK18="Mayor")),"Alto",IF(OR(AND(AI18="Muy Baja",AK18="Catastrófico"),AND(AI18="Baja",AK18="Catastrófico"),AND(AI18="Media",AK18="Catastrófico"),AND(AI18="Alta",AK18="Catastrófico"),AND(AI18="Muy Alta",AK18="Catastrófico")),"Extremo","")))),"") | AO18: 4 | AP18: =+IF(AO18=5,"CASI SEGURO",(IF(AO18=4,"PROBABLE",(IF(AO18=3,"POSIBLE",(IF(AO18=2,"RARA VEZ",(IF(AO18=1,"IMPROBABLE",""))))))))) -> PROBABLE | AQ18: 5 | AR18: =+IF(AQ18=5,"ALTO",(IF(AQ18=3,"MEDIO",(IF(AQ18=1,"BAJO",IF(OR(AQ18=2,AQ18=4),"NO APLICA","")))))) -> ALTO | AS18: =IF(AND(AO18<>"",AQ18<>"",AR18<>"NO APLICA"),AO18*AQ18,"") -> 20 | AT18: =IF(AND(AS18<4,AS18>0),"BAJA",IF(AND(AS18>9,AS18<26),"ALTA",IF(AND(AS18>3,AS18<10),"MEDIA",""))) -> ALTA | AU18: Vincular a los organismos de control en las asistencias técnicas, como apoyo en la regulación del cumplimiento de la normativa de determinantes ambientales. | AV18: Coordinador GIT para la gestión del Cambio Climático, POMCAS y ordenamiento territorial | AW18: Anual | AX18: Anual | AY18: Los días 13 y 14 de mayo de 2025, se asistió al Ministerio de Ambiente a mesa de trabajo, propuesta para la estrategia de medición y seguimiento a los impactos ambientales derivados de la desactualización de los instrumentos de ordenamiento territorial de los municipios del Cesar. Evidencias: Listados de asistencia y Acta de reunión donde se explica la presentación del diagnóstico del territorio para identificar deficiencias en los municipios para la formulación o actualización de instrumentos, así como la incorporación de las DA. - Diagnóstico del Territorio: Se identifican 25 municipios, de los cuales 9 tienen instrumentos vigentes, 1 en revisión y 15 desactualizados. - Metodologías de Evaluación: Se discuten varias metodologías para evaluar las áreas de expansión urbana, incluyendo el análisis de cambio de cobertura de la tierra. En la jornada en valledupar, 16 y 17 de septiembre de 2025, a los 25 municipios del departamento se contó con el acompañamiento de MADS, MinVivienda, Gobernación del Cesar, Procuraduría General de la Nación. | AZ18: Finalizado
O19: =IF(NOT(ISERROR(MATCH(N19,_xlfn.ANCHORARRAY(G30),0))),M32&"Por favor no seleccionar los criterios de impacto",N19) -> 0 | T19: =+IF(S19=5,"CASI SEGURO",(IF(S19=4,"PROBABLE",(IF(S19=3,"POSIBLE",(IF(S19=2,"RARA VEZ",(IF(S19=1,"IMPROBABLE",""))))))))) | V19: =+IF(U19=5,"ALTO",(IF(U19=3,"MEDIO",(IF(U19=1,"BAJO",IF(OR(U19=2,U19=4),"NO APLICA","")))))) | W19: =IF(AND(S19<>"",U19<>"",V19<>"NO APLICA"),S19*U19,"") | X19: =IF(AND(W19<4,W19>0),"BAJA",IF(AND(W19>9,W19<26),"ALTA",IF(AND(W19>3,W19<10),"MEDIA",""))) | Y19: 4 | AA19: =IF(OR(AB19="Preventivo",AB19="Detectivo"),"Probabilidad",IF(AB19="Correctivo","Impacto","")) | AD19: =IF(AND(AB19="Preventivo",AC19="Automático"),"50%",IF(AND(AB19="Preventivo",AC19="Manual"),"40%",IF(AND(AB19="Detectivo",AC19="Automático"),"40%",IF(AND(AB19="Detectivo",AC19="Manual"),"30%",IF(AND(AB19="Correctivo",AC19="Automático"),"35%",IF(AND(AB19="Correctivo",AC19="Manual"),"25%","")))))) | AH19: =IFERROR(IF(AND(AA18="Probabilidad",AA19="Probabilidad"),(AJ18-(+AJ18*AD19)),IF(AND(AA18="Impacto",AA19="Probabilidad"),(AJ17-(+AJ17*AD19)),IF(AA19="Impacto",AJ18,""))),"") | AI19: =IFERROR(IF(AH19="","",IF(AH19<=0.2,"Muy Baja",IF(AH19<=0.4,"Baja",IF(AH19<=0.6,"Media",IF(AH19<=0.8,"Alta","Muy Alta"))))),"") | AJ19: =+AH19 | AK19: =IFERROR(IF(AL19="","",IF(AL19<=0.2,"Leve",IF(AL19<=0.4,"Menor",IF(AL19<=0.6,"Moderado",IF(AL19<=0.8,"Mayor","Catastrófico"))))),"") | AL19: =IFERROR(IF(AND(AA18="Impacto",AA19="Impacto"),(AL18-(+AL18*AD19)),IF(AND(AA18="Probabilidad",AA19="Impacto"),(AL17-(+AL17*AD19)),IF(AA19="Probabilidad",AL18,""))),"") | AM19: =IFERROR(IF(OR(AND(AI19="Muy Baja",AK19="Leve"),AND(AI19="Muy Baja",AK19="Menor"),AND(AI19="Baja",AK19="Leve")),"Bajo",IF(OR(AND(AI19="Muy baja",AK19="Moderado"),AND(AI19="Baja",AK19="Menor"),AND(AI19="Baja",AK19="Moderado"),AND(AI19="Media",AK19="Leve"),AND(AI19="Media",AK19="Menor"),AND(AI19="Media",AK19="Moderado"),AND(AI19="Alta",AK19="Leve"),AND(AI19="Alta",AK19="Menor")),"Moderado",IF(OR(AND(AI19="Muy Baja",AK19="Mayor"),AND(AI19="Baja",AK19="Mayor"),AND(AI19="Media",AK19="Mayor"),AND(AI19="Alta",AK19="Moderado"),AND(AI19="Alta",AK19="Mayor"),AND(AI19="Muy Alta",AK19="Leve"),AND(AI19="Muy Alta",AK19="Menor"),AND(AI19="Muy Alta",AK19="Moderado"),AND(AI19="Muy Alta",AK19="Mayor")),"Alto",IF(OR(AND(AI19="Muy Baja",AK19="Catastrófico"),AND(AI19="Baja",AK19="Catastrófico"),AND(AI19="Media",AK19="Catastrófico"),AND(AI19="Alta",AK19="Catastrófico"),AND(AI19="Muy Alta",AK19="Catastrófico")),"Extremo","")))),"") | AP19: =+IF(AO19=5,"CASI SEGURO",(IF(AO19=4,"PROBABLE",(IF(AO19=3,"POSIBLE",(IF(AO19=2,"RARA VEZ",(IF(AO19=1,"IMPROBABLE",""))))))))) | AR19: =+IF(AQ19=5,"ALTO",(IF(AQ19=3,"MEDIO",(IF(AQ19=1,"BAJO",IF(OR(AQ19=2,AQ19=4),"NO APLICA","")))))) | AS19: =IF(AND(AO19<>"",AQ19<>"",AR19<>"NO APLICA"),AO19*AQ19,"") | AT19: =IF(AND(AS19<4,AS19>0),"BAJA",IF(AND(AS19>9,AS19<26),"ALTA",IF(AND(AS19>3,AS19<10),"MEDIA","")))
O20: =IF(NOT(ISERROR(MATCH(N20,_xlfn.ANCHORARRAY(G31),0))),M33&"Por favor no seleccionar los criterios de impacto",N20) -> 0 | T20: =+IF(S20=5,"CASI SEGURO",(IF(S20=4,"PROBABLE",(IF(S20=3,"POSIBLE",(IF(S20=2,"RARA VEZ",(IF(S20=1,"IMPROBABLE",""))))))))) | V20: =+IF(U20=5,"ALTO",(IF(U20=3,"MEDIO",(IF(U20=1,"BAJO",IF(OR(U20=2,U20=4),"NO APLICA","")))))) | W20: =IF(AND(S20<>"",U20<>"",V20<>"NO APLICA"),S20*U20,"") | X20: =IF(AND(W20<4,W20>0),"BAJA",IF(AND(W20>9,W20<26),"ALTA",IF(AND(W20>3,W20<10),"MEDIA",""))) | Y20: 5 | AA20: =IF(OR(AB20="Preventivo",AB20="Detectivo"),"Probabilidad",IF(AB20="Correctivo","Impacto","")) | AD20: =IF(AND(AB20="Preventivo",AC20="Automático"),"50%",IF(AND(AB20="Preventivo",AC20="Manual"),"40%",IF(AND(AB20="Detectivo",AC20="Automático"),"40%",IF(AND(AB20="Detectivo",AC20="Manual"),"30%",IF(AND(AB20="Correctivo",AC20="Automático"),"35%",IF(AND(AB20="Correctivo",AC20="Manual"),"25%","")))))) | AH20: =IFERROR(IF(AND(AA19="Probabilidad",AA20="Probabilidad"),(AJ19-(+AJ19*AD20)),IF(AND(AA19="Impacto",AA20="Probabilidad"),(AJ18-(+AJ18*AD20)),IF(AA20="Impacto",AJ19,""))),"") | AI20: =IFERROR(IF(AH20="","",IF(AH20<=0.2,"Muy Baja",IF(AH20<=0.4,"Baja",IF(AH20<=0.6,"Media",IF(AH20<=0.8,"Alta","Muy Alta"))))),"") | AJ20: =+AH20 | AK20: =IFERROR(IF(AL20="","",IF(AL20<=0.2,"Leve",IF(AL20<=0.4,"Menor",IF(AL20<=0.6,"Moderado",IF(AL20<=0.8,"Mayor","Catastrófico"))))),"") | AL20: =IFERROR(IF(AND(AA19="Impacto",AA20="Impacto"),(AL19-(+AL19*AD20)),IF(AND(AA19="Probabilidad",AA20="Impacto"),(AL18-(+AL18*AD20)),IF(AA20="Probabilidad",AL19,""))),"") | AM20: =IFERROR(IF(OR(AND(AI20="Muy Baja",AK20="Leve"),AND(AI20="Muy Baja",AK20="Menor"),AND(AI20="Baja",AK20="Leve")),"Bajo",IF(OR(AND(AI20="Muy baja",AK20="Moderado"),AND(AI20="Baja",AK20="Menor"),AND(AI20="Baja",AK20="Moderado"),AND(AI20="Media",AK20="Leve"),AND(AI20="Media",AK20="Menor"),AND(AI20="Media",AK20="Moderado"),AND(AI20="Alta",AK20="Leve"),AND(AI20="Alta",AK20="Menor")),"Moderado",IF(OR(AND(AI20="Muy Baja",AK20="Mayor"),AND(AI20="Baja",AK20="Mayor"),AND(AI20="Media",AK20="Mayor"),AND(AI20="Alta",AK20="Moderado"),AND(AI20="Alta",AK20="Mayor"),AND(AI20="Muy Alta",AK20="Leve"),AND(AI20="Muy Alta",AK20="Menor"),AND(AI20="Muy Alta",AK20="Moderado"),AND(AI20="Muy Alta",AK20="Mayor")),"Alto",IF(OR(AND(AI20="Muy Baja",AK20="Catastrófico"),AND(AI20="Baja",AK20="Catastrófico"),AND(AI20="Media",AK20="Catastrófico"),AND(AI20="Alta",AK20="Catastrófico"),AND(AI20="Muy Alta",AK20="Catastrófico")),"Extremo","")))),"") | AP20: =+IF(AO20=5,"CASI SEGURO",(IF(AO20=4,"PROBABLE",(IF(AO20=3,"POSIBLE",(IF(AO20=2,"RARA VEZ",(IF(AO20=1,"IMPROBABLE",""))))))))) | AR20: =+IF(AQ20=5,"ALTO",(IF(AQ20=3,"MEDIO",(IF(AQ20=1,"BAJO",IF(OR(AQ20=2,AQ20=4),"NO APLICA","")))))) | AS20: =IF(AND(AO20<>"",AQ20<>"",AR20<>"NO APLICA"),AO20*AQ20,"") | AT20: =IF(AND(AS20<4,AS20>0),"BAJA",IF(AND(AS20>9,AS20<26),"ALTA",IF(AND(AS20>3,AS20<10),"MEDIA","")))
O21: =IF(NOT(ISERROR(MATCH(N21,_xlfn.ANCHORARRAY(G32),0))),M34&"Por favor no seleccionar los criterios de impacto",N21) -> 0 | T21: =+IF(S21=5,"CASI SEGURO",(IF(S21=4,"PROBABLE",(IF(S21=3,"POSIBLE",(IF(S21=2,"RARA VEZ",(IF(S21=1,"IMPROBABLE",""))))))))) | V21: =+IF(U21=5,"ALTO",(IF(U21=3,"MEDIO",(IF(U21=1,"BAJO",IF(OR(U21=2,U21=4),"NO APLICA","")))))) | W21: =IF(AND(S21<>"",U21<>"",V21<>"NO APLICA"),S21*U21,"") | X21: =IF(AND(W21<4,W21>0),"BAJA",IF(AND(W21>9,W21<26),"ALTA",IF(AND(W21>3,W21<10),"MEDIA",""))) | Y21: 6 | AA21: =IF(OR(AB21="Preventivo",AB21="Detectivo"),"Probabilidad",IF(AB21="Correctivo","Impacto","")) | AD21: =IF(AND(AB21="Preventivo",AC21="Automático"),"50%",IF(AND(AB21="Preventivo",AC21="Manual"),"40%",IF(AND(AB21="Detectivo",AC21="Automático"),"40%",IF(AND(AB21="Detectivo",AC21="Manual"),"30%",IF(AND(AB21="Correctivo",AC21="Automático"),"35%",IF(AND(AB21="Correctivo",AC21="Manual"),"25%","")))))) | AH21: =IFERROR(IF(AND(AA20="Probabilidad",AA21="Probabilidad"),(AJ20-(+AJ20*AD21)),IF(AND(AA20="Impacto",AA21="Probabilidad"),(AJ19-(+AJ19*AD21)),IF(AA21="Impacto",AJ20,""))),"") | AI21: =IFERROR(IF(AH21="","",IF(AH21<=0.2,"Muy Baja",IF(AH21<=0.4,"Baja",IF(AH21<=0.6,"Media",IF(AH21<=0.8,"Alta","Muy Alta"))))),"") | AJ21: =+AH21 | AK21: =IFERROR(IF(AL21="","",IF(AL21<=0.2,"Leve",IF(AL21<=0.4,"Menor",IF(AL21<=0.6,"Moderado",IF(AL21<=0.8,"Mayor","Catastrófico"))))),"") | AL21: =IFERROR(IF(AND(AA20="Impacto",AA21="Impacto"),(AL20-(+AL20*AD21)),IF(AND(AA20="Probabilidad",AA21="Impacto"),(AL19-(+AL19*AD21)),IF(AA21="Probabilidad",AL20,""))),"") | AM21: =IFERROR(IF(OR(AND(AI21="Muy Baja",AK21="Leve"),AND(AI21="Muy Baja",AK21="Menor"),AND(AI21="Baja",AK21="Leve")),"Bajo",IF(OR(AND(AI21="Muy baja",AK21="Moderado"),AND(AI21="Baja",AK21="Menor"),AND(AI21="Baja",AK21="Moderado"),AND(AI21="Media",AK21="Leve"),AND(AI21="Media",AK21="Menor"),AND(AI21="Media",AK21="Moderado"),AND(AI21="Alta",AK21="Leve"),AND(AI21="Alta",AK21="Menor")),"Moderado",IF(OR(AND(AI21="Muy Baja",AK21="Mayor"),AND(AI21="Baja",AK21="Mayor"),AND(AI21="Media",AK21="Mayor"),AND(AI21="Alta",AK21="Moderado"),AND(AI21="Alta",AK21="Mayor"),AND(AI21="Muy Alta",AK21="Leve"),AND(AI21="Muy Alta",AK21="Menor"),AND(AI21="Muy Alta",AK21="Moderado"),AND(AI21="Muy Alta",AK21="Mayor")),"Alto",IF(OR(AND(AI21="Muy Baja",AK21="Catastrófico"),AND(AI21="Baja",AK21="Catastrófico"),AND(AI21="Media",AK21="Catastrófico"),AND(AI21="Alta",AK21="Catastrófico"),AND(AI21="Muy Alta",AK21="Catastrófico")),"Extremo","")))),"") | AP21: =+IF(AO21=5,"CASI SEGURO",(IF(AO21=4,"PROBABLE",(IF(AO21=3,"POSIBLE",(IF(AO21=2,"RARA VEZ",(IF(AO21=1,"IMPROBABLE",""))))))))) | AR21: =+IF(AQ21=5,"ALTO",(IF(AQ21=3,"MEDIO",(IF(AQ21=1,"BAJO",IF(OR(AQ21=2,AQ21=4),"NO APLICA","")))))) | AS21: =IF(AND(AO21<>"",AQ21<>"",AR21<>"NO APLICA"),AO21*AQ21,"") | AT21: =IF(AND(AS21<4,AS21>0),"BAJA",IF(AND(AS21>9,AS21<26),"ALTA",IF(AND(AS21>3,AS21<10),"MEDIA","")))
A22: 3 | L22: =IF(K22<=0,"",IF(K22<=2,"Muy Baja",IF(K22<=24,"Baja",IF(K22<=500,"Media",IF(K22<=5000,"Alta","Muy Alta"))))) | M22: =IF(L22="","",IF(L22="Muy Baja",0.2,IF(L22="Baja",0.4,IF(L22="Media",0.6,IF(L22="Alta",0.8,IF(L22="Muy Alta",1,)))))) | O22: =IF(NOT(ISERROR(MATCH(N22,'Tabla Impacto'!$B$221:$B$223,0))),'Tabla Impacto'!$F$223&"Por favor no seleccionar los criterios de impacto(Afectación Económica o presupuestal y Pérdida Reputacional)",N22) -> 0 | P22: =IF(OR(O22='Tabla Impacto'!$C$11,O22='Tabla Impacto'!$D$11),"Leve",IF(OR(O22='Tabla Impacto'!$C$12,O22='Tabla Impacto'!$D$12),"Menor",IF(OR(O22='Tabla Impacto'!$C$13,O22='Tabla Impacto'!$D$13),"Moderado",IF(OR(O22='Tabla Impacto'!$C$14,O22='Tabla Impacto'!$D$14),"Mayor",IF(OR(O22='Tabla Impacto'!$C$15,O22='Tabla Impacto'!$D$15),"Catastrófico",""))))) | Q22: =IF(P22="","",IF(P22="Leve",0.2,IF(P22="Menor",0.4,IF(P22="Moderado",0.6,IF(P22="Mayor",0.8,IF(P22="Catastrófico",1,)))))) | R22: =IF(OR(AND(L22="Muy Baja",P22="Leve"),AND(L22="Muy Baja",P22="Menor"),AND(L22="Baja",P22="Leve")),"Bajo",IF(OR(AND(L22="Muy baja",P22="Moderado"),AND(L22="Baja",P22="Menor"),AND(L22="Baja",P22="Moderado"),AND(L22="Media",P22="Leve"),AND(L22="Media",P22="Menor"),AND(L22="Media",P22="Moderado"),AND(L22="Alta",P22="Leve"),AND(L22="Alta",P22="Menor")),"Moderado",IF(OR(AND(L22="Muy Baja",P22="Mayor"),AND(L22="Baja",P22="Mayor"),AND(L22="Media",P22="Mayor"),AND(L22="Alta",P22="Moderado"),AND(L22="Alta",P22="Mayor"),AND(L22="Muy Alta",P22="Leve"),AND(L22="Muy Alta",P22="Menor"),AND(L22="Muy Alta",P22="Moderado"),AND(L22="Muy Alta",P22="Mayor")),"Alto",IF(OR(AND(L22="Muy Baja",P22="Catastrófico"),AND(L22="Baja",P22="Catastrófico"),AND(L22="Media",P22="Catastrófico"),AND(L22="Alta",P22="Catastrófico"),AND(L22="Muy Alta",P22="Catastrófico")),"Extremo","")))) | T22: =+IF(S22=5,"CASI SEGURO",(IF(S22=4,"PROBABLE",(IF(S22=3,"POSIBLE",(IF(S22=2,"RARA VEZ",(IF(S22=1,"IMPROBABLE",""))))))))) | V22: =+IF(U22=5,"ALTO",(IF(U22=3,"MEDIO",(IF(U22=1,"BAJO",IF(OR(U22=2,U22=4),"NO APLICA","")))))) | W22: =IF(AND(S22<>"",U22<>"",V22<>"NO APLICA"),S22*U22,"") | X22: =IF(AND(W22<4,W22>0),"BAJA",IF(AND(W22>9,W22<26),"ALTA",IF(AND(W22>3,W22<10),"MEDIA",""))) | Y22: 1 | AA22: =IF(OR(AB22="Preventivo",AB22="Detectivo"),"Probabilidad",IF(AB22="Correctivo","Impacto","")) | AD22: =IF(AND(AB22="Preventivo",AC22="Automático"),"50%",IF(AND(AB22="Preventivo",AC22="Manual"),"40%",IF(AND(AB22="Detectivo",AC22="Automático"),"40%",IF(AND(AB22="Detectivo",AC22="Manual"),"30%",IF(AND(AB22="Correctivo",AC22="Automático"),"35%",IF(AND(AB22="Correctivo",AC22="Manual"),"25%","")))))) | AH22: =IFERROR(IF(AA22="Probabilidad",(M22-(+M22*AD22)),IF(AA22="Impacto",M22,"")),"") | AI22: =IFERROR(IF(AH22="","",IF(AH22<=0.2,"Muy Baja",IF(AH22<=0.4,"Baja",IF(AH22<=0.6,"Media",IF(AH22<=0.8,"Alta","Muy Alta"))))),"") | AJ22: =+AH22 | AK22: =IFERROR(IF(AL22="","",IF(AL22<=0.2,"Leve",IF(AL22<=0.4,"Menor",IF(AL22<=0.6,"Moderado",IF(AL22<=0.8,"Mayor","Catastrófico"))))),"") | AL22: =IFERROR(IF(AA22="Impacto",(Q22-(+Q22*AD22)),IF(AA22="Probabilidad",Q22,"")),"") | AM22: =IFERROR(IF(OR(AND(AI22="Muy Baja",AK22="Leve"),AND(AI22="Muy Baja",AK22="Menor"),AND(AI22="Baja",AK22="Leve")),"Bajo",IF(OR(AND(AI22="Muy baja",AK22="Moderado"),AND(AI22="Baja",AK22="Menor"),AND(AI22="Baja",AK22="Moderado"),AND(AI22="Media",AK22="Leve"),AND(AI22="Media",AK22="Menor"),AND(AI22="Media",AK22="Moderado"),AND(AI22="Alta",AK22="Leve"),AND(AI22="Alta",AK22="Menor")),"Moderado",IF(OR(AND(AI22="Muy Baja",AK22="Mayor"),AND(AI22="Baja",AK22="Mayor"),AND(AI22="Media",AK22="Mayor"),AND(AI22="Alta",AK22="Moderado"),AND(AI22="Alta",AK22="Mayor"),AND(AI22="Muy Alta",AK22="Leve"),AND(AI22="Muy Alta",AK22="Menor"),AND(AI22="Muy Alta",AK22="Moderado"),AND(AI22="Muy Alta",AK22="Mayor")),"Alto",IF(OR(AND(AI22="Muy Baja",AK22="Catastrófico"),AND(AI22="Baja",AK22="Catastrófico"),AND(AI22="Media",AK22="Catastrófico"),AND(AI22="Alta",AK22="Catastrófico"),AND(AI22="Muy Alta",AK22="Catastrófico")),"Extremo","")))),"") | AP22: =+IF(AO22=5,"CASI SEGURO",(IF(AO22=4,"PROBABLE",(IF(AO22=3,"POSIBLE",(IF(AO22=2,"RARA VEZ",(IF(AO22=1,"IMPROBABLE",""))))))))) | AR22: =+IF(AQ22=5,"ALTO",(IF(AQ22=3,"MEDIO",(IF(AQ22=1,"BAJO",IF(OR(AQ22=2,AQ22=4),"NO APLICA","")))))) | AS22: =IF(AND(AO22<>"",AQ22<>"",AR22<>"NO APLICA"),AO22*AQ22,"") | AT22: =IF(AND(AS22<4,AS22>0),"BAJA",IF(AND(AS22>9,AS22<26),"ALTA",IF(AND(AS22>3,AS22<10),"MEDIA","")))
