Workbook

Sheet MENU
C2: SISTEMA DE GESTIÓN
A7: TABLERO DE MANDO DE INDICADORES
A8: LABORATORIO AMBIENTAL DE CORPOCESAR
A10: Creamos Valor con Tecnología e Innovación
A11: Codigo: H09-HERRAMIENTA TABLERO DE INDICADORES
B12: Versión 1.0.0

Sheet LISTA INDICADORES
M1: PCM-04-LI FECHA: 12/02/2016 VERSIÓN: 1.0
C3: LISTADO DE INDICADORES DE GESTIÓN
C5: No. | D5: NOMBRE DEL INDICADOR | E5: TIPO DE INDICADOR | F5: PARA QUE SIRVE EL INDICADOR | G5: PROCESO | H5: FORMULA | I5: UNIDADES | J5: META | K5: TENDENCIA ESPERADA | L5: FRECUENCIA DE MEDICIÓN | M5: FUENTE DE INFORMACIÓN | N5: RESPONSABLE
C6: _1 | D6: Eficacia en el reporte en la plataforma del SISAIRE de los valores de las concentraciones de Material Particulado medidas por el laboratorio en los sistemas de monitoreo de calidad de aire | E6: EFICACIA | F6: Este indicador permitirá establecer el cumplimiento en el cargue y/o reporte de las concentraciones de MP en la plataforma de SISAIRE de los monitoreos en los sistemas de vigilancia de calidad de aire realizados por el laboratorio ambiental. | G6: Laboratorio Ambiental | H6: ER= intervalo de dias en que se realiza la entrega de los resultados | I6: días Hábiles | J6: 5 | K6: MANTENER | L6: Mensual | M6: LABORATORIO AMBIENTAL | N6: Analista de datos
C7: _2 | D7: Representatividad temporal de datos tomados en estaciones de monitoreo de calidad de aire. | E7: EFECTIVIDAD | F7: Este indicador permitirá establecer la validez del número de datos (representatividad) en cada estación de monitoreo por parámetro que allí se mida. | G7: Laboratorio Ambiental | H7: %efectividad muestreo=(# Mtras válidas/mes)/(# Mtras totales /mes) x100 | I7: % | J7: 1 | K7: AUMENTAR | L7: Mensual | M7: LABORATORIO AMBIENTAL | N7: Analista de datos
C8: _3 | D8: Eficacia en la ejecución de los planes de monitoreo | E8: EFICACIA | F8: Este indicador permite determinar la eficacia de la ejecución de los planes de monitoreo del laboratorio | G8: Laboratorio Ambiental | H8: ME = (número de muestras tomadas efectivas / número de muestras programadas)*100 | I8: % | J8: 1 | K8: MANTENER | L8: Trimestral | M8: LABORATORIO AMBIENTAL | N8: Coordinador Técnico
C9: _4 | D9: Eficacia en la ejecución del programa de calibración y de verificaciones intermedias de equipos | E9: EFICACIA | F9: Este indicador permite realizar medición y seguimiento al programa de calibración y verificaciones intermedias de equipos e instrumentos | G9: Laboratorio Ambiental | H9: %Calibración y Verificaciones intermedias de equipos = (calibraciones + verificaciones intermedias realizadas / programadas)*100 | I9: % | J9: 1 | K9: MANTENER | L9: Trimestral | M9: LABORATORIO AMBIENTAL | N9: Coordinador Técnico
C10: _5 | D10: Eficacia en el mantenimiento preventivo de equipos | E10: EFICIENCIA | F10: Este indicador permite determinar la eficiencia en las labores de mantenimiento y operatividad de los equipos e instrumentos del laboratorio | G10: Laboratorio Ambiental | H10: FE = (número de equipos que operan sin fallas / número total de equipos operativos que requieren mantenimiento preventivo totales)*100 | I10: % | J10: 1 | K10: AUMENTAR | L10: Mensual | M10: LABORATORIO AMBIENTAL | N10: Coordinador Técnico
C11: _6 | D11: Eficacia en la ejecución del programa anual de capacitación | E11: EFICACIA | F11: Este indicador permite conocer el cumplimiento en la ejecución del programa anual de capacitación del laboratorio | G11: Laboratorio Ambiental | H11: CE = (capacitaciones realizadas / capacitaciones programadas)*100 | I11: % | J11: 1 | K11: MANTENER | L11: Trimestral | M11: LABORATORIO AMBIENTAL | N11: Director Técnico
C12: _7 | D12: Eficiencia en la entrega de informes de resultados a clientes internos y externos | E12: EFICACIA | F12: Este indicador permitirá determinar el cumplimiento en los tiempos de entrega de los informes de resultados del laboratorio ambiental | G12: Laboratorio Ambiental | H12: TE = intervalo de dias en que se realiza la entrega del informe de resultados | I12: días Hábiles | J12: 25 | K12: MANTENER | L12: Trimestral | M12: LABORATORIO AMBIENTAL | N12: Director Técnico
C13: _8 | D13: Eficacia en la resolución de quejas asociadas los informes de resultados del laboratorio | E13: EFICACIA | F13: Este indicador permite determinar la cantidad de quejas relacionadas con los informes de resultados y medir la eficacia en solución de las mismas | G13: Laboratorio Ambiental | H13: %SQ=(quejas resueltas/quejas recibidas)x100 | I13: % | J13: 1 | K13: MANTENER | L13: Semestral | M13: LABORATORIO AMBIENTAL | N13: Director Técnico

Sheet TABLERO
W2: PCM-04-TM FECHA: 12/02/2016 VERSION: 1.0
J3: TABLERO DE MANDO
J4: =MENU!A8 -> LABORATORIO AMBIENTAL DE CORPOCESAR
C5: # | D5: NOMBRE DEL INDICADOR | E5: META | F5: TENDENCIA | G5: LIMITE INSATISACTORIO | H5: LIMITE SATISFACTORIO | J5: 2025 | W5: PROMEDIO-ACUMULADO
J6: ENE | K6: FEB | L6: MAR | M6: ABR | N6: MAY | O6: JUN | P6: JUL | Q6: AGO | R6: SEP | S6: OCT | T6: NOV | U6: DIC
C7: ='LISTA INDICADORES'!C6 -> _1 | D7: ='LISTA INDICADORES'!D6 -> Eficacia en el reporte en la plataforma del SISAIRE de los valores de las concentraciones de Material Particulado medidas por el laboratorio en los sistemas de monitoreo de calidad de aire | E7: ='LISTA INDICADORES'!J6 -> 5 | F7: ='LISTA INDICADORES'!K6 -> MANTENER | G7: 8 | H7: 5 | J7: 5 | K7: 6 | L7: 4 | M7: 5 | N7: 5 | O7: 6 | P7: 5 | Q7: 6 | R7: 5 | S7: 4 | T7: 5 | U7: 1 | V7: =COUNTA(J7:U7) -> 12 | W7: 4.8 | Y7: Mensual
C8: ='LISTA INDICADORES'!C7 -> _2 | D8: ='LISTA INDICADORES'!D7 -> Representatividad temporal de datos tomados en estaciones de monitoreo de calidad de aire. | E8: ='LISTA INDICADORES'!J7 -> 1 | F8: ='LISTA INDICADORES'!K7 -> AUMENTAR | G8: 0.74 | H8: 0.75 | J8: 1 | K8: 0.8995 | L8: 0.995 | M8: 1 | N8: 0.9915 | O8: 1 | P8: 0.995 | Q8: 0.99 | R8: 1 | S8: 0.9965 | T8: 0.985 | U8: 0.985 | V8: =COUNTA(J8:U8) -> 12 | W8: =IF(V8=0,"",+AVERAGE(J8:U8)) -> 0.98645833 | Y8: Mensual
C9: ='LISTA INDICADORES'!C8 -> _3 | D9: ='LISTA INDICADORES'!D8 -> Eficacia en la ejecución de los planes de monitoreo | E9: ='LISTA INDICADORES'!J8 -> 1 | F9: ='LISTA INDICADORES'!K8 -> MANTENER | G9: 0.9 | H9: 1 | K9: 0.925 | N9: 1 | Q9: 1 | T9: 0.985 | V9: =COUNTA(J9:U9) -> 4 | W9: =IF(V9=0,"",+AVERAGE(J9:U9)) -> 0.9775 | Y9: Trimestral
C10: ='LISTA INDICADORES'!C9 -> _4 | D10: ='LISTA INDICADORES'!D9 -> Eficacia en la ejecución del programa de calibración y de verificaciones intermedias de equipos | E10: ='LISTA INDICADORES'!J9 -> 1 | F10: ='LISTA INDICADORES'!K9 -> MANTENER | G10: 0.9 | H10: 1 | K10: 0.7 | N10: 1 | Q10: 1 | T10: 1 | V10: =COUNTA(J10:U10) -> 4 | W10: =IF(V10=0,"",+AVERAGE(J10:U10)) -> 0.925 | Y10: Trimestral
C11: ='LISTA INDICADORES'!C10 -> _5 | D11: ='LISTA INDICADORES'!D10 -> Eficacia en el mantenimiento preventivo de equipos | E11: ='LISTA INDICADORES'!J10 -> 1 | F11: ='LISTA INDICADORES'!K10 -> AUMENTAR | G11: 0.9 | H11: 0.95 | J11: 1 | K11: 1 | L11: 1 | M11: 1 | N11: 1 | O11: 0.77 | P11: 0.85 | Q11: 1 | R11: 1 | S11: 1 | T11: 1 | U11: 1 | V11: =COUNTA(J11:U11) -> 12 | W11: =IF(V11=0,"",+AVERAGE(J11:U11)) -> 0.96833333 | Y11: Mensual
C12: ='LISTA INDICADORES'!C11 -> _6 | D12: ='LISTA INDICADORES'!D11 -> Eficacia en la ejecución del programa anual de capacitación | E12: ='LISTA INDICADORES'!J11 -> 1 | F12: ='LISTA INDICADORES'!K11 -> MANTENER | G12: 0.9 | H12: 0.95 | K12: 1 | N12: 0.66 | Q12: 1 | T12: 1 | V12: =COUNTA(J12:U12) -> 4 | W12: =IF(V12=0,"",+AVERAGE(J12:U12)) -> 0.915 | Y12: Trimestral
C13: ='LISTA INDICADORES'!C12 -> _7 | D13: ='LISTA INDICADORES'!D12 -> Eficiencia en la entrega de informes de resultados a clientes internos y externos | E13: ='LISTA INDICADORES'!J12 -> 25 | F13: ='LISTA INDICADORES'!K12 -> MANTENER | G13: 26 | H13: 25 | K13: N.A | N13: N.A | Q13: N.A | T13: N.A | V13: =COUNTA(J13:U13) -> 4 | W13: 1 | Y13: Trimestral
C14: ='LISTA INDICADORES'!C13 -> _8 | D14: ='LISTA INDICADORES'!D13 -> Eficacia en la resolución de quejas asociadas los informes de resultados del laboratorio | E14: ='LISTA INDICADORES'!J13 -> 1 | F14: ='LISTA INDICADORES'!K13 -> MANTENER | G14: 0.99 | H14: 1 | O14: N.A | U14: N.A | V14: =COUNTA(J14:U14) -> 2 | W14: 1 | Y14: Semestral
C15: ='LISTA INDICADORES'!C14 -> 0 | G15: 0.6 | H15: 0.9 | V15: =COUNTA(J15:U15) -> 0
C16: ='LISTA INDICADORES'!C15 -> 0 | G16: 0.6 | H16: 0.9 | V16: =COUNTA(J16:U16) -> 0 | W16: =IF(V16=0,"",+AVERAGE(J16:U16))

Sheet INDICADOR 1
D3: CARTA DE INDICADOR
D5: NOMBRE DEL INDICADOR | E5: =+'LISTA INDICADORES'!#REF! -> #REF! | G5: RESPONSABLE | H5: =+'LISTA INDICADORES'!#REF! -> #REF!
C7: Formula del Indicador: | E7: =+'LISTA INDICADORES'!#REF! -> #REF! | H7: Utilidad del indicador | I7: ='LISTA INDICADORES'!#REF! -> #REF!
C8: Frecuencia de medición | D8: =+'LISTA INDICADORES'!#REF! -> #REF! | E8: Fuente de Información: | F8: =+'LISTA INDICADORES'!#REF! -> #REF! | G8: Unidades | H8: =+'LISTA INDICADORES'!#REF! -> #REF! | I8: Tendencia esperada | J8: =TABLERO!#REF! -> #REF!
C9: Meta | D9: ='LISTA INDICADORES'!#REF! -> #REF! | F9: Nivel satisfactorio | G9: =+TABLERO!#REF! -> #REF! | H9: Nivel critico | I9: =+TABLERO!#REF! -> #REF!
C38: MES | D38: META | E38: LOGROS | F38: ANALISIS DE CAUSAS | I38: ACCIONES PROPUESTAS | O38: AMARILLO | P38: ROJO
C39: Enero | D39: =$D$9 -> #REF! | O39: =+$G$9 -> #REF! | P39: =+$I$9 -> #REF!
C40: Febrero | D40: =$D$9 -> #REF! | O40: =+$G$9 -> #REF! | P40: =+$I$9 -> #REF!
C41: Marzo | D41: =$D$9 -> #REF! | O41: =+$G$9 -> #REF! | P41: =+$I$9 -> #REF!
C42: Abril | D42: =$D$9 -> #REF! | O42: =+$G$9 -> #REF! | P42: =+$I$9 -> #REF!
C43: Mayo | D43: =$D$9 -> #REF! | O43: =+$G$9 -> #REF! | P43: =+$I$9 -> #REF!
C44: Junio | D44: =$D$9 -> #REF! | E44: =+TABLERO!#REF! -> #REF! | F44: Falta resolver los hallazgos de la visita del IDEAM. | I44: Resolver los hallazgos y Ejecutar el Plan de acción | O44: =+$G$9 -> #REF! | P44: =+$I$9 -> #REF!
C45: Julio | D45: =$D$9 -> #REF! | O45: =+$G$9 -> #REF! | P45: =+$I$9 -> #REF!
C46: Agosto | D46: =$D$9 -> #REF! | O46: =+$G$9 -> #REF! | P46: =+$I$9 -> #REF!
C47: Septiembre | D47: =$D$9 -> #REF! | O47: =+$G$9 -> #REF! | P47: =+$I$9 -> #REF!
C48: Octubre | D48: =$D$9 -> #REF! | O48: =+$G$9 -> #REF! | P48: =+$I$9 -> #REF!
C49: Noviembre | D49: =$D$9 -> #REF! | O49: =+$G$9 -> #REF! | P49: =+$I$9 -> #REF!
C50: Diciembre | D50: =$D$9 -> #REF! | E50: =+TABLERO!#REF! -> #REF! | O50: =+$G$9 -> #REF! | P50: =+$I$9 -> #REF!
C51: TOTALES | D51: =AVERAGE(D39:D50) -> #REF! | E51: =SUM(E44,E50)/COUNT(E44,E50) -> #REF!

Sheet INDICADOR 2
D3: CARTA DE INDICADOR
D5: NOMBRE DEL INDICADOR | E5: =+'LISTA INDICADORES'!#REF! -> #REF! | G5: RESPONSABLE | H5: =+'LISTA INDICADORES'!#REF! -> #REF!
C7: Formula del Indicador: | E7: =+'LISTA INDICADORES'!#REF! -> #REF! | H7: Utilidad del indicador | I7: ='LISTA INDICADORES'!#REF! -> #REF!
C8: Frecuencia de medición | D8: =+'LISTA INDICADORES'!#REF! -> #REF! | E8: Fuente de Información: | F8: =+'LISTA INDICADORES'!#REF! -> #REF! | G8: Unidades | H8: =+'LISTA INDICADORES'!#REF! -> #REF! | I8: Tendencia esperada | J8: =TABLERO!#REF! -> #REF!
C9: Meta | D9: ='LISTA INDICADORES'!#REF! -> #REF! | F9: Nivel satisfactorio | G9: =+TABLERO!#REF! -> #REF! | H9: Nivel critico | I9: =+TABLERO!#REF! -> #REF!
C10: 99
C38: MES | D38: META | E38: LOGROS | F38: ANALISIS DE CAUSAS | I38: ACCIONES PROPUESTAS | O38: VERDE | P38: ROJO
C39: Enero | D39: =$D$9 -> #REF! | E39: =+TABLERO!#REF! -> #REF! | O39: =+$G$9 -> #REF! | P39: =+$I$9 -> #REF!
C40: Febrero | D40: =$D$9 -> #REF! | E40: =+TABLERO!#REF! -> #REF! | O40: =+$G$9 -> #REF! | P40: =+$I$9 -> #REF!
C41: Marzo | D41: =$D$9 -> #REF! | O41: =+$G$9 -> #REF! | P41: =+$I$9 -> #REF!
C42: Abril | D42: =$D$9 -> #REF! | O42: =+$G$9 -> #REF! | P42: =+$I$9 -> #REF!
C43: Mayo | D43: =$D$9 -> #REF! | E43: =+TABLERO!#REF! -> #REF! | O43: =+$G$9 -> #REF! | P43: =+$I$9 -> #REF!
C44: Junio | D44: =$D$9 -> #REF! | E44: =+TABLERO!#REF! -> #REF! | F44: *PCM-04-F-79 FORMATO DE ENCUESTA DE SATISFACCION fue utilizado en versión antigua. *Los formatos de campo tenian espacios en blanco. | I44: Capacitar al personal en llenado de registros | O44: =+$G$9 -> #REF! | P44: =+$I$9 -> #REF!
C45: Julio | D45: =$D$9 -> #REF! | E45: =+TABLERO!#REF! -> #REF! | O45: =+$G$9 -> #REF! | P45: =+$I$9 -> #REF!
C46: Agosto | D46: =$D$9 -> #REF! | E46: =+TABLERO!#REF! -> #REF! | O46: =+$G$9 -> #REF! | P46: =+$I$9 -> #REF!
C47: Septiembre | D47: =$D$9 -> #REF! | E47: =+TABLERO!#REF! -> #REF! | O47: =+$G$9 -> #REF! | P47: =+$I$9 -> #REF!
C48: Octubre | D48: =$D$9 -> #REF! | E48: =+TABLERO!#REF! -> #REF! | O48: =+$G$9 -> #REF! | P48: =+$I$9 -> #REF!
C49: Noviembre | D49: =$D$9 -> #REF! | E49: =+TABLERO!#REF! -> #REF! | O49: =+$G$9 -> #REF! | P49: =+$I$9 -> #REF!
C50: Diciembre | D50: =$D$9 -> #REF! | E50: =+TABLERO!#REF! -> #REF! | O50: =+$G$9 -> #REF! | P50: =+$I$9 -> #REF!
C51: TOTALES | D51: =AVERAGE(D39:D50) -> #REF! | E51: =SUM(E44,E50)/COUNT(E44,E50) -> #REF!

Sheet INDICADOR 3
D3: CARTA DE INDICADOR
D5: NOMBRE DEL INDICADOR | E5: =+'LISTA INDICADORES'!#REF! -> #REF! | G5: RESPONSABLE | H5: =+'LISTA INDICADORES'!#REF! -> #REF!
C7: Formula del Indicador: | E7: =+'LISTA INDICADORES'!#REF! -> #REF! | H7: Utilidad del indicador | I7: ='LISTA INDICADORES'!#REF! -> #REF!
C8: Frecuencia de medición | D8: =+'LISTA INDICADORES'!#REF! -> #REF! | E8: Fuente de Información: | F8: =+'LISTA INDICADORES'!#REF! -> #REF! | G8: Unidades | H8: =+'LISTA INDICADORES'!#REF! -> #REF! | I8: Tendencia esperada | J8: =TABLERO!#REF! -> #REF!
C9: Meta | D9: =+'LISTA INDICADORES'!#REF! -> #REF! | F9: Nivel satisfactorio | G9: =+TABLERO!#REF! -> #REF! | H9: Nivel critico | I9: =+TABLERO!#REF! -> #REF!
C10: 99
C38: MES | D38: META | E38: LOGROS | F38: ANALISIS DE CAUSAS | I38: ACCIONES PROPUESTAS | O38: VERDE | P38: ROJO
C39: Enero | D39: =$D$9 -> #REF! | O39: =+$G$9 -> #REF! | P39: =+$I$9 -> #REF!
C40: Febrero | D40: =$D$9 -> #REF! | O40: =+$G$9 -> #REF! | P40: =+$I$9 -> #REF!
C41: Marzo | D41: =$D$9 -> #REF! | O41: =+$G$9 -> #REF! | P41: =+$I$9 -> #REF!
C42: Abril | D42: =$D$9 -> #REF! | O42: =+$G$9 -> #REF! | P42: =+$I$9 -> #REF!
C43: Mayo | D43: =$D$9 -> #REF! | E43: =+TABLERO!#REF! -> #REF! | O43: =+$G$9 -> #REF! | P43: =+$I$9 -> #REF!
C44: Junio | D44: =$D$9 -> #REF! | E44: =+TABLERO!#REF! -> #REF! | F44: No se registraron quejas | I44: Pedir retroalimentación a usuarios | O44: =+$G$9 -> #REF! | P44: =+$I$9 -> #REF!
C45: Julio | D45: =$D$9 -> #REF! | O45: =+$G$9 -> #REF! | P45: =+$I$9 -> #REF!
C46: Agosto | D46: =$D$9 -> #REF! | O46: =+$G$9 -> #REF! | P46: =+$I$9 -> #REF!
C47: Septiembre | D47: =$D$9 -> #REF! | O47: =+$G$9 -> #REF! | P47: =+$I$9 -> #REF!
C48: Octubre | D48: =$D$9 -> #REF! | O48: =+$G$9 -> #REF! | P48: =+$I$9 -> #REF!
C49: Noviembre | D49: =$D$9 -> #REF! | O49: =+$G$9 -> #REF! | P49: =+$I$9 -> #REF!
C50: Diciembre | D50: =$D$9 -> #REF! | E50: =+TABLERO!#REF! -> #REF! | O50: =+$G$9 -> #REF! | P50: =+$I$9 -> #REF!
C51: TOTALES | D51: =AVERAGE(D39:D50) -> #REF! | E51: =SUM(E44,E50)/COUNT(E44,E50) -> #REF!

Sheet INDICADOR_1
D3: CARTA DE INDICADOR
D5: NOMBRE DEL INDICADOR | E5: =+'LISTA INDICADORES'!D6 -> Eficacia en el reporte en la plataforma del SISAIRE de los valores de las concentraciones de Material Particulado medidas por el laboratorio en los sistemas de monitoreo de calidad de aire | G5: RESPONSABLE | H5: =+'LISTA INDICADORES'!N6 -> Analista de datos
C7: Formula del Indicador: | E7: =+'LISTA INDICADORES'!H6 -> ER= intervalo de dias en que se realiza la entrega de los resultados | H7: Utilidad del indicador | I7: ='LISTA INDICADORES'!F6 -> Este indicador permitirá establecer el cumplimiento en el cargue y/o reporte de las concentraciones de MP en la plataforma de SISAIRE de los monitoreos en los sistemas de vigilancia de calidad de aire realizados por el laboratorio ambiental.
C8: Frecuencia de medición | D8: =+'LISTA INDICADORES'!L6 -> Mensual | E8: Fuente de Información: | F8: =+'LISTA INDICADORES'!M6 -> LABORATORIO AMBIENTAL | G8: Unidades | H8: =+'LISTA INDICADORES'!I6 -> días Hábiles | I8: Tendencia esperada | J8: =TABLERO!F7 -> MANTENER
C9: Meta | D9: =+'LISTA INDICADORES'!J6 -> 5 | F9: Nivel satisfactorio | G9: =+TABLERO!H7 -> 5 | H9: Nivel critico | I9: =+TABLERO!G7 -> 8
C10: 99
C38: MES | D38: META | E38: LOGROS | F38: ANALISIS DE CAUSAS | I38: ACCIONES PROPUESTAS | O38: VERDE | P38: ROJO
C39: Enero | D39: =$D$9 -> 5 | E39: =+TABLERO!J$7 -> 5 | O39: =+$G$9 -> 5 | P39: =+$I$9 -> 8
C40: Febrero | D40: =$D$9 -> 5 | E40: =+TABLERO!K$7 -> 6 | O40: =+$G$9 -> 5 | P40: =+$I$9 -> 8
C41: Marzo | D41: =$D$9 -> 5 | E41: =+TABLERO!L$7 -> 4 | O41: =+$G$9 -> 5 | P41: =+$I$9 -> 8
C42: Abril | D42: =$D$9 -> 5 | E42: =+TABLERO!M$7 -> 5 | O42: =+$G$9 -> 5 | P42: =+$I$9 -> 8
C43: Mayo | D43: =$D$9 -> 5 | E43: =+TABLERO!N$7 -> 5 | O43: =+$G$9 -> 5 | P43: =+$I$9 -> 8
C44: Junio | D44: =$D$9 -> 5 | E44: =+TABLERO!O$7 -> 6 | O44: =+$G$9 -> 5 | P44: =+$I$9 -> 8
C45: Julio | D45: =$D$9 -> 5 | E45: =+TABLERO!P$7 -> 5 | O45: =+$G$9 -> 5 | P45: =+$I$9 -> 8
C46: Agosto | D46: =$D$9 -> 5 | E46: =+TABLERO!Q$7 -> 6 | O46: =+$G$9 -> 5 | P46: =+$I$9 -> 8
C47: Septiembre | D47: =$D$9 -> 5 | E47: =+TABLERO!R$7 -> 5 | O47: =+$G$9 -> 5 | P47: =+$I$9 -> 8
C48: Octubre | D48: =$D$9 -> 5 | E48: =+TABLERO!S$7 -> 4 | O48: =+$G$9 -> 5 | P48: =+$I$9 -> 8
C49: Noviembre | D49: =$D$9 -> 5 | E49: =+TABLERO!T$7 -> 5 | O49: =+$G$9 -> 5 | P49: =+$I$9 -> 8
C50: Diciembre | D50: =$D$9 -> 5 | E50: =+TABLERO!U$7 -> 1 | F50: Se aclara que la plataforma presentó fallas entre los días 01 de enero y 16 de enero del 2026, lo cual fue notificado a este despacho mediante correo electronico con asunto "FALLO PLATAFORMA SISAIRE - No deja cargar datos" donde adjuntan Radicado No.: 20266000005451 Fecha: 16 enero 2026 como soporte a la situación | O50: =+$G$9 -> 5 | P50: =+$I$9 -> 8
C51: TOTALES | D51: =AVERAGE(D39:D50) -> 5 | E51: =SUM(E39:E50)/COUNT(E39:E50) -> 4.75

Sheet INDICADOR_2
D3: CARTA DE INDICADOR
D5: NOMBRE DEL INDICADOR | E5: =+'LISTA INDICADORES'!D7 -> Representatividad temporal de datos tomados en estaciones de monitoreo de calidad de aire. | G5: RESPONSABLE | H5: =+'LISTA INDICADORES'!N7 -> Analista de datos
C7: Formula del Indicador: | E7: =+'LISTA INDICADORES'!H7 -> %efectividad muestreo=(# Mtras válidas/mes)/(# Mtras totales /mes) x100 | H7: Utilidad del indicador | I7: ='LISTA INDICADORES'!F7 -> Este indicador permitirá establecer la validez del número de datos (representatividad) en cada estación de monitoreo por parámetro que allí se mida.
C8: Frecuencia de medición | D8: =+'LISTA INDICADORES'!L7 -> Mensual | E8: Fuente de Información: | F8: =+'LISTA INDICADORES'!M7 -> LABORATORIO AMBIENTAL | G8: Unidades | H8: =+'LISTA INDICADORES'!I7 -> % | I8: Tendencia esperada | J8: =TABLERO!F8 -> AUMENTAR
C9: Meta | D9: =+'LISTA INDICADORES'!J7 -> 1 | F9: Nivel satisfactorio | G9: =+TABLERO!H8 -> 0.75 | H9: Nivel critico | I9: =+TABLERO!G8 -> 0.74
C10: 99
C38: MES | D38: META | E38: LOGROS | F38: ANALISIS DE CAUSAS | I38: ACCIONES PROPUESTAS | O38: VERDE | P38: ROJO
C39: Enero | D39: =$D$9 -> 1 | E39: =+TABLERO!J$8 -> 1 | O39: =+$G$9 -> 0.75 | P39: =+$I$9 -> 0.74
C40: Febrero | D40: =$D$9 -> 1 | E40: =+TABLERO!K$8 -> 0.8995 | O40: =+$G$9 -> 0.75 | P40: =+$I$9 -> 0.74
C41: Marzo | D41: =$D$9 -> 1 | E41: =+TABLERO!L$8 -> 0.995 | O41: =+$G$9 -> 0.75 | P41: =+$I$9 -> 0.74
C42: Abril | D42: =$D$9 -> 1 | E42: =+TABLERO!M$8 -> 1 | O42: =+$G$9 -> 0.75 | P42: =+$I$9 -> 0.74
C43: Mayo | D43: =$D$9 -> 1 | E43: =+TABLERO!N$8 -> 0.9915 | O43: =+$G$9 -> 0.75 | P43: =+$I$9 -> 0.74
C44: Junio | D44: =$D$9 -> 1 | E44: =+TABLERO!O$8 -> 1 | O44: =+$G$9 -> 0.75 | P44: =+$I$9 -> 0.74
C45: Julio | D45: =$D$9 -> 1 | E45: =+TABLERO!P$8 -> 0.995 | O45: =+$G$9 -> 0.75 | P45: =+$I$9 -> 0.74
C46: Agosto | D46: =$D$9 -> 1 | E46: =+TABLERO!Q$8 -> 0.99 | O46: =+$G$9 -> 0.75 | P46: =+$I$9 -> 0.74
C47: Septiembre | D47: =$D$9 -> 1 | E47: =+TABLERO!R$8 -> 1 | O47: =+$G$9 -> 0.75 | P47: =+$I$9 -> 0.74
C48: Octubre | D48: =$D$9 -> 1 | E48: =+TABLERO!S$8 -> 0.9965 | O48: =+$G$9 -> 0.75 | P48: =+$I$9 -> 0.74
C49: Noviembre | D49: =$D$9 -> 1 | E49: =+TABLERO!T$8 -> 0.985 | O49: =+$G$9 -> 0.75 | P49: =+$I$9 -> 0.74
C50: Diciembre | D50: =$D$9 -> 1 | E50: =+TABLERO!U$8 -> 0.985 | O50: =+$G$9 -> 0.75 | P50: =+$I$9 -> 0.74
C51: TOTALES | D51: =AVERAGE(D39:D50) -> 1 | E51: =SUM(E39:E50)/COUNT(E39:E50) -> 0.98645833

Sheet INDICADOR_3
D3: CARTA DE INDICADOR
D5: NOMBRE DEL INDICADOR | E5: ='LISTA INDICADORES'!D8 -> Eficacia en la ejecución de los planes de monitoreo | G5: RESPONSABLE | H5: =+'LISTA INDICADORES'!N9 -> Coordinador Técnico
C7: Formula del Indicador: | E7: ='LISTA INDICADORES'!H8 -> ME = (número de muestras tomadas efectivas / número de muestras programadas)*100 | H7: Utilidad del indicador | I7: ='LISTA INDICADORES'!F8 -> Este indicador permite determinar la eficacia de la ejecución de los planes de monitoreo del laboratorio
C8: Frecuencia de medición | D8: =+'LISTA INDICADORES'!L9 -> Trimestral | E8: Fuente de Información: | F8: =+'LISTA INDICADORES'!M9 -> LABORATORIO AMBIENTAL | G8: Unidades | H8: =+'LISTA INDICADORES'!I9 -> % | I8: Tendencia esperada | J8: =TABLERO!F9 -> MANTENER
C9: Meta | D9: =+'LISTA INDICADORES'!J9 -> 1 | F9: Nivel satisfactorio | G9: =+TABLERO!H9 -> 1 | H9: Nivel critico | I9: =+TABLERO!G9 -> 0.9
C10: 99
C38: MES | D38: META | E38: LOGROS | F38: ANALISIS DE CAUSAS | I38: ACCIONES PROPUESTAS | O38: VERDE | P38: ROJO
C39: Enero | D39: =$D$9 -> 1 | E39: =+TABLERO!J$9 -> 0 | O39: =+$G$9 -> 1 | P39: =+$I$9 -> 0.9
C40: Febrero | D40: =$D$9 -> 1 | E40: =+TABLERO!K$9 -> 0.925 | O40: =+$G$9 -> 1 | P40: =+$I$9 -> 0.9
C41: Marzo | D41: =$D$9 -> 1 | E41: =+TABLERO!L$9 -> 0 | O41: =+$G$9 -> 1 | P41: =+$I$9 -> 0.9
C42: Abril | D42: =$D$9 -> 1 | E42: =+TABLERO!M$9 -> 0 | O42: =+$G$9 -> 1 | P42: =+$I$9 -> 0.9
C43: Mayo | D43: =$D$9 -> 1 | E43: =+TABLERO!N$9 -> 1 | O43: =+$G$9 -> 1 | P43: =+$I$9 -> 0.9
C44: Junio | D44: =$D$9 -> 1 | E44: =+TABLERO!O$9 -> 0 | O44: =+$G$9 -> 1 | P44: =+$I$9 -> 0.9
C45: Julio | D45: =$D$9 -> 1 | E45: =+TABLERO!P$9 -> 0 | O45: =+$G$9 -> 1 | P45: =+$I$9 -> 0.9
C46: Agosto | D46: =$D$9 -> 1 | E46: =+TABLERO!Q$9 -> 1 | O46: =+$G$9 -> 1 | P46: =+$I$9 -> 0.9
C47: Septiembre | D47: =$D$9 -> 1 | E47: =+TABLERO!R$9 -> 0 | O47: =+$G$9 -> 1 | P47: =+$I$9 -> 0.9
C48: Octubre | D48: =$D$9 -> 1 | E48: =+TABLERO!S$9 -> 0 | O48: =+$G$9 -> 1 | P48: =+$I$9 -> 0.9
C49: Noviembre | D49: =$D$9 -> 1 | E49: =+TABLERO!T$9 -> 0.985 | O49: =+$G$9 -> 1 | P49: =+$I$9 -> 0.9
C50: Diciembre | D50: =$D$9 -> 1 | E50: =+TABLERO!U$9 -> 0 | O50: =+$G$9 -> 1 | P50: =+$I$9 -> 0.9
C51: TOTALES | D51: =AVERAGE(D39:D50) -> 1 | E51: =SUM(E39:E50)/(4) -> 0.9775

Sheet INDICADOR_4
D3: CARTA DE INDICADOR
D5: NOMBRE DEL INDICADOR | E5: ='LISTA INDICADORES'!D9 -> Eficacia en la ejecución del programa de calibración y de verificaciones intermedias de equipos | G5: RESPONSABLE | H5: ='LISTA INDICADORES'!N9 -> Coordinador Técnico
C7: Formula del Indicador: | E7: ='LISTA INDICADORES'!H9 -> %Calibración y Verificaciones intermedias de equipos = (calibraciones + verificaciones intermedias realizadas / programadas)*100 | H7: Utilidad del indicador | I7: ='LISTA INDICADORES'!F9 -> Este indicador permite realizar medición y seguimiento al programa de calibración y verificaciones intermedias de equipos e instrumentos
C8: Frecuencia de medición | D8: ='LISTA INDICADORES'!L9 -> Trimestral | E8: Fuente de Información: | F8: =+'LISTA INDICADORES'!M13 -> LABORATORIO AMBIENTAL | G8: Unidades | H8: =+'LISTA INDICADORES'!I13 -> % | I8: Tendencia esperada | J8: =TABLERO!F10
C9: Meta | D9: =+'LISTA INDICADORES'!J11 -> 1 | F9: Nivel satisfactorio | G9: =TABLERO!H10 -> 1 | H9: Nivel critico | I9: =TABLERO!G10 -> 0.9
C10: 99
C38: MES | D38: META | E38: LOGROS | F38: ANALISIS DE CAUSAS | I38: ACCIONES PROPUESTAS | O38: VERDE | P38: ROJO
C39: Enero | E39: =+TABLERO!J$10 -> 0 | O39: =+$G$9 -> 1 | P39: =+$I$9 -> 0.9
C40: Febrero | D40: =$D$9 -> 1 | E40: =+TABLERO!K$10 -> 0.7 | F40: Ver archivo de TNC del Sistema de Gestión de Calidad | O40: =+$G$9 -> 1 | P40: =+$I$9 -> 0.9
C41: Marzo | E41: =+TABLERO!L$10 -> 0 | O41: =+$G$9 -> 1 | P41: =+$I$9 -> 0.9
C42: Abril | E42: =+TABLERO!M$10 -> 0 | O42: =+$G$9 -> 1 | P42: =+$I$9 -> 0.9
C43: Mayo | D43: =$D$9 -> 1 | E43: =+TABLERO!N$10 -> 1 | O43: =+$G$9 -> 1 | P43: =+$I$9 -> 0.9
C44: Junio | E44: =+TABLERO!O$10 -> 0 | O44: =+$G$9 -> 1 | P44: =+$I$9 -> 0.9
C45: Julio | E45: =+TABLERO!P$10 -> 0 | O45: =+$G$9 -> 1 | P45: =+$I$9 -> 0.9
C46: Agosto | D46: =$D$9 -> 1 | E46: =+TABLERO!Q$10 -> 1 | O46: =+$G$9 -> 1 | P46: =+$I$9 -> 0.9
C47: Septiembre | E47: =+TABLERO!R$10 -> 0 | O47: =+$G$9 -> 1 | P47: =+$I$9 -> 0.9
C48: Octubre | E48: =+TABLERO!S$10 -> 0 | O48: =+$G$9 -> 1 | P48: =+$I$9 -> 0.9
C49: Noviembre | D49: =$D$9 -> 1 | E49: =+TABLERO!T$10 -> 1 | O49: =+$G$9 -> 1 | P49: =+$I$9 -> 0.9
C50: Diciembre | E50: =+TABLERO!U$10 -> 0 | O50: =+$G$9 -> 1 | P50: =+$I$9 -> 0.9
C51: TOTALES | D51: =AVERAGE(D39:D50) -> 1 | E51: =SUM(E39:E50)/(4) -> 0.925

Sheet INDICADOR_5
D3: CARTA DE INDICADOR
D5: NOMBRE DEL INDICADOR | E5: =+'LISTA INDICADORES'!D10 -> Eficacia en el mantenimiento preventivo de equipos | G5: RESPONSABLE | H5: =+'LISTA INDICADORES'!N10 -> Coordinador Técnico
C7: Formula del Indicador: | E7: =+'LISTA INDICADORES'!H10 -> FE = (número de equipos que operan sin fallas / número total de equipos operativos que requieren mantenimiento preventivo totales)*100 | H7: Utilidad del indicador | I7: ='LISTA INDICADORES'!F10 -> Este indicador permite determinar la eficiencia en las labores de mantenimiento y operatividad de los equipos e instrumentos del laboratorio
C8: Frecuencia de medición | D8: =+'LISTA INDICADORES'!L10 -> Mensual | E8: Fuente de Información: | F8: =+'LISTA INDICADORES'!M10 -> LABORATORIO AMBIENTAL | G8: Unidades | H8: =+'LISTA INDICADORES'!I10 -> % | I8: Tendencia esperada | J8: ='LISTA INDICADORES'!K10
C9: Meta | D9: =TABLERO!E11 -> 1 | F9: Nivel satisfactorio | G9: =TABLERO!H11 -> 0.95 | H9: Nivel critico | I9: =TABLERO!G11 -> 0.9
C10: 99
C38: MES | D38: META | E38: LOGROS | F38: ANALISIS DE CAUSAS | I38: ACCIONES PROPUESTAS | O38: VERDE | P38: ROJO
C39: Enero | D39: =$D$9 -> 1 | E39: =+TABLERO!J$11 -> 1 | O39: =+$G$9 -> 0.95 | P39: =I9 -> 0.9
C40: Febrero | D40: =$D$9 -> 1 | E40: =+TABLERO!K$11 -> 1 | O40: =+$G$9 -> 0.95 | P40: =+$I$9 -> 0.9
C41: Marzo | D41: =$D$9 -> 1 | E41: =+TABLERO!L$11 -> 1 | O41: =+$G$9 -> 0.95 | P41: =+$I$9 -> 0.9
C42: Abril | D42: =$D$9 -> 1 | E42: =+TABLERO!M$11 -> 1 | O42: =+$G$9 -> 0.95 | P42: =+$I$9 -> 0.9
C43: Mayo | D43: =$D$9 -> 1 | E43: =+TABLERO!N$11 -> 1 | O43: =+$G$9 -> 0.95 | P43: =+$I$9 -> 0.9
C44: Junio | D44: =$D$9 -> 1 | E44: =+TABLERO!O$11 -> 0.77 | F44: No se realizó mantenimiento en el tiempo indicado | I44: Reprogramación de la actividad | O44: =+$G$9 -> 0.95 | P44: =+$I$9 -> 0.9
C45: Julio | D45: =$D$9 -> 1 | E45: =+TABLERO!P$11 -> 0.85 | O45: =+$G$9 -> 0.95 | P45: =+$I$9 -> 0.9
C46: Agosto | D46: =$D$9 -> 1 | E46: =+TABLERO!Q$11 -> 1 | O46: =+$G$9 -> 0.95 | P46: =+$I$9 -> 0.9
C47: Septiembre | D47: =$D$9 -> 1 | E47: =+TABLERO!R$11 -> 1 | O47: =+$G$9 -> 0.95 | P47: =+$I$9 -> 0.9
C48: Octubre | D48: =$D$9 -> 1 | E48: =+TABLERO!S$11 -> 1 | O48: =+$G$9 -> 0.95 | P48: =+$I$9 -> 0.9
C49: Noviembre | D49: =$D$9 -> 1 | E49: =+TABLERO!T$11 -> 1 | O49: =+$G$9 -> 0.95 | P49: =+$I$9 -> 0.9
C50: Diciembre | D50: =$D$9 -> 1 | E50: =+TABLERO!U$11 -> 1 | O50: =+$G$9 -> 0.95 | P50: =+$I$9 -> 0.9
C51: TOTALES | D51: =AVERAGE(D39:D50) -> 1 | E51: =SUM(E39:E50)/COUNT(E39:E50) -> 0.96833333

Sheet INDICADOR_6
D3: CARTA DE INDICADOR
D5: NOMBRE DEL INDICADOR | E5: =+'LISTA INDICADORES'!D11 -> Eficacia en la ejecución del programa anual de capacitación | G5: RESPONSABLE | H5: =+'LISTA INDICADORES'!N11 -> Director Técnico
C7: Formula del Indicador: | E7: =+'LISTA INDICADORES'!H11 -> CE = (capacitaciones realizadas / capacitaciones programadas)*100 | H7: Utilidad del indicador | I7: ='LISTA INDICADORES'!F11 -> Este indicador permite conocer el cumplimiento en la ejecución del programa anual de capacitación del laboratorio
C8: Frecuencia de medición | D8: =+'LISTA INDICADORES'!L11 -> Trimestral | E8: Fuente de Información: | F8: =+'LISTA INDICADORES'!M11 -> LABORATORIO AMBIENTAL | G8: Unidades | H8: =+'LISTA INDICADORES'!I11 -> % | I8: Tendencia esperada | J8: =TABLERO!F13
C9: Meta | D9: =+'LISTA INDICADORES'!J11 -> 1 | F9: Nivel satisfactorio | G9: =TABLERO!H12 -> 0.95 | H9: Nivel critico | I9: =TABLERO!G12 -> 0.9
C10: 99
C38: MES | D38: META | E38: LOGROS | F38: ANALISIS DE CAUSAS | I38: ACCIONES PROPUESTAS | O38: VERDE | P38: ROJO
C39: Enero | D39: =$D$9 -> 1 | E39: =+TABLERO!J$12 -> 0 | O39: =+$G$9 -> 0.95 | P39: =+$I$9 -> 0.9
C40: Febrero | D40: =$D$9 -> 1 | E40: =+TABLERO!K$12 -> 1 | O40: =+$G$9 -> 0.95 | P40: =+$I$9 -> 0.9
C41: Marzo | D41: =$D$9 -> 1 | E41: =+TABLERO!L$12 -> 0 | O41: =+$G$9 -> 0.95 | P41: =+$I$9 -> 0.9
C42: Abril | D42: =$D$9 -> 1 | E42: =+TABLERO!M$12 -> 0 | O42: =+$G$9 -> 0.95 | P42: =+$I$9 -> 0.9
C43: Mayo | D43: =$D$9 -> 1 | E43: =+TABLERO!N$12 -> 0.66 | F43: No se han realizado las capacitaciones programadas para el periodo marzo- mayo | I43: Reprogramar las capacitaciones y ejecutarlas durante el tiempo restante de esta vigencia | O43: =+$G$9 -> 0.95 | P43: =+$I$9 -> 0.9
C44: Junio | D44: =$D$9 -> 1 | E44: =+TABLERO!O$12 -> 0 | O44: =+$G$9 -> 0.95 | P44: =+$I$9 -> 0.9
C45: Julio | D45: =$D$9 -> 1 | E45: =+TABLERO!P$12 -> 0 | O45: =+$G$9 -> 0.95 | P45: =+$I$9 -> 0.9
C46: Agosto | D46: =$D$9 -> 1 | E46: =+TABLERO!Q$12 -> 1 | O46: =+$G$9 -> 0.95 | P46: =+$I$9 -> 0.9
C47: Septiembre | D47: =$D$9 -> 1 | E47: =+TABLERO!R$12 -> 0 | O47: =+$G$9 -> 0.95 | P47: =+$I$9 -> 0.9
C48: Octubre | D48: =$D$9 -> 1 | E48: =+TABLERO!S$12 -> 0 | O48: =+$G$9 -> 0.95 | P48: =+$I$9 -> 0.9
C49: Noviembre | D49: =$D$9 -> 1 | E49: =+TABLERO!T$12 -> 1 | O49: =+$G$9 -> 0.95 | P49: =+$I$9 -> 0.9
C50: Diciembre | D50: =$D$9 -> 1 | E50: =+TABLERO!U$12 -> 0 | O50: =+$G$9 -> 0.95 | P50: =+$I$9 -> 0.9
C51: TOTALES | D51: =AVERAGE(D39:D50) -> 1 | E51: =SUM(E39:E50)/4 -> 0.915

Sheet INDICADOR_7
D3: CARTA DE INDICADOR
D5: NOMBRE DEL INDICADOR | E5: ='LISTA INDICADORES'!D12 -> Eficiencia en la entrega de informes de resultados a clientes internos y externos | G5: RESPONSABLE | H5: ='LISTA INDICADORES'!N12 -> Director Técnico
C7: Formula del Indicador: | E7: ='LISTA INDICADORES'!H12 -> TE = intervalo de dias en que se realiza la entrega del informe de resultados | H7: Utilidad del indicador | I7: ='LISTA INDICADORES'!F12 -> Este indicador permitirá determinar el cumplimiento en los tiempos de entrega de los informes de resultados del laboratorio ambiental
C8: Frecuencia de medición | D8: ='LISTA INDICADORES'!L12 -> Trimestral | E8: Fuente de Información: | F8: =+'LISTA INDICADORES'!M13 -> LABORATORIO AMBIENTAL | G8: Unidades | H8: =+'LISTA INDICADORES'!I13 -> % | I8: Tendencia esperada | J8: =TABLERO!F13
C9: Meta | D9: ='LISTA INDICADORES'!J12 -> 25 | F9: Nivel satisfactorio | G9: =TABLERO!H13 -> 25 | H9: Nivel critico | I9: =TABLERO!G13 -> 26
C10: 99
C38: MES | D38: META | E38: LOGROS | F38: ANALISIS DE CAUSAS | I38: ACCIONES PROPUESTAS | O38: VERDE | P38: ROJO
C39: Enero | D39: =$D$9 -> 25 | E39: =+TABLERO!J$13 -> 0 | O39: =+$G$9 -> 25 | P39: =+$I$9 -> 26
C40: Febrero | D40: =$D$9 -> 25 | E40: =+TABLERO!K$13 -> N.A | F40: No se recibieron solicitudes de clientes internos y/o externos para la prestación del servicio | O40: =+$G$9 -> 25 | P40: =+$I$9 -> 26
C41: Marzo | D41: =$D$9 -> 25 | E41: =+TABLERO!L$13 -> 0 | O41: =+$G$9 -> 25 | P41: =+$I$9 -> 26
C42: Abril | D42: =$D$9 -> 25 | E42: =+TABLERO!M$12 -> 0 | O42: =+$G$9 -> 25 | P42: =+$I$9 -> 26
C43: Mayo | D43: =$D$9 -> 25 | E43: =+TABLERO!N$13 -> N.A | F43: No se recibieron solicitudes de clientes internos y/o externos para la prestación del servicio | O43: =+$G$9 -> 25 | P43: =+$I$9 -> 26
C44: Junio | D44: =$D$9 -> 25 | E44: =+TABLERO!O$13 -> 0 | O44: =+$G$9 -> 25 | P44: =+$I$9 -> 26
C45: Julio | D45: =$D$9 -> 25 | E45: =+TABLERO!P$13 -> 0 | O45: =+$G$9 -> 25 | P45: =+$I$9 -> 26
C46: Agosto | D46: =$D$9 -> 25 | E46: =+TABLERO!Q$13 -> N.A | O46: =+$G$9 -> 25 | P46: =+$I$9 -> 26
C47: Septiembre | D47: =$D$9 -> 25 | E47: =+TABLERO!R$13 -> 0 | O47: =+$G$9 -> 25 | P47: =+$I$9 -> 26
C48: Octubre | D48: =$D$9 -> 25 | E48: =+TABLERO!S$13 -> 0 | O48: =+$G$9 -> 25 | P48: =+$I$9 -> 26
C49: Noviembre | D49: =$D$9 -> 25 | E49: =+TABLERO!T$13 -> N.A | O49: =+$G$9 -> 25 | P49: =+$I$9 -> 26
C50: Diciembre | D50: =$D$9 -> 25 | E50: =+TABLERO!U$13 -> 0 | O50: =+$G$9 -> 25 | P50: =+$I$9 -> 26
C51: TOTALES | D51: =AVERAGE(D39:D50) -> 25 | E51: =SUM(E39:E50)/COUNT(E39:E50) -> 0
C53: OBSERVACIONES | E53: El indicador tuvo una modificación en su limite satifactorio debido a que se ajustó a los tiempos de análisis de los nuevos parámetros

Sheet INDICADOR_8
D3: CARTA DE INDICADOR
D5: NOMBRE DEL INDICADOR | E5: =+'LISTA INDICADORES'!D13 -> Eficacia en la resolución de quejas asociadas los informes de resultados del laboratorio | G5: RESPONSABLE | H5: =+'LISTA INDICADORES'!N13 -> Director Técnico
C7: Formula del Indicador: | E7: =+'LISTA INDICADORES'!H13 -> %SQ=(quejas resueltas/quejas recibidas)x100 | H7: Utilidad del indicador | I7: ='LISTA INDICADORES'!F13 -> Este indicador permite determinar la cantidad de quejas relacionadas con los informes de resultados y medir la eficacia en solución de las mismas
C8: Frecuencia de medición | D8: ='LISTA INDICADORES'!L13 -> Semestral | E8: Fuente de Información: | F8: =+'LISTA INDICADORES'!M13 -> LABORATORIO AMBIENTAL | G8: Unidades | H8: =+'LISTA INDICADORES'!I13 -> % | I8: Tendencia esperada | J8: =TABLERO!F14
C9: Meta | D9: ='LISTA INDICADORES'!J13 -> 1 | F9: Nivel satisfactorio | G9: =TABLERO!H14 -> 1 | H9: Nivel critico | I9: =TABLERO!G14 -> 0.99
C10: 99
C38: MES | D38: META | E38: LOGROS | F38: ANALISIS DE CAUSAS | I38: ACCIONES PROPUESTAS | O38: VERDE | P38: ROJO
C39: Enero | D39: =$D$9 -> 1 | E39: =+TABLERO!J$14 -> 0 | O39: =+$G$9 -> 1 | P39: =+$I$9 -> 0.99
C40: Febrero | D40: =$D$9 -> 1 | E40: =+TABLERO!K$14 -> 0 | O40: =+$G$9 -> 1 | P40: =+$I$9 -> 0.99
C41: Marzo | D41: =$D$9 -> 1 | E41: =+TABLERO!L$14 -> 0 | O41: =+$G$9 -> 1 | P41: =+$I$9 -> 0.99
C42: Abril | D42: =$D$9 -> 1 | E42: =+TABLERO!M$14 -> 0 | O42: =+$G$9 -> 1 | P42: =+$I$9 -> 0.99
C43: Mayo | D43: =$D$9 -> 1 | E43: =+TABLERO!N$14 -> 0 | O43: =+$G$9 -> 1 | P43: =+$I$9 -> 0.99
C44: Junio | D44: =$D$9 -> 1 | E44: =+TABLERO!O$14 -> N.A | O44: =+$G$9 -> 1 | P44: =+$I$9 -> 0.99
C45: Julio | D45: =$D$9 -> 1 | E45: =+TABLERO!P$14 -> 0 | O45: =+$G$9 -> 1 | P45: =+$I$9 -> 0.99
C46: Agosto | D46: =$D$9 -> 1 | E46: =+TABLERO!Q$14 -> 0 | O46: =+$G$9 -> 1 | P46: =+$I$9 -> 0.99
C47: Septiembre | D47: =$D$9 -> 1 | E47: =+TABLERO!R$14 -> 0 | O47: =+$G$9 -> 1 | P47: =+$I$9 -> 0.99
C48: Octubre | D48: =$D$9 -> 1 | E48: =+TABLERO!S$14 -> 0 | O48: =+$G$9 -> 1 | P48: =+$I$9 -> 0.99
C49: Noviembre | D49: =$D$9 -> 1 | E49: =+TABLERO!T$14 -> 0 | O49: =+$G$9 -> 1 | P49: =+$I$9 -> 0.99
C50: Diciembre | D50: =$D$9 -> 1 | E50: =+TABLERO!U$14 -> N.A | O50: =+$G$9 -> 1 | P50: =+$I$9 -> 0.99
C51: TOTALES | D51: =AVERAGE(D39:D50) -> 1 | E51: =SUM(E39:E50)/COUNT(E39:E50) -> 0

Sheet INDICADOR 10
D3: CARTA DE INDICADOR
D4: ='LISTA INDICADORES'!#REF! -> #REF!
D5: NOMBRE DEL INDICADOR | E5: =+'LISTA INDICADORES'!D8 -> Eficacia en la ejecución de los planes de monitoreo | G5: RESPONSABLE | H5: =+'LISTA INDICADORES'!N8 -> Coordinador Técnico
C7: Formula del Indicador: | E7: =+'LISTA INDICADORES'!H8 -> ME = (número de muestras tomadas efectivas / número de muestras programadas)*100 | H7: Utilidad del indicador | I7: ='LISTA INDICADORES'!F8 -> Este indicador permite determinar la eficacia de la ejecución de los planes de monitoreo del laboratorio
C8: Frecuencia de medición | D8: =+'LISTA INDICADORES'!L8 -> Trimestral | E8: Fuente de Información: | F8: =+'LISTA INDICADORES'!M8 -> LABORATORIO AMBIENTAL | G8: Unidades | H8: =+'LISTA INDICADORES'!I8 -> % | I8: Tendencia esperada | J8: =TABLERO!F13 -> MANTENER
C9: Meta | D9: =+'LISTA INDICADORES'!J13 -> 1 | F9: Nivel satisfactorio | G9: =+TABLERO!H13 -> 25 | H9: Nivel critico | I9: =+TABLERO!G13 -> 26
C10: 99
C38: MES | D38: META | E38: LOGROS | F38: ANALISIS DE CAUSAS | I38: ACCIONES PROPUESTAS | O38: VERDE | P38: ROJO
C39: Enero | D39: =$D$9 -> 1 | E39: =+TABLERO!J$13 -> 0 | O39: =+$G$9 -> 25 | P39: =+$I$9 -> 26
C40: Febrero | D40: =$D$9 -> 1 | E40: =+TABLERO!K$13 -> N.A | O40: =+$G$9 -> 25 | P40: =+$I$9 -> 26
C41: Marzo | D41: =$D$9 -> 1 | E41: =+TABLERO!L$13 -> 0 | O41: =+$G$9 -> 25 | P41: =+$I$9 -> 26
C42: Abril | D42: =$D$9 -> 1 | E42: =+TABLERO!M$13 -> 0 | O42: =+$G$9 -> 25 | P42: =+$I$9 -> 26
C43: Mayo | D43: =$D$9 -> 1 | E43: =+TABLERO!N$13 -> N.A | O43: =+$G$9 -> 25 | P43: =+$I$9 -> 26
C44: Junio | D44: =$D$9 -> 1 | E44: =+TABLERO!O$13 -> 0 | O44: =+$G$9 -> 25 | P44: =+$I$9 -> 26
C45: Julio | D45: =$D$9 -> 1 | E45: =+TABLERO!P$13 -> 0 | O45: =+$G$9 -> 25 | P45: =+$I$9 -> 26
C46: Agosto | D46: =$D$9 -> 1 | E46: =+TABLERO!Q$13 -> N.A | O46: =+$G$9 -> 25 | P46: =+$I$9 -> 26
C47: Septiembre | D47: =$D$9 -> 1 | E47: =+TABLERO!R$13 -> 0 | O47: =+$G$9 -> 25 | P47: =+$I$9 -> 26
C48: Octubre | D48: =$D$9 -> 1 | E48: =+TABLERO!S$13 -> 0 | O48: =+$G$9 -> 25 | P48: =+$I$9 -> 26
C49: Noviembre | D49: =$D$9 -> 1 | E49: =+TABLERO!T$13 -> N.A | O49: =+$G$9 -> 25 | P49: =+$I$9 -> 26
C50: Diciembre | D50: =$D$9 -> 1 | E50: =+TABLERO!U$13 -> 0 | O50: =+$G$9 -> 25 | P50: =+$I$9 -> 26
C51: TOTALES | D51: =AVERAGE(D39:D50) -> 1 | E51: =SUM(E39:E50)/COUNT(E39:E50) -> 0

Sheet INDICADOR 11
D3: CARTA DE INDICADOR
D4: ='LISTA INDICADORES'!#REF! -> #REF!
D5: NOMBRE DEL INDICADOR | E5: =+'LISTA INDICADORES'!D12 -> Eficiencia en la entrega de informes de resultados a clientes internos y externos | G5: RESPONSABLE | H5: =+'LISTA INDICADORES'!N12 -> Director Técnico
C7: Formula del Indicador: | E7: =+'LISTA INDICADORES'!H12 -> TE = intervalo de dias en que se realiza la entrega del informe de resultados | H7: Utilidad del indicador | I7: ='LISTA INDICADORES'!F12 -> Este indicador permitirá determinar el cumplimiento en los tiempos de entrega de los informes de resultados del laboratorio ambiental
C8: Frecuencia de medición | D8: =+'LISTA INDICADORES'!L12 -> Trimestral | E8: Fuente de Información: | F8: =+'LISTA INDICADORES'!M12 -> LABORATORIO AMBIENTAL | G8: Unidades | H8: =+'LISTA INDICADORES'!I12 -> días Hábiles | I8: Tendencia esperada | J8: =TABLERO!F13 -> MANTENER
C9: Meta | D9: =+'LISTA INDICADORES'!J12 -> 25 | F9: Nivel satisfactorio | G9: =+TABLERO!H13 -> 25 | H9: Nivel critico | I9: =+TABLERO!G13 -> 26
C10: 99
C38: MES | D38: META | E38: LOGROS | F38: ANALISIS DE CAUSAS | I38: ACCIONES PROPUESTAS | O38: VERDE | P38: ROJO
C39: Enero | D39: =$D$9 -> 25 | E39: =+TABLERO!J$14 -> 0 | O39: =+$G$9 -> 25 | P39: =+$I$9 -> 26
C40: Febrero | D40: =$D$9 -> 25 | E40: =+TABLERO!K$14 -> 0 | O40: =+$G$9 -> 25 | P40: =+$I$9 -> 26
C41: Marzo | D41: =$D$9 -> 25 | E41: =+TABLERO!L$14 -> 0 | O41: =+$G$9 -> 25 | P41: =+$I$9 -> 26
C42: Abril | D42: =$D$9 -> 25 | E42: =+TABLERO!M$14 -> 0 | O42: =+$G$9 -> 25 | P42: =+$I$9 -> 26
C43: Mayo | D43: =$D$9 -> 25 | E43: =+TABLERO!N$14 -> 0 | O43: =+$G$9 -> 25 | P43: =+$I$9 -> 26
C44: Junio | D44: =$D$9 -> 25 | E44: =+TABLERO!O$14 -> N.A | O44: =+$G$9 -> 25 | P44: =+$I$9 -> 26
C45: Julio | D45: =$D$9 -> 25 | E45: =+TABLERO!P$14 -> 0 | O45: =+$G$9 -> 25 | P45: =+$I$9 -> 26
C46: Agosto | D46: =$D$9 -> 25 | E46: =+TABLERO!Q$14 -> 0 | O46: =+$G$9 -> 25 | P46: =+$I$9 -> 26
C47: Septiembre | D47: =$D$9 -> 25 | E47: =+TABLERO!R$14 -> 0 | O47: =+$G$9 -> 25 | P47: =+$I$9 -> 26
C48: Octubre | D48: =$D$9 -> 25 | E48: =+TABLERO!S$14 -> 0 | O48: =+$G$9 -> 25 | P48: =+$I$9 -> 26
C49: Noviembre | D49: =$D$9 -> 25 | E49: =+TABLERO!T$14 -> 0 | O49: =+$G$9 -> 25 | P49: =+$I$9 -> 26
C50: Diciembre | D50: =$D$9 -> 25 | E50: =+TABLERO!U$14 -> N.A | O50: =+$G$9 -> 25 | P50: =+$I$9 -> 26
C51: TOTALES | D51: =AVERAGE(D39:D50) -> 25 | E51: =SUM(E39:E50)/COUNT(E39:E50) -> 0

Sheet INDICADOR 12
D3: CARTA DE INDICADOR
D4: ='LISTA INDICADORES'!#REF! -> #REF!
D5: NOMBRE DEL INDICADOR | E5: =+'LISTA INDICADORES'!#REF! -> #REF! | G5: RESPONSABLE | H5: =+'LISTA INDICADORES'!#REF! -> #REF!
C7: Formula del Indicador: | E7: =+'LISTA INDICADORES'!#REF! -> #REF! | H7: Utilidad del indicador | I7: ='LISTA INDICADORES'!#REF! -> #REF!
C8: Frecuencia de medición | D8: =+'LISTA INDICADORES'!#REF! -> #REF! | E8: Fuente de Información: | F8: =+'LISTA INDICADORES'!#REF! -> #REF! | G8: Unidades | H8: =+'LISTA INDICADORES'!#REF! -> #REF! | I8: Tendencia esperada | J8: =TABLERO!F14 -> MANTENER
C9: Meta | D9: =+'LISTA INDICADORES'!#REF! -> #REF! | F9: Nivel satisfactorio | G9: =+TABLERO!H14 -> 1 | H9: Nivel critico | I9: =+TABLERO!G14 -> 0.99
C10: 99
C38: MES | D38: META | E38: LOGROS | F38: ANALISIS DE CAUSAS | I38: ACCIONES PROPUESTAS | O38: VERDE | P38: ROJO
C39: Enero | D39: =$D$9 -> #REF! | E39: =+TABLERO!J$15 -> 0 | O39: =+$G$9 -> 1 | P39: =+$I$9 -> 0.99
C40: Febrero | D40: =$D$9 -> #REF! | E40: =+TABLERO!K$15 -> 0 | O40: =+$G$9 -> 1 | P40: =+$I$9 -> 0.99
C41: Marzo | D41: =$D$9 -> #REF! | E41: =+TABLERO!L$15 -> 0 | O41: =+$G$9 -> 1 | P41: =+$I$9 -> 0.99
C42: Abril | D42: =$D$9 -> #REF! | E42: =+TABLERO!M$15 -> 0 | O42: =+$G$9 -> 1 | P42: =+$I$9 -> 0.99
C43: Mayo | D43: =$D$9 -> #REF! | E43: =+TABLERO!N$15 -> 0 | O43: =+$G$9 -> 1 | P43: =+$I$9 -> 0.99
C44: Junio | D44: =$D$9 -> #REF! | E44: =+TABLERO!O$15 -> 0 | O44: =+$G$9 -> 1 | P44: =+$I$9 -> 0.99
C45: Julio | D45: =$D$9 -> #REF! | E45: =+TABLERO!P$15 -> 0 | O45: =+$G$9 -> 1 | P45: =+$I$9 -> 0.99
C46: Agosto | D46: =$D$9 -> #REF! | E46: =+TABLERO!Q$15 -> 0 | O46: =+$G$9 -> 1 | P46: =+$I$9 -> 0.99
C47: Septiembre | D47: =$D$9 -> #REF! | E47: =+TABLERO!R$15 -> 0 | O47: =+$G$9 -> 1 | P47: =+$I$9 -> 0.99
C48: Octubre | D48: =$D$9 -> #REF! | E48: =+TABLERO!S$15 -> 0 | O48: =+$G$9 -> 1 | P48: =+$I$9 -> 0.99
C49: Noviembre | D49: =$D$9 -> #REF! | E49: =+TABLERO!T$15 -> 0 | O49: =+$G$9 -> 1 | P49: =+$I$9 -> 0.99
C50: Diciembre | D50: =$D$9 -> #REF! | E50: =+TABLERO!U$15 -> 0 | O50: =+$G$9 -> 1 | P50: =+$I$9 -> 0.99
C51: TOTALES | D51: =AVERAGE(D39:D50) -> #REF! | E51: =SUM(E39:E50)/COUNT(E39:E50) -> 0

Sheet INDICADOR 13
D3: CARTA DE INDICADOR
D4: ='LISTA INDICADORES'!#REF! -> #REF!
D5: NOMBRE DEL INDICADOR | E5: =+'LISTA INDICADORES'!#REF! -> #REF! | G5: RESPONSABLE | H5: =+'LISTA INDICADORES'!#REF! -> #REF!
C7: Formula del Indicador: | E7: =+'LISTA INDICADORES'!#REF! -> #REF! | H7: Utilidad del indicador | I7: ='LISTA INDICADORES'!#REF! -> #REF!
C8: Frecuencia de medición | D8: =+'LISTA INDICADORES'!#REF! -> #REF! | E8: Fuente de Información: | F8: =+'LISTA INDICADORES'!#REF! -> #REF! | G8: Unidades | H8: =+'LISTA INDICADORES'!#REF! -> #REF! | I8: Tendencia esperada | J8: =TABLERO!F15 -> 0
C9: Meta | D9: =+'LISTA INDICADORES'!#REF! -> #REF! | F9: Nivel satisfactorio | G9: =+TABLERO!H15 -> 0.9 | H9: Nivel critico | I9: =+TABLERO!G15 -> 0.6
C10: 99
C38: MES | D38: META | E38: LOGROS | F38: ANALISIS DE CAUSAS | I38: ACCIONES PROPUESTAS | O38: VERDE | P38: ROJO
C39: Enero | D39: =$D$9 -> #REF! | E39: =+TABLERO!J$16 -> 0 | O39: =+$G$9 -> 0.9 | P39: =+$I$9 -> 0.6
C40: Febrero | D40: =$D$9 -> #REF! | E40: =+TABLERO!K$16 -> 0 | O40: =+$G$9 -> 0.9 | P40: =+$I$9 -> 0.6
C41: Marzo | D41: =$D$9 -> #REF! | E41: =+TABLERO!L$16 -> 0 | O41: =+$G$9 -> 0.9 | P41: =+$I$9 -> 0.6
C42: Abril | D42: =$D$9 -> #REF! | E42: =+TABLERO!M$16 -> 0 | O42: =+$G$9 -> 0.9 | P42: =+$I$9 -> 0.6
C43: Mayo | D43: =$D$9 -> #REF! | E43: =+TABLERO!N$16 -> 0 | O43: =+$G$9 -> 0.9 | P43: =+$I$9 -> 0.6
C44: Junio | D44: =$D$9 -> #REF! | E44: =+TABLERO!O$16 -> 0 | O44: =+$G$9 -> 0.9 | P44: =+$I$9 -> 0.6
C45: Julio | D45: =$D$9 -> #REF! | E45: =+TABLERO!P$16 -> 0 | O45: =+$G$9 -> 0.9 | P45: =+$I$9 -> 0.6
C46: Agosto | D46: =$D$9 -> #REF! | E46: =+TABLERO!Q$16 -> 0 | O46: =+$G$9 -> 0.9 | P46: =+$I$9 -> 0.6
C47: Septiembre | D47: =$D$9 -> #REF! | E47: =+TABLERO!R$16 -> 0 | O47: =+$G$9 -> 0.9 | P47: =+$I$9 -> 0.6
C48: Octubre | D48: =$D$9 -> #REF! | E48: =+TABLERO!S$16 -> 0 | O48: =+$G$9 -> 0.9 | P48: =+$I$9 -> 0.6
C49: Noviembre | D49: =$D$9 -> #REF! | E49: =+TABLERO!T$16 -> 0 | O49: =+$G$9 -> 0.9 | P49: =+$I$9 -> 0.6
C50: Diciembre | D50: =$D$9 -> #REF! | E50: =+TABLERO!U$16 -> 0 | O50: =+$G$9 -> 0.9 | P50: =+$I$9 -> 0.6
C51: TOTALES | D51: =AVERAGE(D39:D50) -> #REF! | E51: =SUM(E39:E50)/COUNT(E39:E50) -> 0

Sheet INDICADOR 14
D3: CARTA DE INDICADOR
D4: ='LISTA INDICADORES'!#REF! -> #REF!
D5: NOMBRE DEL INDICADOR | E5: =+'LISTA INDICADORES'!D16 -> 0 | G5: RESPONSABLE | H5: =+'LISTA INDICADORES'!N16 -> 0
C7: Formula del Indicador: | E7: =+'LISTA INDICADORES'!H16 -> 0 | H7: Utilidad del indicador | I7: ='LISTA INDICADORES'!F16 -> 0
C8: Frecuencia de medición | D8: =+'LISTA INDICADORES'!L16 -> 0 | E8: Fuente de Información: | F8: =+'LISTA INDICADORES'!M16 -> 0 | G8: Unidades | H8: =+'LISTA INDICADORES'!I16 -> 0 | I8: Tendencia esperada | J8: =TABLERO!F16 -> 0
C9: Meta | D9: =+'LISTA INDICADORES'!J16 -> 0 | F9: Nivel satisfactorio | G9: =+TABLERO!H16 -> 0.9 | H9: Nivel critico | I9: =+TABLERO!G16 -> 0.6
C10: 99
C38: MES | D38: META | E38: LOGROS | F38: ANALISIS DE CAUSAS | I38: ACCIONES PROPUESTAS | O38: VERDE | P38: ROJO
C39: Enero | D39: =$D$9 -> 0 | E39: =+TABLERO!#REF! -> #REF! | O39: =+$G$9 -> 0.9 | P39: =+$I$9 -> 0.6
C40: Febrero | D40: =$D$9 -> 0 | E40: =+TABLERO!#REF! -> #REF! | O40: =+$G$9 -> 0.9 | P40: =+$I$9 -> 0.6
C41: Marzo | D41: =$D$9 -> 0 | E41: =+TABLERO!#REF! -> #REF! | O41: =+$G$9 -> 0.9 | P41: =+$I$9 -> 0.6
C42: Abril | D42: =$D$9 -> 0 | E42: =+TABLERO!#REF! -> #REF! | O42: =+$G$9 -> 0.9 | P42: =+$I$9 -> 0.6
C43: Mayo | D43: =$D$9 -> 0 | E43: =+TABLERO!#REF! -> #REF! | O43: =+$G$9 -> 0.9 | P43: =+$I$9 -> 0.6
C44: Junio | D44: =$D$9 -> 0 | E44: =+TABLERO!#REF! -> #REF! | O44: =+$G$9 -> 0.9 | P44: =+$I$9 -> 0.6
C45: Julio | D45: =$D$9 -> 0 | E45: =+TABLERO!#REF! -> #REF! | O45: =+$G$9 -> 0.9 | P45: =+$I$9 -> 0.6
C46: Agosto | D46: =$D$9 -> 0 | E46: =+TABLERO!#REF! -> #REF! | O46: =+$G$9 -> 0.9 | P46: =+$I$9 -> 0.6
C47: Septiembre | D47: =$D$9 -> 0 | E47: =+TABLERO!#REF! -> #REF! | O47: =+$G$9 -> 0.9 | P47: =+$I$9 -> 0.6
C48: Octubre | D48: =$D$9 -> 0 | E48: =+TABLERO!#REF! -> #REF! | O48: =+$G$9 -> 0.9 | P48: =+$I$9 -> 0.6
C49: Noviembre | D49: =$D$9 -> 0 | E49: =+TABLERO!#REF! -> #REF! | O49: =+$G$9 -> 0.9 | P49: =+$I$9 -> 0.6
C50: Diciembre | D50: =$D$9 -> 0 | E50: =+TABLERO!#REF! -> #REF! | O50: =+$G$9 -> 0.9 | P50: =+$I$9 -> 0.6
C51: TOTALES | D51: =AVERAGE(D39:D50) -> 0 | E51: =SUM(E39:E50)/COUNT(E39:E50) -> #REF!

Sheet INDICADOR 15
D3: CARTA DE INDICADOR
D4: ='LISTA INDICADORES'!#REF! -> #REF!
D5: NOMBRE DEL INDICADOR | E5: =+'LISTA INDICADORES'!D17 -> 0 | G5: RESPONSABLE | H5: =+'LISTA INDICADORES'!N17 -> 0
C7: Formula del Indicador: | E7: =+'LISTA INDICADORES'!H17 -> 0 | H7: Utilidad del indicador | I7: ='LISTA INDICADORES'!F17 -> 0
C8: Frecuencia de medición | D8: =+'LISTA INDICADORES'!L17 -> 0 | E8: Fuente de Información: | F8: =+'LISTA INDICADORES'!M17 -> 0 | G8: Unidades | H8: =+'LISTA INDICADORES'!I17 -> 0 | I8: Tendencia esperada | J8: =TABLERO!#REF! -> #REF!
C9: Meta | D9: =+'LISTA INDICADORES'!J17 -> 0 | F9: Nivel satisfactorio | G9: =+TABLERO!#REF! -> #REF! | H9: Nivel critico | I9: =+TABLERO!#REF! -> #REF!
C10: 99
C38: MES | D38: META | E38: LOGROS | F38: ANALISIS DE CAUSAS | I38: ACCIONES PROPUESTAS | O38: VERDE | P38: ROJO
C39: Enero | D39: =$D$9 -> 0 | E39: =+TABLERO!#REF! -> #REF! | O39: =+$G$9 -> #REF! | P39: =+$I$9 -> #REF!
C40: Febrero | D40: =$D$9 -> 0 | E40: =+TABLERO!#REF! -> #REF! | O40: =+$G$9 -> #REF! | P40: =+$I$9 -> #REF!
C41: Marzo | D41: =$D$9 -> 0 | E41: =+TABLERO!#REF! -> #REF! | O41: =+$G$9 -> #REF! | P41: =+$I$9 -> #REF!
C42: Abril | D42: =$D$9 -> 0 | E42: =+TABLERO!#REF! -> #REF! | O42: =+$G$9 -> #REF! | P42: =+$I$9 -> #REF!
C43: Mayo | D43: =$D$9 -> 0 | E43: =+TABLERO!#REF! -> #REF! | O43: =+$G$9 -> #REF! | P43: =+$I$9 -> #REF!
C44: Junio | D44: =$D$9 -> 0 | E44: =+TABLERO!#REF! -> #REF! | O44: =+$G$9 -> #REF! | P44: =+$I$9 -> #REF!
C45: Julio | D45: =$D$9 -> 0 | E45: =+TABLERO!#REF! -> #REF! | O45: =+$G$9 -> #REF! | P45: =+$I$9 -> #REF!
C46: Agosto | D46: =$D$9 -> 0 | E46: =+TABLERO!#REF! -> #REF! | O46: =+$G$9 -> #REF! | P46: =+$I$9 -> #REF!
C47: Septiembre | D47: =$D$9 -> 0 | E47: =+TABLERO!#REF! -> #REF! | O47: =+$G$9 -> #REF! | P47: =+$I$9 -> #REF!
C48: Octubre | D48: =$D$9 -> 0 | E48: =+TABLERO!#REF! -> #REF! | O48: =+$G$9 -> #REF! | P48: =+$I$9 -> #REF!
C49: Noviembre | D49: =$D$9 -> 0 | E49: =+TABLERO!#REF! -> #REF! | O49: =+$G$9 -> #REF! | P49: =+$I$9 -> #REF!
C50: Diciembre | D50: =$D$9 -> 0 | E50: =+TABLERO!#REF! -> #REF! | O50: =+$G$9 -> #REF! | P50: =+$I$9 -> #REF!
C51: TOTALES | D51: =AVERAGE(D39:D50) -> 0 | E51: =SUM(E39:E50)/COUNT(E39:E50) -> #REF!

Sheet INDICADOR 16
D3: CARTA DE INDICADOR
D4: ='LISTA INDICADORES'!#REF! -> #REF!
D5: NOMBRE DEL INDICADOR | E5: =+'LISTA INDICADORES'!D18 -> 0 | G5: RESPONSABLE | H5: =+'LISTA INDICADORES'!N18 -> 0
C7: Formula del Indicador: | E7: =+'LISTA INDICADORES'!H18 -> 0 | H7: Utilidad del indicador | I7: ='LISTA INDICADORES'!F18 -> 0
C8: Frecuencia de medición | D8: =+'LISTA INDICADORES'!L18 -> 0 | E8: Fuente de Información: | F8: =+'LISTA INDICADORES'!M18 -> 0 | G8: Unidades | H8: =+'LISTA INDICADORES'!I18 -> 0 | I8: Tendencia esperada | J8: =TABLERO!#REF! -> #REF!
C9: Meta | D9: =+'LISTA INDICADORES'!J18 -> 0 | F9: Nivel satisfactorio | G9: =+TABLERO!#REF! -> #REF! | H9: Nivel critico | I9: =+TABLERO!#REF! -> #REF!
C10: 99
C38: MES | D38: META | E38: LOGROS | F38: ANALISIS DE CAUSAS | I38: ACCIONES PROPUESTAS | O38: VERDE | P38: ROJO
C39: Enero | D39: =$D$9 -> 0 | E39: =+TABLERO!#REF! -> #REF! | O39: =+$G$9 -> #REF! | P39: =+$I$9 -> #REF!
C40: Febrero | D40: =$D$9 -> 0 | E40: =+TABLERO!#REF! -> #REF! | O40: =+$G$9 -> #REF! | P40: =+$I$9 -> #REF!
C41: Marzo | D41: =$D$9 -> 0 | E41: =+TABLERO!#REF! -> #REF! | O41: =+$G$9 -> #REF! | P41: =+$I$9 -> #REF!
C42: Abril | D42: =$D$9 -> 0 | E42: =+TABLERO!#REF! -> #REF! | O42: =+$G$9 -> #REF! | P42: =+$I$9 -> #REF!
C43: Mayo | D43: =$D$9 -> 0 | E43: =+TABLERO!#REF! -> #REF! | O43: =+$G$9 -> #REF! | P43: =+$I$9 -> #REF!
C44: Junio | D44: =$D$9 -> 0 | E44: =+TABLERO!#REF! -> #REF! | O44: =+$G$9 -> #REF! | P44: =+$I$9 -> #REF!
C45: Julio | D45: =$D$9 -> 0 | E45: =+TABLERO!#REF! -> #REF! | O45: =+$G$9 -> #REF! | P45: =+$I$9 -> #REF!
C46: Agosto | D46: =$D$9 -> 0 | E46: =+TABLERO!#REF! -> #REF! | O46: =+$G$9 -> #REF! | P46: =+$I$9 -> #REF!
C47: Septiembre | D47: =$D$9 -> 0 | E47: =+TABLERO!#REF! -> #REF! | O47: =+$G$9 -> #REF! | P47: =+$I$9 -> #REF!
C48: Octubre | D48: =$D$9 -> 0 | E48: =+TABLERO!#REF! -> #REF! | O48: =+$G$9 -> #REF! | P48: =+$I$9 -> #REF!
C49: Noviembre | D49: =$D$9 -> 0 | E49: =+TABLERO!#REF! -> #REF! | O49: =+$G$9 -> #REF! | P49: =+$I$9 -> #REF!
C50: Diciembre | D50: =$D$9 -> 0 | E50: =+TABLERO!#REF! -> #REF! | O50: =+$G$9 -> #REF! | P50: =+$I$9 -> #REF!
C51: TOTALES | D51: =AVERAGE(D39:D50) -> 0 | E51: =SUM(E39:E50)/COUNT(E39:E50) -> #REF!

Sheet INDICADOR 17
D3: CARTA DE INDICADOR
D4: ='LISTA INDICADORES'!#REF! -> #REF!
D5: NOMBRE DEL INDICADOR | E5: =+'LISTA INDICADORES'!D19 -> 0 | G5: RESPONSABLE | H5: =+'LISTA INDICADORES'!N19 -> 0
C7: Formula del Indicador: | E7: =+'LISTA INDICADORES'!H19 -> 0 | H7: Utilidad del indicador | I7: ='LISTA INDICADORES'!F19 -> 0
C8: Frecuencia de medición | D8: =+'LISTA INDICADORES'!L19 -> 0 | E8: Fuente de Información: | F8: =+'LISTA INDICADORES'!M19 -> 0 | G8: Unidades | H8: =+'LISTA INDICADORES'!I19 -> 0 | I8: Tendencia esperada | J8: =TABLERO!#REF! -> #REF!
C9: Meta | D9: =+'LISTA INDICADORES'!J19 -> 0 | F9: Nivel satisfactorio | G9: =+TABLERO!#REF! -> #REF! | H9: Nivel critico | I9: =+TABLERO!#REF! -> #REF!
C10: 99
C38: MES | D38: META | E38: LOGROS | F38: ANALISIS DE CAUSAS | I38: ACCIONES PROPUESTAS | O38: VERDE | P38: ROJO
C39: Enero | D39: =$D$9 -> 0 | E39: =+TABLERO!#REF! -> #REF! | O39: =+$G$9 -> #REF! | P39: =+$I$9 -> #REF!
C40: Febrero | D40: =$D$9 -> 0 | E40: =+TABLERO!#REF! -> #REF! | O40: =+$G$9 -> #REF! | P40: =+$I$9 -> #REF!
C41: Marzo | D41: =$D$9 -> 0 | E41: =+TABLERO!#REF! -> #REF! | O41: =+$G$9 -> #REF! | P41: =+$I$9 -> #REF!
C42: Abril | D42: =$D$9 -> 0 | E42: =+TABLERO!#REF! -> #REF! | O42: =+$G$9 -> #REF! | P42: =+$I$9 -> #REF!
C43: Mayo | D43: =$D$9 -> 0 | E43: =+TABLERO!#REF! -> #REF! | O43: =+$G$9 -> #REF! | P43: =+$I$9 -> #REF!
C44: Junio | D44: =$D$9 -> 0 | E44: =+TABLERO!#REF! -> #REF! | O44: =+$G$9 -> #REF! | P44: =+$I$9 -> #REF!
C45: Julio | D45: =$D$9 -> 0 | E45: =+TABLERO!#REF! -> #REF! | O45: =+$G$9 -> #REF! | P45: =+$I$9 -> #REF!
C46: Agosto | D46: =$D$9 -> 0 | E46: =+TABLERO!#REF! -> #REF! | O46: =+$G$9 -> #REF! | P46: =+$I$9 -> #REF!
C47: Septiembre | D47: =$D$9 -> 0 | E47: =+TABLERO!#REF! -> #REF! | O47: =+$G$9 -> #REF! | P47: =+$I$9 -> #REF!
C48: Octubre | D48: =$D$9 -> 0 | E48: =+TABLERO!#REF! -> #REF! | O48: =+$G$9 -> #REF! | P48: =+$I$9 -> #REF!
C49: Noviembre | D49: =$D$9 -> 0 | E49: =+TABLERO!#REF! -> #REF! | O49: =+$G$9 -> #REF! | P49: =+$I$9 -> #REF!
C50: Diciembre | D50: =$D$9 -> 0 | E50: =+TABLERO!#REF! -> #REF! | O50: =+$G$9 -> #REF! | P50: =+$I$9 -> #REF!
C51: TOTALES | D51: =AVERAGE(D39:D50) -> 0 | E51: =SUM(E39:E50)/COUNT(E39:E50) -> #REF!

Sheet INDICADOR 18
D3: CARTA DE INDICADOR
D4: ='LISTA INDICADORES'!#REF! -> #REF!
D5: NOMBRE DEL INDICADOR | E5: =+'LISTA INDICADORES'!D20 -> 0 | G5: RESPONSABLE | H5: =+'LISTA INDICADORES'!N20 -> 0
C7: Formula del Indicador: | E7: =+'LISTA INDICADORES'!H20 -> 0 | H7: Utilidad del indicador | I7: ='LISTA INDICADORES'!F20 -> 0
C8: Frecuencia de medición | D8: =+'LISTA INDICADORES'!L20 -> 0 | E8: Fuente de Información: | F8: =+'LISTA INDICADORES'!M20 -> 0 | G8: Unidades | H8: =+'LISTA INDICADORES'!I20 -> 0 | I8: Tendencia esperada | J8: =TABLERO!#REF! -> #REF!
C9: Meta | D9: =+'LISTA INDICADORES'!J20 -> 0 | F9: Nivel satisfactorio | G9: =+TABLERO!#REF! -> #REF! | H9: Nivel critico | I9: =+TABLERO!#REF! -> #REF!
C10: 99
C38: MES | D38: META | E38: LOGROS | F38: ANALISIS DE CAUSAS | I38: ACCIONES PROPUESTAS | O38: VERDE | P38: ROJO
C39: Enero | D39: =$D$9 -> 0 | E39: =+TABLERO!#REF! -> #REF! | O39: =+$G$9 -> #REF! | P39: =+$I$9 -> #REF!
C40: Febrero | D40: =$D$9 -> 0 | E40: =+TABLERO!#REF! -> #REF! | O40: =+$G$9 -> #REF! | P40: =+$I$9 -> #REF!
C41: Marzo | D41: =$D$9 -> 0 | E41: =+TABLERO!#REF! -> #REF! | O41: =+$G$9 -> #REF! | P41: =+$I$9 -> #REF!
C42: Abril | D42: =$D$9 -> 0 | E42: =+TABLERO!#REF! -> #REF! | O42: =+$G$9 -> #REF! | P42: =+$I$9 -> #REF!
C43: Mayo | D43: =$D$9 -> 0 | E43: =+TABLERO!#REF! -> #REF! | O43: =+$G$9 -> #REF! | P43: =+$I$9 -> #REF!
C44: Junio | D44: =$D$9 -> 0 | E44: =+TABLERO!#REF! -> #REF! | O44: =+$G$9 -> #REF! | P44: =+$I$9 -> #REF!
C45: Julio | D45: =$D$9 -> 0 | E45: =+TABLERO!#REF! -> #REF! | O45: =+$G$9 -> #REF! | P45: =+$I$9 -> #REF!
C46: Agosto | D46: =$D$9 -> 0 | E46: =+TABLERO!#REF! -> #REF! | O46: =+$G$9 -> #REF! | P46: =+$I$9 -> #REF!
C47: Septiembre | D47: =$D$9 -> 0 | E47: =+TABLERO!#REF! -> #REF! | O47: =+$G$9 -> #REF! | P47: =+$I$9 -> #REF!
C48: Octubre | D48: =$D$9 -> 0 | E48: =+TABLERO!#REF! -> #REF! | O48: =+$G$9 -> #REF! | P48: =+$I$9 -> #REF!
C49: Noviembre | D49: =$D$9 -> 0 | E49: =+TABLERO!#REF! -> #REF! | O49: =+$G$9 -> #REF! | P49: =+$I$9 -> #REF!
C50: Diciembre | D50: =$D$9 -> 0 | E50: =+TABLERO!#REF! -> #REF! | O50: =+$G$9 -> #REF! | P50: =+$I$9 -> #REF!
C51: TOTALES | D51: =AVERAGE(D39:D50) -> 0 | E51: =SUM(E39:E50)/COUNT(E39:E50) -> #REF!

Sheet INDICADOR 19
D3: CARTA DE INDICADOR
D4: ='LISTA INDICADORES'!#REF! -> #REF!
D5: NOMBRE DEL INDICADOR | E5: =+'LISTA INDICADORES'!D21 -> 0 | G5: RESPONSABLE | H5: =+'LISTA INDICADORES'!N21 -> 0
C7: Formula del Indicador: | E7: =+'LISTA INDICADORES'!H21 -> 0 | H7: Utilidad del indicador | I7: ='LISTA INDICADORES'!F21 -> 0
C8: Frecuencia de medición | D8: =+'LISTA INDICADORES'!L21 -> 0 | E8: Fuente de Información: | F8: =+'LISTA INDICADORES'!M21 -> 0 | G8: Unidades | H8: =+'LISTA INDICADORES'!I21 -> 0 | I8: Tendencia esperada | J8: =TABLERO!#REF! -> #REF!
C9: Meta | D9: =+'LISTA INDICADORES'!J21 -> 0 | F9: Nivel satisfactorio | G9: =+TABLERO!#REF! -> #REF! | H9: Nivel critico | I9: =+TABLERO!#REF! -> #REF!
C10: 99
C38: MES | D38: META | E38: LOGROS | F38: ANALISIS DE CAUSAS | I38: ACCIONES PROPUESTAS | O38: VERDE | P38: ROJO
C39: Enero | D39: =$D$9 -> 0 | E39: =+TABLERO!#REF! -> #REF! | O39: =+$G$9 -> #REF! | P39: =+$I$9 -> #REF!
C40: Febrero | D40: =$D$9 -> 0 | E40: =+TABLERO!#REF! -> #REF! | O40: =+$G$9 -> #REF! | P40: =+$I$9 -> #REF!
C41: Marzo | D41: =$D$9 -> 0 | E41: =+TABLERO!#REF! -> #REF! | O41: =+$G$9 -> #REF! | P41: =+$I$9 -> #REF!
C42: Abril | D42: =$D$9 -> 0 | E42: =+TABLERO!#REF! -> #REF! | O42: =+$G$9 -> #REF! | P42: =+$I$9 -> #REF!
C43: Mayo | D43: =$D$9 -> 0 | E43: =+TABLERO!#REF! -> #REF! | O43: =+$G$9 -> #REF! | P43: =+$I$9 -> #REF!
C44: Junio | D44: =$D$9 -> 0 | E44: =+TABLERO!#REF! -> #REF! | O44: =+$G$9 -> #REF! | P44: =+$I$9 -> #REF!
C45: Julio | D45: =$D$9 -> 0 | E45: =+TABLERO!#REF! -> #REF! | O45: =+$G$9 -> #REF! | P45: =+$I$9 -> #REF!
C46: Agosto | D46: =$D$9 -> 0 | E46: =+TABLERO!#REF! -> #REF! | O46: =+$G$9 -> #REF! | P46: =+$I$9 -> #REF!
C47: Septiembre | D47: =$D$9 -> 0 | E47: =+TABLERO!#REF! -> #REF! | O47: =+$G$9 -> #REF! | P47: =+$I$9 -> #REF!
C48: Octubre | D48: =$D$9 -> 0 | E48: =+TABLERO!#REF! -> #REF! | O48: =+$G$9 -> #REF! | P48: =+$I$9 -> #REF!
C49: Noviembre | D49: =$D$9 -> 0 | E49: =+TABLERO!#REF! -> #REF! | O49: =+$G$9 -> #REF! | P49: =+$I$9 -> #REF!
C50: Diciembre | D50: =$D$9 -> 0 | E50: =+TABLERO!#REF! -> #REF! | O50: =+$G$9 -> #REF! | P50: =+$I$9 -> #REF!
C51: TOTALES | D51: =AVERAGE(D39:D50) -> 0 | E51: =SUM(E39:E50)/COUNT(E39:E50) -> #REF!

Sheet INDICADOR 20
D3: CARTA DE INDICADOR
D4: ='LISTA INDICADORES'!#REF! -> #REF!
D5: NOMBRE DEL INDICADOR | E5: =+'LISTA INDICADORES'!D22 -> 0 | G5: RESPONSABLE | H5: =+'LISTA INDICADORES'!N22 -> 0
C7: Formula del Indicador: | E7: =+'LISTA INDICADORES'!H22 -> 0 | H7: Utilidad del indicador | I7: ='LISTA INDICADORES'!F22 -> 0
C8: Frecuencia de medición | D8: =+'LISTA INDICADORES'!L22 -> 0 | E8: Fuente de Información: | F8: =+'LISTA INDICADORES'!M22 -> 0 | G8: Unidades | H8: =+'LISTA INDICADORES'!I22 -> 0 | I8: Tendencia esperada | J8: =TABLERO!#REF! -> #REF!
C9: Meta | D9: =+'LISTA INDICADORES'!J22 -> 0 | F9: Nivel satisfactorio | G9: =+TABLERO!#REF! -> #REF! | H9: Nivel critico | I9: =+TABLERO!#REF! -> #REF!
C10: 99
C38: MES | D38: META | E38: LOGROS | F38: ANALISIS DE CAUSAS | I38: ACCIONES PROPUESTAS | O38: VERDE | P38: ROJO
C39: Enero | D39: =$D$9 -> 0 | E39: =+TABLERO!#REF! -> #REF! | O39: =+$G$9 -> #REF! | P39: =+$I$9 -> #REF!
C40: Febrero | D40: =$D$9 -> 0 | E40: =+TABLERO!#REF! -> #REF! | O40: =+$G$9 -> #REF! | P40: =+$I$9 -> #REF!
C41: Marzo | D41: =$D$9 -> 0 | E41: =+TABLERO!#REF! -> #REF! | O41: =+$G$9 -> #REF! | P41: =+$I$9 -> #REF!
C42: Abril | D42: =$D$9 -> 0 | E42: =+TABLERO!#REF! -> #REF! | O42: =+$G$9 -> #REF! | P42: =+$I$9 -> #REF!
C43: Mayo | D43: =$D$9 -> 0 | E43: =+TABLERO!#REF! -> #REF! | O43: =+$G$9 -> #REF! | P43: =+$I$9 -> #REF!
C44: Junio | D44: =$D$9 -> 0 | E44: =+TABLERO!#REF! -> #REF! | O44: =+$G$9 -> #REF! | P44: =+$I$9 -> #REF!
C45: Julio | D45: =$D$9 -> 0 | E45: =+TABLERO!#REF! -> #REF! | O45: =+$G$9 -> #REF! | P45: =+$I$9 -> #REF!
C46: Agosto | D46: =$D$9 -> 0 | E46: =+TABLERO!#REF! -> #REF! | O46: =+$G$9 -> #REF! | P46: =+$I$9 -> #REF!
C47: Septiembre | D47: =$D$9 -> 0 | E47: =+TABLERO!#REF! -> #REF! | O47: =+$G$9 -> #REF! | P47: =+$I$9 -> #REF!
C48: Octubre | D48: =$D$9 -> 0 | E48: =+TABLERO!#REF! -> #REF! | O48: =+$G$9 -> #REF! | P48: =+$I$9 -> #REF!
C49: Noviembre | D49: =$D$9 -> 0 | E49: =+TABLERO!#REF! -> #REF! | O49: =+$G$9 -> #REF! | P49: =+$I$9 -> #REF!
C50: Diciembre | D50: =$D$9 -> 0 | E50: =+TABLERO!#REF! -> #REF! | O50: =+$G$9 -> #REF! | P50: =+$I$9 -> #REF!
C51: TOTALES | D51: =AVERAGE(D39:D50) -> 0 | E51: =SUM(E39:E50)/COUNT(E39:E50) -> #REF!

Sheet INDICADOR 21
D3: CARTA DE INDICADOR
D4: ='LISTA INDICADORES'!#REF! -> #REF!
