Workbook
Name _Toc239512525: 'TABLA 7 ESTRUCTURA PROGRAMÁTICA'!$A$1

Sheet TABLA 7 ESTRUCTURA PROGRAMÁTICA
A1: Tabla 7. Estructura Básica de las Acciones Operativas del Plan de Acción
B3: CORPORACIÓN AUTONOMA REGIONAL DEL CESAR "CORPOCESAR"
A5: COMPONENTES DEL PGAR | B5: (3) META FISICA ANUAL (Según unidad de medida)
A6: LINEA ESTRATÉGICA | B6: PROGRAMA | C6: PROYECTOS | D6: ACTIVIDADES/ METAS | E6: METAS FÍSICAS | I6: TOTAL METAS FISICAS | J6: UNIDAD DE MEDIDA DE LA ACTIVIDAD
E7: 2020 | F7: 2021 | G7: 2022 | H7: 2023
B8: 1. RESTAURACIÓN ECOLÓGICA VERIFICABLE Y SUSTENTABLE | C8: 1.1. Gestión e implentación de acciones integrales para la restauración ecológica en el departamento del Cesar | D8: 1.1.1 Identificación y priorización de las zonas prioritarias para restaurar y recuperar en las 5 ERE del departamento | E8: 1 | F8: 2 | G8: 2 | H8: 0 | I8: =SUM(E8:H8) -> 5 | J8: No. | K8: ERE con zonas identificadas y priorizadas para restaurar y recuperar.
D9: 1.1.2 Formulación e implementación de proyectos de Restauración Ecológica Integral | E9: 0 | F9: 1 | G9: 0 | H9: 1 | I9: =SUM(E9:H9) -> 2 | J9: No. | K9: Proyectos de restauración Ecologica Integral - REI- gestionados y en implementaciòn.
D10: 1.1.3 Monitoreo, seguimiento y evaluaciòn de las acciones de REI en implementaciòn | E10: 0 | F10: 1 | G10: 0 | H10: 1 | I10: =SUM(E10:H10) -> 2 | J10: No. | K10: Sistema de monitoreo y reporte implementado por proyecto.
D11: 1.1.4 Reporte, comunicación y divulgación de la evolución del proceso de REI. | E11: 0 | F11: 1 | G11: 0 | H11: 1 | I11: =SUM(E11:H11) -> 2
A12: 1. GESTIÓN PARA EL DESARROLLO AMBIENTAL SOSTENIBLE A TRAVES DE LA RECUPERACIÓN Y CONSERVACIÓN DE LAS ECORREGIONES ESTRATÉGICAS. | C12: 1.2 Coordinación y Desarrollo de portafolios de sistemas sostenibles de conservación - SSC- (conservación, restauración, manejo sostenible, agroforestales, reconversión productiva) en el departamento del Cesar | D12: 1.2.1 Coordinación, concienciación de actores entorno al proceso de visión de sistemas sostenibles de conservación -SSC- | E12: 1 | F12: 1 | G12: 1 | H12: 0 | I12: =SUM(E12:H12) -> 3 | J12: No. | K12: Grupos de actores conformados para el desarrollo del SSC
D13: 1.2.2 Diseño conjunto de un modelo y estrategias para la implementación de SSC | E13: 30 | F13: 70 | G13: 0 | H13: 0 | I13: =SUM(E13:H13) -> 100 | J13: % | K13: Porcentaje de avance del modelo de SSC
D14: 1.2.3 Gestión sinérgica para la promoción y creación de capacidad técnica para la implementación del manejo SSC. | E14: 0 | F14: 1 | G14: 1 | H14: 1 | I14: =SUM(E14:H14) -> 3 | J14: No. | K14: Grupos asistidos técnicamente
D15: 1.2.4 Apoyo a la implementación, seguimiento y evaluación de proyectos pilotos y/o estratégicos de SSC. | E15: 0 | F15: 2 | G15: 2 | H15: 1 | I15: =SUM(E15:H15) -> 5 | J15: No. | K15: Proyectos formulados y apoyados con seguimiento y evaluación.
B17: 2. GESTIÓN INTEGRAL DEL RIESGO AMBIENTAL, CLIMÁTICO, Y DEL RECURSO HÍDRICO. | C17: 2.1 Implementación y evaluación de acciones del Plan Integral de Gestión de Cambio Climático -PIGCC- Territorial del Cesar | D17: 2.1.1 Gestión e implementación de Estrategias y/o Proyectos de mitigación y adaptación al cambio climático, en el marco de los planteamientos del -PIGCC- Territorial del Cesar | E17: 2 | F17: 3 | G17: 5 | H17: 5 | I17: =SUM(E17:H17) -> 15 | J17: No. | K17: No. de estrategias y/o proyectos del PIGCC, implementados o promovidos
D18: 2.1.2 Implementación del SIA de cambio climático dptal y apoyo efectivo al sistema de Registro Nacional de Reducción de Emisiones de Gases de Efecto Invernadero - RENARE | E18: 0 | F18: 20 | G18: 70 | H18: 100 | I18: 100 | J18: % | K18: Avance del SIA -CC y apoyo a RENARE
D19: 2.1.3 Fortalecimiento de la participación y gestión de Corpocesar, en el nodo Regional de Cambio Climático -NRCC- del Caribe | E19: 100 | F19: 100 | G19: 100 | H19: 100 | I19: 100 | J19: % | K19: Agenda intersectorial del NRCC Caribe articulada y apoyada.
C21: 2.2 Implementación de acciones para la operación de la EDANA en el área de jurisdicción de Corpocesar. | D21: 2.2.1 Gestión para la implementación de la Metodología que permita al sector ambiente realizar una evaluación de daños y necesidades ambientales -EDANA en zonas continentales impactadas por desastres naturales, socionaturales y/o antrópicos | E21: 20 | F21: 80 | G21: 100 | H21: 0 | I21: 100 | J21: % | K21: Adopción de la Metodología EDANA
D22: 2.2.2 Implementación PILOTO de EDANA en zona priorizada | E22: 0 | F22: 20 | G22: 80 | H22: 0 | I22: 100 | J22: % | K22: Avance del piloto EDANA
D23: 2.2.3 Diseño, Gestión e institucionalización operativa de EDANA Corpocesar. | E23: 0 | F23: 0 | G23: 0.5 | H23: 0.5 | I23: 1 | J23: No. | K23: EDANA en operación
C25: 2.3 Gestión de conocimiento e implementación de medidas para la reducción del riesgo ambiental en áreas prioritarias del dpto. del Cesar. | D25: 2.3.1 Gestión y ejecución de Acciones de conocimiento para la reducción del riesgo asociado al cambio climático, enmarcadas en la GRD. (Estudios de detalle) | E25: 1 | F25: 1 | G25: 1 | H25: 0 | I25: 3 | J25: No. | K25: Acciones de conocimiento del riesgo ejecutadas
D26: 2.3.2 Gestión e implementación de Medidas estructurales y/o proyectos para la REDUCCION del riesgo | E26: 10 | F26: 90 | G26: 100 | H26: 0 | I26: 100 | J26: Porcentaje | K26: Medidas estructurales ejecutadas
D27: 2.3.3 Gestión, implementación y evaluación de Medidas no estructurales y/o proyectos para la REDUCCION del riesgo | E27: 0 | F27: 1 | G27: 2 | H27: 2 | I27: 5 | J27: No. | K27: Medidas no estructurales ejecutadas
E28: 0 | F28: 1 | G28: 2 | H28: 2 | I28: 5 | J28: No. | K28: Medidas no estructurales evaluadas
C30: 2.4 Gestión integral del recurso hídrico y materialización de la ZOAT en el area de jurisdiccion de Corpocesar. | D30: 2.4.1 Desarrollo de instrumentos de planificación y administración del recurso hídrico, y contribución a la ejecución de Plan Hídrico Nacional -PHN- fase III, en el marco de la PNGIRH. | E30: 0 | F30: 1 | G30: 2 | H30: 1 | I30: =SUM(E30:H30) -> 4 | J30: No. | K30: Fases de nuevos POMCAS adelantadas (4 fases)
E31: 4 | F31: 8 | G31: 8 | H31: 8 | I31: 28 | J31: No. | K31: Acciones de POMCA implementadas (componentes de la fase 4)
E32: 8 | F32: 8 | G32: 8 | H32: 8 | I32: 8 | J32: no | K32: POMCA con seguimiento, coordinación y evaluación/año
E33: 0 | F33: 1 | G33: 1 | H33: 1 | I33: 3 | J33: No. | K33: Nuevas Fases de los PMA de Microcuenca formulados.
E34: 0 | F34: 1 | G34: 2 | H34: 2 | I34: 5 | J34: No. | K34: Acciones de PMA de Microcuencas Implementadas/año
E35: 1 | F35: 2 | G35: 2 | H35: 2 | I35: 7 | K35: Acciones de PMA de Acuíferos Implementadas/año
E36: 0 | F36: 1 | G36: 1 | H36: 1 | I36: 3 | J36: No. | K36: Otras acciones de planeación y gestión de Acuíferos Implementadas/año
D37: 2.4.2 Gestión, formulación e Implementación de PORH. | E37: 0 | F37: 0 | G37: 0.5 | H37: 1 | I37: 1 | J37: No. | K37: Nuevo PORH formulado (S/. Prioridad)
E38: 1 | F38: 3 | G38: 3 | H38: 3 | I38: 10 | J38: No. | K38: Acciones de PORH implementadas/plan (R. Cesar, Calenturitas y Chiriaimo).
D39: 2.4.3 Control, seguimiento y apoyo a implementación de los PSMV y PUEAA aprobados por la Corporación e implementación de acciones para el uso eficiente y descontaminación del recurso hídrico en el dpto. del Cesar. (armonización con proyecto 4.1) | E39: 25 | F39: 25 | G39: 25 | H39: 25 | I39: 25 | J39: No. | K39: PSMV´s con seguimiento/año
E40: 1 | F40: 1 | G40: 1 | H40: 1 | I40: 4 | J40: No. | K40: STAR apoyados (medida estructural y no estructural para disminuir la contaminación hídrica)/año
E41: 100 | F41: 100 | G41: 100 | H41: 100 | I41: 100 | J41: % | K41: Cobertura de PUEAA con seguimiento (PUEAA seguimiento/Aprobados)
D42: 2.4.4 Acotamiento de rondas hídricas e incorporación a las Determinantes ambientales (Cuerpos de agua priorizados: R. Guatapurí no 1). Armonización con el proyecto 3.1 | E42: 0 | F42: 0.3 | G42: 0.7 | H42: 1 | I42: 2 | J42: No. | K42: Ronda hídrica acotada/año
D43: 2.4.5 Estructuración e implementación de una estrategia integral para la recuperación de ecosistemas en la cuenca del río Cesar (tipo APP). En armonía con el programa 5 y la actividad 2.4.2 | E43: 10 | F43: 30 | G43: 60 | H43: 40 | I43: 100 | J43: % | K43: Avance de la Estrategia integral estructurada e implementada
D44: 2.4.6 Instalación de las denominadas "plataformas colaborativas" con el MADS, para la articulación de inversiones y acciones para la recuperación de ecosistemas degradados en torno a cuencas hidrográficas. | E44: 1 | F44: 1 | G44: 1 | H44: 1 | I44: 1 | J44: No. | K44: Plataforma colaborativa CAR-MADS, en operación
B46: 3. OCUPACIÓN TERRITORIAL INTEGRAL | C46: 3.1 Fortalecimiento del proceso de Ordenamiento Territorial como estrategia para promover el desarrollo terrirorial sostenible, en el dpto del Cesar. | D46: 3.1.1 Actualización de las determinantes ambientales para el Ordenamiento territorial (énfasis en cambio climático, GRD, suelo suburbano, EEP) | E46: 50 | F46: 100 | G46: 0 | H46: 0 | I46: 100 | J46: % | K46: Avance de Determinantes Ambientales revisadas, actualizadas y socializadas
D47: 3.1.2 Socialización y divulgación de las DA para el OT (cartografía temática compartida) | E47: 0 | F47: 100 | G47: 0 | H47: 0 | I47: 100
...

Sheet TABLA 7a EJEMPLO PONDERACIONES
B2: EJEMPLO GENERAL IDENTIFICACIÓN DE PONDERACIONES Y DE CÁLCULO DE AVANCE DEL PLAN AÑO X
B5: DETERMINACIÓN DEL PORCENTAJE DE AVANCE DEL PLAN DE ACCIÓN EN UN AÑO X
B6: PROGRAMA | C6: PONDERACION DEL PROGRAMA (Ppri) | D6: PROYECTOS | E6: PONDERACIÓN DEL PROYECTO AÑO X (Ppi) | F6: ACTIVIDADES | G6: PONDERACIÓN DE LAS ACTIVIDADES AÑO X ( Pai ) | H6: METAS FÍSICA AÑO X ( Mi ) | I6: UNIDAD DEL MEDIDA DE LA ACTIVIDAD | J6: AVANCE DE META FÍSICA AÑO X ( Ri) | K6: % DE AVANCE ACTIVIDAD (Ai) = (Ri ) / (Mi) X 100 | L6: % DE AVANCE PONDERADO POR ACTIVIDAD (Api)= (Ai) x ( Pai ) | M6: % DE AVANCE PONDERADO POR PROYECTO (% APpi)= sumatoria % de avance ponderados de actividades del proyecto (Api) | N6: Fracción de % de avance ponderado por actividad respecto al Plan total (FApi) = (Ai) x (Pai ) x ( Ppi) x (Ppri)
B8: Programa 1 | C8: 0.3 | D8: Proyecto 1.1 | E8: 0.2 | F8: Actividad 1.1.1 | G8: 0.5 | H8: 30 | I8: hectareas | J8: 20 | K8: =J8/H8*100 -> 66.666667 | L8: =K8*G8 -> 33.333333 | N8: =K8*G8*E$8*C$8 -> 2
F9: Actividad 1.1.2 | G9: 0.5 | H9: 1000 | I9: personas | J9: 950 | K9: =J9/H9*100 -> 95 | L9: =K9*G9 -> 47.5 | N9: =K9*G9*E$8*C$8 -> 2.85
G10: =SUM(G8:G9) -> 1 | M10: =L8+L9 -> 80.833333
D11: Proyecto 1.2 | E11: 0.5 | F11: Actividad 1.2.1 | G11: 0.25 | H11: 5000 | I11: metros | J11: 3500 | K11: =J11/H11*100 -> 70 | L11: =K11*G11 -> 17.5 | N11: =K11*G11*E$11*C$8 -> 2.625
F12: Actividad 1.2.2 | G12: 0.35 | H12: 540 | I12: metros cúbicos | J12: 300 | K12: =J12/H12*100 -> 55.555556 | L12: =K12*G12 -> 19.444444 | N12: =K12*G12*E$11*C$8 -> 2.9166667
F13: Actividad 1.2.3 | G13: 0.4 | H13: 65 | I13: toneladas | J13: 25 | K13: =J13/H13*100 -> 38.461538 | L13: =K13*G13 -> 15.384615 | N13: =K13*G13*E$11*C$8 -> 2.3076923
G14: =SUM(G11:G13) -> 1 | M14: =SUM(L11:L13) -> 52.32906
D15: Proyecto 1.3 | E15: 0.3 | F15: Actividad 1.3.1 | G15: 0.5 | H15: 3 | I15: toneladas | J15: 2 | K15: =J15/H15*100 -> 66.666667 | L15: =K15*G15 -> 33.333333 | N15: =K15*G15*E$15*C$8 -> 3
F16: Actividad 1.3.2 | G16: 0.5 | H16: 100 | I16: personas | J16: 50 | K16: =J16/H16*100 -> 50 | L16: =K16*G16 -> 25 | N16: =K16*G16*E$15*C$8 -> 2.25
E17: =SUM(E8:E16) -> 1 | G17: =SUM(G15:G16) -> 1 | M17: =L15+L16 -> 58.333333
B18: Programa 2 | C18: 0.4 | D18: Proyecto 2.1 | E18: 0.25 | F18: Actividad 2.1.1 | G18: 0.45 | H18: 4 | I18: toneladas | J18: 3 | K18: =J18/H18*100 -> 75 | L18: =K18*G18 -> 33.75 | N18: =K18*G18*E$18*C$18 -> 3.375
F19: Actividad 2.1.2 | G19: 0.15 | H19: 50 | I19: porcentaje | J19: 45 | K19: =J19/H19*100 -> 90 | L19: =K19*G19 -> 13.5 | N19: =K19*G19*E$18*C$18 -> 1.35
F20: Actividad 2.1.3 | G20: 0.4 | H20: 689 | I20: personas | J20: 500 | K20: =J20/H20*100 -> 72.56894 | L20: =K20*G20 -> 29.027576 | N20: =K20*G20*E$18*C$18 -> 2.9027576
G21: =SUM(G18:G20) -> 1 | M21: =SUM(L18:L20) -> 76.277576
D22: Proyecto 2.2 | E22: 0.45 | F22: Actividad 2.2.1 | G22: 0.5 | H22: 400 | I22: Unidades | J22: 300 | K22: =J22/H22*100 -> 75 | L22: =K22*G22 -> 37.5 | N22: =K22*G22*E$22*C$18 -> 6.75
F23: Actividad 2.2.2 | G23: 0.5 | H23: 100 | I23: metros | J23: 90 | K23: =J23/H23*100 -> 90 | L23: =K23*G23 -> 45 | N23: =K23*G23*E$22*C$18 -> 8.1
G24: =SUM(G22:G23) -> 1 | M24: =L22+L23 -> 82.5
D25: Proyecto 2.3 | E25: 0.3 | F25: Actividad 2.3.1 | G25: 0.35 | H25: 45 | I25: metros cúbicos | J25: 35 | K25: =J25/H25*100 -> 77.777778 | L25: =K25*G25 -> 27.222222 | N25: =K25*G25*E$25*C$18 -> 3.2666667
F26: Actividad 2.3.2 | G26: 0.45 | H26: 30 | I26: personas | J26: 25 | K26: =J26/H26*100 -> 83.333333 | L26: =K26*G26 -> 37.5 | N26: =K26*G26*E$25*C$18 -> 4.5
F27: Actividad 2.3.3 | G27: 0.2 | H27: 80 | I27: porcentaje | J27: 70 | K27: =J27/H27*100 -> 87.5 | L27: =K27*G27 -> 17.5 | N27: =K27*G27*E$25*C$18 -> 2.1
E28: =SUM(E18:E27) -> 1 | G28: =SUM(G25:G27) -> 1 | M28: =SUM(L25:L27) -> 82.222222
B29: Programa 3 | C29: 0.3 | D29: Proyecto 3.1 | E29: 0.15 | F29: Actividad 3.1.1 | G29: 0.3 | H29: 90 | I29: toneladas | J29: 80 | K29: =J29/H29*100 -> 88.888889 | L29: =K29*G29 -> 26.666667 | N29: =K29*G29*E$29*C$29 -> 1.2
F30: Actividad 3.1.2 | G30: 0.3 | H30: 4000 | I30: Unidades | J30: 3500 | K30: =J30/H30*100 -> 87.5 | L30: =K30*G30 -> 26.25 | N30: =K30*G30*E$29*C$29 -> 1.18125
F31: Actividad 3.1.3 | G31: 0.4 | H31: 120 | I31: metros | J31: 100 | K31: =J31/H31*100 -> 83.333333 | L31: =K31*G31 -> 33.333333 | N31: =K31*G31*E$29*C$29 -> 1.5
G32: =SUM(G29:G31) -> 1 | M32: =SUM(L29:L31) -> 86.25
D33: Proyecto 3.2 | E33: 0.35 | F33: Actividad 3.2.1 | G33: 0.25 | H33: 7 | I33: metros cúbicos | J33: 6 | K33: =J33/H33*100 -> 85.714286 | L33: =K33*G33 -> 21.428571 | N33: =K33*G33*E$33*C$29 -> 2.25
F34: Actividad 3.2.2 | G34: 0.25 | H34: 45 | I34: toneladas | J34: 40 | K34: =J34/H34*100 -> 88.888889 | L34: =K34*G34 -> 22.222222 | N34: =K34*G34*E$33*C$29 -> 2.3333333
F35: Actividad 3.2.3 | G35: 0.5 | H35: 80 | I35: hectareas | J35: 70 | K35: =J35/H35*100 -> 87.5 | L35: =K35*G35 -> 43.75 | N35: =K35*G35*E$33*C$29 -> 4.59375
G36: =SUM(G33:G35) -> 1 | M36: =SUM(L33:L35) -> 87.400794
D37: Proyecto 3.3 | E37: 0.45 | F37: Actividad 3.3.1 | G37: 0.5 | H37: 150 | I37: Unidades | J37: 120 | K37: =J37/H37*100 -> 80 | L37: =K37*G37 -> 40 | N37: =K37*G37*E$37*C$29 -> 5.4
F38: Actividad 3.3.2 | G38: 0.5 | H38: 100 | I38: personas | J38: 80 | K38: =J38/H38*100 -> 80 | L38: =K38*G38 -> 40 | N38: =K38*G38*E$37*C$29 -> 5.4
G39: =SUM(G37:G38) -> 1 | M39: =L37+L38 -> 80
D40: Proyecto 3.4 | E40: 0.05 | F40: Actividad 3.4.1 | G40: 0.5 | H40: 50 | I40: metros cúbicos | J40: 40 | K40: =J40/H40*100 -> 80 | L40: =K40*G40 -> 40 | N40: =K40*G40*E$40*C$29 -> 0.6
F41: Actividad 3.4.2 | G41: 0.5 | H41: 300 | I41: metros | J41: 250 | K41: =J41/H41*100 -> 83.333333 | L41: =K41*G41 -> 41.666667 | N41: =K41*G41*E$40*C$29 -> 0.625
C42: =SUM(C8:C41) -> 1 | E42: =SUM(E29:E41) -> 1 | G42: =SUM(G40:G41) -> 1 | M42: =L40+L41 -> 81.666667
J44: PROMEDIO [ Ri ] = | K44: =AVERAGE(K8:K41) -> 77.547568 | M44: ∑ FApi = | N44: =SUM(N8:N42) -> 75.377117
J46: PROMEDIO ARITMÉTICO DE AVANCE DEL PLAN AÑO X (promedio de % de avance de actividades (Ai) ) | M46: PROMEDIO PONDERADO DE AVANCE DEL PLAN AÑO X (sumatoria de fracciones de % de avance ponderados de actividades (FApi) )

Sheet ANEXO 1. MATRIZ DE SEGUIMIENTO
A2: ANEXO 1. MATRIZ DE SEGUIMIENTO A LA GESTIÓN Y AVANCE EN LAS METAS FÍSICAS Y FINANCIERAS DEL PLAN DE ACCIÓN.
A3: CORPORACIÓN AUTÓNOMA REGIONAL DEL CESAR - CORPOCESAR MATRIZ DE SEGUIMIENTO DEL PLAN DE ACCIÓN 2016 - 2019 AVANCE EN LAS METAS FÍSICAS Y FINANCIERAS DEL PLAN DE ACCIÓN
A4: VIGENCIA EVALUADA (AÑO): 2020 acumulado 2020-2023 PERIODO EVALUADO (I SEMESTRE): _(2020)
A5: (1) PROGRAMAS - PROYECTOS DEL PLAN 2020-2023 (inserte filas cuando sea necesario) | B5: COMPORTAMIENTO META FISICA PLAN DE ACCION TRIENAL | O5: META FINANCIERA PLAN DE ACCION | U5: (17) OBSERVACIONES | V5: (27) PROGRAMA DE INVERSIÓN PUBLICA A LA QUE APORTA | W5: (28) IMG AL QUE APORTA | X5: (29) ODS AL QUE LE APORTA
B6: (2) UNIDAD DE MEDIDA | C6: (3) META FISICA ANUAL (Según unidad de medida) | D6: (4) AVANCE DE LA META FISICA (Según unidad de medida y Periodo Evaluado) | E6: (5) PORCENTAJE DE AVANCE FISICO % (Periodo Evaluado) ((4/3)*100) | F6: (5-A) DESCRIPCIÓN DEL AVANCE (Se puede describir en texto lo que se desea aclarar del avance númerico respectivo) | G6: (6) PORCENTAJE DE AVANCE PROCESO DE GESTION DE LA META FISICA (aplica unicamente para el informe del primer semestre) | H6: (7) META FISICA PERIODO DEL PLAN (Según unidad de medida) | I6: (8) ACUMULADO DE LA META FISICA (Según unidad de medida) | J6: (9) PORCENTAJE DE AVANCE FISICO ACUMULADO % ((8/7)*100) | K6: (10) PONDERACIONES DE PROGRAMAS Y PROYECTOS (OPCIONAL DE ACUERDO AL PLAN) | L6: % DE AVANCE PONDERADO POR ACTIVIDAD - (Api) | M6: FRACCIÓN DE PORCENTAJE AVANCE PONDERADO POR ACTIVIDAD RESPECTO AL PLAN TOTAL (Fapi) | N6: DETERMINACIÓN DEL PORCENTAJE PONDERADO DE AVANCE DEL PLAN ∑Fapi | O6: (11) META FINANCIERA ANUAL ($) | P6: (12) AVANCE DE LA META FINANCIERA (Recursos comprometidos periodo Evaluado) ($) | Q6: (13) PORCENTAJE DEL AVANCE FINANCIERO % (Periodo Evaluado) ((12/11)*100) | R6: (14) META FINANCIERA PERIODO DEL PLAN ($) | S6: (15) ACUMULADO DE LA META FINANCIERA $ | T6: (16) PORCENTAJE DE AVANCE FINANCIERO ACUMULADO % ((15/14)*100)
A7: ='TABLA 7 ESTRUCTURA PROGRAMÁTICA'!B8 -> 1. RESTAURACIÓN ECOLÓGICA VERIFICABLE Y SUSTENTABLE | K7: 0.2
A8: ='TABLA 7 ESTRUCTURA PROGRAMÁTICA'!C8 -> 1.1. Gestión e implentación de acciones integrales para la restauración ecológica en el departamento del Cesar | E8: =E9*$K9 -> 1 | G8: =G9*$K9 -> 1 | J8: =J9*$K9 -> 1 | K8: 0.6
A9: ='TABLA 7 ESTRUCTURA PROGRAMÁTICA'!D8 -> 1.1.1 Identificación y priorización de las zonas prioritarias para restaurar y recuperar en las 5 ERE del departamento | B9: ='TABLA 7 ESTRUCTURA PROGRAMÁTICA'!K8 -> ERE con zonas identificadas y priorizadas para restaurar y recuperar. | C9: ='TABLA 7 ESTRUCTURA PROGRAMÁTICA'!E8 -> 1 | D9: 1 | E9: =IF(C9=0,"N.A",(D9/C9)*1) -> 1 | F9: Se ha avanzado en la identificación de áreas priorizadas en los POMCAS Guatapurí, Chiriaimo-Manaure y Magiriaimo según la zonificación ambiental de dichos instrumentos para la formulación de proyectos orientados a su restauración | G9: =E9 -> 1 | H9: ='TABLA 7 ESTRUCTURA PROGRAMÁTICA'!I8 -> 5 | I9: =G9 -> 1 | J9: =I9 -> 1 | K9: 1 | L9: =IF(C9=0,E9,(G9*K9)) -> 1 | M9: =IF(L9="N.A","N.A",L9*$K$7*$K$8) -> 0.12 | N9: =IF(M9="N.A",0,0) -> 0 | O9: 100000000 | P9: 8919489 | Q9: =P9/O9 -> 0.08919489 | R9: =O9 -> 100000000 | S9: =O9 -> 100000000 | T9: =S9/R9 -> 1 | V9: 3202 – Conservación de la biodiversidad y sus servicios ecosistémicos. | W9: 15. Porcentaje de áreas de ecosistemas en restauración, rehabilitación y reforestación | X9: 15. Promover el uso sostenible de los ecosistemas terrestres, luchar contra la desertificación, detener e invertir la degradación de las tierras y frenar la pérdida de la diversidad biológica
A10: ='TABLA 7 ESTRUCTURA PROGRAMÁTICA'!D9 -> 1.1.2 Formulación e implementación de proyectos de Restauración Ecológica Integral | B10: ='TABLA 7 ESTRUCTURA PROGRAMÁTICA'!K9 -> Proyectos de restauración Ecologica Integral - REI- gestionados y en implementaciòn. | C10: ='TABLA 7 ESTRUCTURA PROGRAMÁTICA'!E9 -> 0 | D10: 0 | E10: =IF(C10=0,"N.A",(D10/C10)*1) -> N.A | F10: No registra meta para el periodo evaluado. | G10: =E10 -> N.A | H10: ='TABLA 7 ESTRUCTURA PROGRAMÁTICA'!I9 -> 2 | I10: =E10 -> N.A | J10: =I10 -> N.A | K10: 0 | L10: =IF(C10=0,E10,(E10*K10)) -> N.A | M10: =IF(L10="N.A","N.A",L10*$K$7*$K$8) -> N.A | N10: =(IF(M10="N.A",0,M10))+N9 -> 0
A11: ='TABLA 7 ESTRUCTURA PROGRAMÁTICA'!D10 -> 1.1.3 Monitoreo, seguimiento y evaluaciòn de las acciones de REI en implementaciòn | B11: ='TABLA 7 ESTRUCTURA PROGRAMÁTICA'!K10 -> Sistema de monitoreo y reporte implementado por proyecto. | C11: ='TABLA 7 ESTRUCTURA PROGRAMÁTICA'!E10 -> 0 | D11: 0 | E11: =IF(C11=0,"N.A",(D11/C11)*1) -> N.A | F11: No registra meta para el periodo evaluado. | G11: =E11 -> N.A | H11: ='TABLA 7 ESTRUCTURA PROGRAMÁTICA'!I10 -> 2 | I11: =E11 -> N.A | J11: =I11 -> N.A | K11: 0 | L11: =IF(C11=0,E11,(E11*K11)) -> N.A | M11: =IF(L11="N.A","N.A",L11*$K$7*$K$8) -> N.A | N11: =(IF(M11="N.A",0,M11))+N10 -> 0
A12: ='TABLA 7 ESTRUCTURA PROGRAMÁTICA'!D11 -> 1.1.4 Reporte, comunicación y divulgación de la evolución del proceso de REI. | C12: ='TABLA 7 ESTRUCTURA PROGRAMÁTICA'!E11 -> 0 | D12: 0 | E12: =IF(C12=0,"N.A",(D12/C12)*1) -> N.A | F12: No registra meta para el periodo evaluado. | G12: =E12 -> N.A | H12: ='TABLA 7 ESTRUCTURA PROGRAMÁTICA'!I11 -> 2 | I12: =E12 -> N.A | J12: =I12 -> N.A | K12: 0 | L12: =IF(C12=0,E12,(E12*K12)) -> N.A | M12: =IF(L12="N.A","N.A",L12*$K$7*$K$8) -> N.A | N12: =(IF(M12="N.A",0,M12))+N11 -> 0
A13: AVANCE | J13: =I13 -> 0 | L13: =SUM(L9:L12) -> 1 | M13: =IF(L13="N.A","N.A",L13*$K$7*$K$8) -> 0.12
A14: 1. RESTAURACIÓN ECOLÓGICA VERIFICABLE Y SUSTENTABLE | K14: 0.2
A15: ='TABLA 7 ESTRUCTURA PROGRAMÁTICA'!C12 -> 1.2 Coordinación y Desarrollo de portafolios de sistemas sostenibles de conservación - SSC- (conservación, restauración, manejo sostenible, agroforestales, reconversión productiva) en el departamento del Cesar | E15: =E16*$K16+E17*$K17 -> 1 | G15: =G16*$K16+G17*$K17 -> 1 | J15: =J16*$K16+J17*$K17 -> 1 | K15: 0.4
A16: ='TABLA 7 ESTRUCTURA PROGRAMÁTICA'!D12 -> 1.2.1 Coordinación, concienciación de actores entorno al proceso de visión de sistemas sostenibles de conservación -SSC- | B16: ='TABLA 7 ESTRUCTURA PROGRAMÁTICA'!K12 -> Grupos de actores conformados para el desarrollo del SSC | C16: ='TABLA 7 ESTRUCTURA PROGRAMÁTICA'!E12 -> 1 | D16: 1 | E16: =IF(C16=0,"N.A",(D16/C16)*1) -> 1 | F16: De manera conjunta con el programa Riqueza Natural de USAID se avanza en el diseño de un esquema de PSA en la cuenca del río Guatapurí, Manaure, Magiriaimo, Chiriaimo, donde se plantea vincular a los municipios de Valledupar, Manaure, Codazzi, San Diego, a EMDUPAR, entre otros actores. | G16: =E16 -> 1 | H16: ='TABLA 7 ESTRUCTURA PROGRAMÁTICA'!I12 -> 3 | I16: =G16 -> 1 | J16: =I16 -> 1 | K16: 0.5 | L16: =IF(C16=0,G16,(G16*K16)) -> 0.5 | M16: =IF(L16="N.A","N.A",L16*$K$14*$K$15) -> 0.04 | N16: =(IF(M16="N.A",0,M16))+N12 -> 0.04 | O16: 100000000 | P16: 5000000 | Q16: =P16/O16 -> 0.05 | R16: =O16 -> 100000000 | S16: =O16 -> 100000000 | T16: =S16/R16 -> 1 | V16: 3202 – Conservación de la biodiversidad y sus servicios ecosistémicos. | W16: 15. Porcentaje de áreas de ecosistemas en restauración, rehabilitación y reforestación | X16: 15. Promover el uso sostenible de los ecosistemas terrestres, luchar contra la desertificación, detener e invertir la degradación de las tierras y frenar la pérdida de la diversidad biológica
A17: ='TABLA 7 ESTRUCTURA PROGRAMÁTICA'!D13 -> 1.2.2 Diseño conjunto de un modelo y estrategias para la implementación de SSC | B17: ='TABLA 7 ESTRUCTURA PROGRAMÁTICA'!K13 -> Porcentaje de avance del modelo de SSC | C17: ='TABLA 7 ESTRUCTURA PROGRAMÁTICA'!E13 -> 30 | D17: 30 | E17: =IF(C17=0,"N.A",(D17/C17)*1) -> 1 | F17: Se ha avanzado en la identificación de áreas priorizadas en los POMCAS Guatapurí, Chiriaimo-Manaure y Magiriaimo según la zonificación ambiental de dichos instrumentos para la formulacion de proyectos orientados a su restauracion. | G17: =E17 -> 1 | H17: ='TABLA 7 ESTRUCTURA PROGRAMÁTICA'!I13 -> 100 | I17: =E17 -> 1 | J17: =I17 -> 1 | K17: 0.5 | L17: =IF(C17=0,E17,(E17*K17)) -> 0.5 | M17: =IF(L17="N.A","N.A",L17*$K$14*$K$15) -> 0.04 | N17: =(IF(M17="N.A",0,M17))+N16 -> 0.08
A18: ='TABLA 7 ESTRUCTURA PROGRAMÁTICA'!D14 -> 1.2.3 Gestión sinérgica para la promoción y creación de capacidad técnica para la implementación del manejo SSC. | B18: ='TABLA 7 ESTRUCTURA PROGRAMÁTICA'!K14 -> Grupos asistidos técnicamente | C18: ='TABLA 7 ESTRUCTURA PROGRAMÁTICA'!E14 -> 0 | D18: 0 | E18: =IF(C18=0,"N.A",(D18/C18)*1) -> N.A | F18: No registra meta para el periodo evaluado. | G18: =E18 -> N.A | H18: ='TABLA 7 ESTRUCTURA PROGRAMÁTICA'!I14 -> 3 | I18: =E18 -> N.A | J18: =I18 -> N.A | K18: 0 | L18: =IF(C18=0,E18,(E18*K18)) -> N.A | M18: =IF(L18="N.A","N.A",L18*$K$14*$K$15) -> N.A | N18: =(IF(M18="N.A",0,M18))+N17 -> 0.08
A19: ='TABLA 7 ESTRUCTURA PROGRAMÁTICA'!D15 -> 1.2.4 Apoyo a la implementación, seguimiento y evaluación de proyectos pilotos y/o estratégicos de SSC. | B19: ='TABLA 7 ESTRUCTURA PROGRAMÁTICA'!K15 -> Proyectos formulados y apoyados con seguimiento y evaluación. | C19: ='TABLA 7 ESTRUCTURA PROGRAMÁTICA'!E15 -> 0 | D19: 0 | E19: =IF(C19=0,"N.A",(D19/C19)*1) -> N.A | F19: No registra meta para el periodo evaluado. | G19: =E19 -> N.A | H19: ='TABLA 7 ESTRUCTURA PROGRAMÁTICA'!I15 -> 5 | I19: =E19 -> N.A | J19: =I19 -> N.A | K19: 0 | L19: =IF(C19=0,E19,(E19*K19)) -> N.A | M19: =IF(L19="N.A","N.A",L19*$K$14*$K$15) -> N.A | N19: =(IF(M19="N.A",0,M19))+N18 -> 0.08
A20: AVANCE | J20: =I20 -> 0 | L20: =SUM(L16:L19) -> 1
A21: ='TABLA 7 ESTRUCTURA PROGRAMÁTICA'!B17 -> 2. GESTIÓN INTEGRAL DEL RIESGO AMBIENTAL, CLIMÁTICO, Y DEL RECURSO HÍDRICO. | K21: 0.2
A22: ='TABLA 7 ESTRUCTURA PROGRAMÁTICA'!C17 -> 2.1 Implementación y evaluación de acciones del Plan Integral de Gestión de Cambio Climático -PIGCC- Territorial del Cesar | E22: =E23*$K23+E25*$K25 -> 1 | G22: =G23*$K23+G25*$K25 -> 1 | J22: =J23*$K23+J25*$K25 -> 1 | K22: 0.3
A23: ='TABLA 7 ESTRUCTURA PROGRAMÁTICA'!D17 -> 2.1.1 Gestión e implementación de Estrategias y/o Proyectos de mitigación y adaptación al cambio climático, en el marco de los planteamientos del -PIGCC- Territorial del Cesar | B23: ='TABLA 7 ESTRUCTURA PROGRAMÁTICA'!K17 -> No. de estrategias y/o proyectos del PIGCC, implementados o promovidos | C23: ='TABLA 7 ESTRUCTURA PROGRAMÁTICA'!E17 -> 2 | D23: 4 | E23: 1 | F23: En la presente vigencia la entidad adelantó las siguientes actividades: • Adopción de los Planes de Ordenamiento de Cuencas Hidrográficas de las corrientes Guatapurí (2801-01), Chiriaimo – Manaure (2802-03), Magiriaimo (2802-04), Buturama (2321-01) • Ejecución (actualmente) de destaponamiento de los caños Agua Fría (corregimiento de Candelaria y Sempegua), Corozal (corregimiento de El Guamo) y una zona de la ciénaga de Zapatosa en el Puerto La Mata (corregimiento de La Mata), todo ello en el municipio de Chimichagua, en la cuenca del Bajo Río Cesar – Zapatosa (2805-02) • Elaboración de los estudios previos para la formulación de los POMCAS de las cuencas del Río Cesar Medio (2802-02) y de la quebrada Singararé (2321-03) • Asesoría a 25 municipios para la inclusión del componentes de gestión del riesgo de desastres, aspecto asociado a la gestión de posibles cambios en el comportamiento del clima. | G23: =E23 -> 1 | H23: ='TABLA 7 ESTRUCTURA PROGRAMÁTICA'!I17 -> 15 | I23: =E23 -> 1 | J23: =I23 -> 1 | K23: 0.5 | L23: =IF(C23=0,E23,(E23*K23)) -> 0.5 | M23: =IF(L23="N.A","N.A",L23*$K$21*$K$22) -> 0.03 | N23: =(IF(M23="N.A",0,M23))+N19 -> 0.11 | O23: =300000000+10550000+14171666 -> 324721666 | P23: =10550000+150000000+12993333 -> 173543333 | Q23: =P23/O23 -> 0.53443718 | R23: =O23 -> 324721666 | S23: =O23 -> 324721666 | T23: =S23/R23 -> 1 | V23: 3206 – Gestión del cambio climático para un desarrollo bajo en carbono y resiliente al clima. | W23: 7. Porcentaje de entes territoriales asesorados en la incorporación, planificación y ejecución de acciones relacionadas con cambio climático en el marco de los instrumentos de planificación territorial
A24: ='TABLA 7 ESTRUCTURA PROGRAMÁTICA'!D18 -> 2.1.2 Implementación del SIA de cambio climático dptal y apoyo efectivo al sistema de Registro Nacional de Reducción de Emisiones de Gases de Efecto Invernadero - RENARE | B24: ='TABLA 7 ESTRUCTURA PROGRAMÁTICA'!K18 -> Avance del SIA -CC y apoyo a RENARE | C24: ='TABLA 7 ESTRUCTURA PROGRAMÁTICA'!E18 -> 0 | D24: 0 | E24: =IF(C24=0,"N.A",(D24/C24)*1) -> N.A | F24: No registra meta para el periodo evaluado. | G24: =E24 -> N.A | H24: ='TABLA 7 ESTRUCTURA PROGRAMÁTICA'!I18 -> 100 | I24: =E24 -> N.A | J24: =I24 -> N.A | K24: 0 | L24: =IF(C24=0,E24,(E24*K24)) -> N.A | M24: =IF(L24="N.A","N.A",L24*$K$21*$K$22) -> N.A | N24: =(IF(M24="N.A",0,M24))+N23 -> 0.11
A25: ='TABLA 7 ESTRUCTURA PROGRAMÁTICA'!D19 -> 2.1.3 Fortalecimiento de la participación y gestión de Corpocesar, en el nodo Regional de Cambio Climático -NRCC- del Caribe | B25: ='TABLA 7 ESTRUCTURA PROGRAMÁTICA'!K19 -> Agenda intersectorial del NRCC Caribe articulada y apoyada. | C25: ='TABLA 7 ESTRUCTURA PROGRAMÁTICA'!E19 -> 100 | D25: 100 | E25: =IF(C25=0,"N.A",(D25/C25)*1) -> 1 | F25: La Corporación ha participado en todos los eventos que el Nodo Caribe e Insular de Cambio Climático ha organizado a lo largo del presente año, en especial para conocer acerca de los planteamientos de la Contribución Nacionalmente Determinada (NDC), el avance de la ejecución y lo proyectado dentro del Plan Integral de Gestión del cambio Climático Territorial Cesar 2032. Se ha participado activamente, realizando aportes, formulando observaciones y analizando los documentos que se han puesto a consideración de los asistentes a dichas jornadas virtuales. | G25: =E25 -> 1 | H25: ='TABLA 7 ESTRUCTURA PROGRAMÁTICA'!I19 -> 100 | I25: =E25 -> 1 | J25: =I25 -> 1 | K25: 0.5 | L25: =IF(C25=0,E25,(E25*K25)) -> 0.5 | M25: =IF(L25="N.A","N.A",L25*$K$21*$K$22) -> 0.03 | N25: =(IF(M25="N.A",0,M25))+N24 -> 0.14
A26: AVANCE | J26: =I26 -> 0 | L26: =SUM(L23:L25) -> 1
A27: =A21 -> 2. GESTIÓN INTEGRAL DEL RIESGO AMBIENTAL, CLIMÁTICO, Y DEL RECURSO HÍDRICO. | K27: 0.2
A28: ='TABLA 7 ESTRUCTURA PROGRAMÁTICA'!C21 -> 2.2 Implementación de acciones para la operación de la EDANA en el área de jurisdicción de Corpocesar. | E28: =E29*$K29 -> 0.25 | J28: =J29*$K29 -> 0.25 | K28: 0.1
A29: ='TABLA 7 ESTRUCTURA PROGRAMÁTICA'!D21 -> 2.2.1 Gestión para la implementación de la Metodología que permita al sector ambiente realizar una evaluación de daños y necesidades ambientales -EDANA en zonas continentales impactadas por desastres naturales, socionaturales y/o antrópicos | B29: ='TABLA 7 ESTRUCTURA PROGRAMÁTICA'!K21 -> Adopción de la Metodología EDANA | C29: ='TABLA 7 ESTRUCTURA PROGRAMÁTICA'!E21 -> 20 | D29: 5 | E29: =IF(C29=0,"N.A",(D29/C29)*1) -> 0.25 | F29: Al respecto, se ofició al funcionario José Francisco Charry - Director de Cambio Climático y de Gestión del Riesgo del MADS para que se estudiase la posibilidad de dar apoyo a la Corporación para la ejecución de las actividades del proyecto, quien manifestó que se prestaría apoyo, inicialmente, mediante una reunión virtual el día 24 de julio de 2020, en la que la funcionaria Gipsy Arenas encargada del tema en el MADS, expuso la metodología EDANA como un ejercicio que se lleva a cabo sobre una base cartográfica, con la participación de un equipo interdisciplinario. Como producto de dicha reunión, se escogió la evaluación de daño por incendios forestales en la cuenca de los ríos Chiriaimo y Manaure y se solicitó por parte de la funcionaria se le aportara información de la jurisdicción de CORPOCESAR, enviándosele la cartografía del POMCA de los ríos Chiriaimo y Manaure, así como información satelital de la ocurrencia de incendios, como el tema a evaluar con la EDANA. De acuerdo con información facilitada por Néstor Garzón, Coordinador de Gestión de Riesgo de Desastre del MADS, esa entidad ha incluido a CORPOCESAR dentro de las metas institucionales para capacitación, adopción e implementación de la EDANA para 2021, ante el interés manifestado por la Corporación, con lo que se espera avanzar sustancialmente en este tema para la vigencia 2021. | G29: =E29 -> 0.25 | H29: ='TABLA 7 ESTRUCTURA PROGRAMÁTICA'!I21 -> 100 | I29: =E29 -> 0.25 | J29: =I29 -> 0.25 | K29: 1 | L29: =IF(C29=0,E29,(E29*K29)) -> 0.25 | M29: =IF(L29="N.A","N.A",L29*$K$27*$K$28) -> 0.005 | N29: =(IF(M29="N.A",0,M29))+N25 -> 0.145 | O29: 200000000 | P29: 0 | Q29: =P29/O29 -> 0 | R29: =O29 -> 200000000 | S29: =O29 -> 200000000 | T29: =S29/R29 -> 1 | V29: 3206 – Gestión del cambio climático para un desarrollo bajo en carbono y resiliente al clima. | X29: 13. Adoptar medidas urgentes para combatir el cambio climático y sus efectos
A30: ='TABLA 7 ESTRUCTURA PROGRAMÁTICA'!D22 -> 2.2.2 Implementación PILOTO de EDANA en zona priorizada | B30: ='TABLA 7 ESTRUCTURA PROGRAMÁTICA'!K22 -> Avance del piloto EDANA | C30: ='TABLA 7 ESTRUCTURA PROGRAMÁTICA'!E22 -> 0 | D30: 0 | E30: =IF(C30=0,"N.A",(D30/C30)*1) -> N.A | G30: =E30 -> N.A | H30: ='TABLA 7 ESTRUCTURA PROGRAMÁTICA'!I22 -> 100 | I30: =E30 -> N.A | J30: =I30 -> N.A | K30: 0 | L30: =IF(C30=0,E30,(E30*K30)) -> N.A | M30: =IF(L30="N.A","N.A",L30*$K$27*$K$28) -> N.A | N30: =(IF(M30="N.A",0,M30))+N29 -> 0.145
A31: ='TABLA 7 ESTRUCTURA PROGRAMÁTICA'!D23 -> 2.2.3 Diseño, Gestión e institucionalización operativa de EDANA Corpocesar. | B31: ='TABLA 7 ESTRUCTURA PROGRAMÁTICA'!K23 -> EDANA en operación | C31: ='TABLA 7 ESTRUCTURA PROGRAMÁTICA'!E23 -> 0 | D31: 0 | E31: =IF(C31=0,"N.A",(D31/C31)*1) -> N.A | F31: No registra meta para el periodo evaluado. | G31: =E31 -> N.A | H31: ='TABLA 7 ESTRUCTURA PROGRAMÁTICA'!I23 -> 1 | I31: =E31 -> N.A | J31: =I31 -> N.A | K31: 0 | L31: =IF(C31=0,E31,(E31*K31)) -> N.A | M31: =IF(L31="N.A","N.A",L31*$K$27*$K$28) -> N.A | N31: =(IF(M31="N.A",0,M31))+N30 -> 0.145
A32: AVANCE | J32: =I32 -> 0 | L32: =SUM(L29:L31) -> 0.25
A33: =A21 -> 2. GESTIÓN INTEGRAL DEL RIESGO AMBIENTAL, CLIMÁTICO, Y DEL RECURSO HÍDRICO. | K33: 0.2
A34: ='TABLA 7 ESTRUCTURA PROGRAMÁTICA'!C25 -> 2.3 Gestión de conocimiento e implementación de medidas para la reducción del riesgo ambiental en áreas prioritarias del dpto. del Cesar. | E34: =E35*$K35+E36*$K$36 -> 1 | G34: =G35*$K35+G36*$K$36 -> 1 | J34: =J35*$K35 -> 0.5 | K34: 0.3
A35: ='TABLA 7 ESTRUCTURA PROGRAMÁTICA'!D25 -> 2.3.1 Gestión y ejecución de Acciones de conocimiento para la reducción del riesgo asociado al cambio climático, enmarcadas en la GRD. (Estudios de detalle) | B35: ='TABLA 7 ESTRUCTURA PROGRAMÁTICA'!K25 -> Acciones de conocimiento del riesgo ejecutadas | C35: ='TABLA 7 ESTRUCTURA PROGRAMÁTICA'!E25 -> 1 | D35: 1 | E35: =IF(C35=0,"N.A",(D35/C35)*1) -> 1 | F35: Se formuló solicitud de apoyo al MADS para la ejecución de las actividades , enfocadas a la metodología de Adaptación Basada en Ecosistemas (AbE), ya que se tuvo la oportunidad de conocer, de parte de la funcionaria Olga Nieto que el MADS ha avanzado en la definición de metodologías para la evaluación y diseño de medidas de reducción del riesgo de desastres asociados al cambio climático (adaptación basada en ecosistemas, AbE). En respuesta, se tuvo la comunicación 8250-2-20872 del 31 de julio de 2020, en la que el director de GRD y CC del MADS manifestó que sí prestaría el apoyo solicitado, para lo cual señaló que sería a través de reuniones virtuales iniciando el 06 de agosto de 2020. En el ejercicio que se llevó a cabo con la orientación de las funcionarias Olga Nieto y Daniel a Mendoza del MADS, se aprendieron las bases metodológicas de la evaluación de ecorreducción del riesgo de desastres (EcoRRD), para lo cual se requiere del cruce de información cartográfica temática sobre población, ecosistemas y características de los mismos, la zonificación del riesgo a evaluar y del índice de degradación ambiental. En el ejercicio EcoRRD entre el MADS y CORPOCESAR, se tomó la cuenca del río Bajo Cesar – Zapatosa (POMCA) y se analizó el riesgo por inundación, obteniéndose un mapa que muestra las zonas que deben ser atendidas con medidas de mitigación del riesgo por inundación (Mapa 1). | G35: =E35 -> 1 | H35: ='TABLA 7 ESTRUCTURA PROGRAMÁTICA'!I25 -> 3 | I35: =G35 -> 1 | J35: =I35 -> 1 | K35: 0.5 | L35: =IF(C35=0,G35,(G35*K35)) -> 0.5 | M35: =IF(L35="N.A","N.A",L35*$K$33*$K$34) -> 0.03 | N35: =(IF(M35="N.A",0,M35))+N31 -> 0.175 | O35: =1500000000+19792000 -> 1519792000 | P35: =202365800 -> 202365800 | Q35: =P35/O35 -> 0.13315362 | R35: =O35 -> 1519792000 | S35: =O35 -> 1519792000 | T35: =S35/R35 -> 1 | V35: 3206 – Gestión del cambio climático para un desarrollo bajo en carbono y resiliente al clima. | W35: 7. Porcentaje de entes territoriales asesorados en la incorporación, planificación y ejecución de acciones relacionadas con cambio climático en el marco de los instrumentos de planificación territorial | X35: 13. Adoptar medidas urgentes para combatir el cambio climático y sus efectos
A36: ='TABLA 7 ESTRUCTURA PROGRAMÁTICA'!D26 -> 2.3.2 Gestión e implementación de Medidas estructurales y/o proyectos para la REDUCCION del riesgo | B36: ='TABLA 7 ESTRUCTURA PROGRAMÁTICA'!K26 -> Medidas estructurales ejecutadas | C36: ='TABLA 7 ESTRUCTURA PROGRAMÁTICA'!E26 -> 10 | D36: 10 | E36: =IF(C36=0,"N.A",(D36/C36)*1) -> 1 | F36: Se avanzó en la contratación de medidas estructurales para la prevención del riesgo por inundación en la Laguna de Guacoche y control de desbordamiento del Caño El Arroyito en el corregimiento de Guacoche, municipio de Valledupar. | G36: =E36 -> 1 | H36: ='TABLA 7 ESTRUCTURA PROGRAMÁTICA'!I26 -> 100 | I36: =E36 -> 1 | J36: =I36 -> 1 | K36: 0.5 | L36: =IF(C36=0,E36,(E36*K36)) -> 0.5 | M36: =IF(L36="N.A","N.A",L36*$K$33*$K$34) -> 0.03 | N36: =(IF(M36="N.A",0,M36))+N35 -> 0.205
A37: ='TABLA 7 ESTRUCTURA PROGRAMÁTICA'!D27 -> 2.3.3 Gestión, implementación y evaluación de Medidas no estructurales y/o proyectos para la REDUCCION del riesgo | B37: ='TABLA 7 ESTRUCTURA PROGRAMÁTICA'!K27 -> Medidas no estructurales ejecutadas | C37: ='TABLA 7 ESTRUCTURA PROGRAMÁTICA'!E27 -> 0 | D37: 0 | E37: =IF(C37=0,"N.A",(D37/C37)*1) -> N.A | F37: No registra meta para el periodo evaluado. | G37: =E37 -> N.A | H37: ='TABLA 7 ESTRUCTURA PROGRAMÁTICA'!I27 -> 5 | I37: =E37 -> N.A | J37: =I37 -> N.A | K37: 0 | L37: =IF(C37=0,E37,(E37*K37)) -> N.A | M37: =IF(L37="N.A","N.A",L37*$K$33*$K$34) -> N.A | N37: =(IF(M37="N.A",0,M37))+N36 -> 0.205
B38: ='TABLA 7 ESTRUCTURA PROGRAMÁTICA'!K28 -> Medidas no estructurales evaluadas | C38: ='TABLA 7 ESTRUCTURA PROGRAMÁTICA'!E28 -> 0 | D38: 0 | E38: =IF(C38=0,"N.A",(D38/C38)*1) -> N.A | F38: No registra meta para el periodo evaluado. | G38: =E38 -> N.A | H38: ='TABLA 7 ESTRUCTURA PROGRAMÁTICA'!I28 -> 5 | I38: =E38 -> N.A | J38: =I38 -> N.A | K38: =K37 -> 0 | L38: =IF(C38=0,E38,(E38*K38)) -> N.A | M38: =IF(L38="N.A","N.A",L38*$K$33*$K$34) -> N.A | N38: =(IF(M38="N.A",0,M38))+N37 -> 0.205
A39: AVANCE | J39: =I39 -> 0 | L39: =SUM(L33:L36) -> 1
A40: =A21 -> 2. GESTIÓN INTEGRAL DEL RIESGO AMBIENTAL, CLIMÁTICO, Y DEL RECURSO HÍDRICO. | K40: 0.2
A41: ='TABLA 7 ESTRUCTURA PROGRAMÁTICA'!C30 -> 2.4 Gestión integral del recurso hídrico y materialización de la ZOAT en el area de jurisdiccion de Corpocesar. | E41: =E43*$K43+E44*$K44+E47*$K47+E50*$K50+E51*$K51+E52*$K52+E53*$K53+E55*$K55+E56*$K56 -> 0.76 | G41: =G43*$K43+G44*$K44+G47*$K47+G50*$K50+G51*$K51+G52*$K52+G53*$K53+G55*$K55+G56*$K56 -> 0.76 | J41: =J43*$K43+J44*$K44+J47*$K47+J50*$K50+J51*$K51+J52*$K52+J53*$K53+J55*$K55+J56*$K56 -> 0.76 | K41: 0.3
...

Sheet ANEXO 5-1 INGRESOS
A2: ANEXO No. 5-1. INFORME DE EJECUCIÓN PRESUPUESTAL DE INGRESOS
A3: CORPORACIÓN AUTÓNOMA REGIONAL DEL CESAR >CORPOCESAR<
A4: RECURSOS VIGENCIA: | C4: 2019
B6: NIVEL RENTISTICO | C6: APROPIADO | D6: RECAUDADO | E6: % Ejec
A7: 3000 | B7: INGRESOS PROPIOS | C7: =SUM(C8+C32) -> 2.6518326e+10 | D7: =SUM(D8+D32) -> 2.0812123e+10 | E7: =D7*100/C7 -> 78.482038
A8: 3100 | B8: INGRESOS CORRIENTES | C8: =SUM(C9+C13) -> 2.3438326e+10 | D8: =SUM(D9+D13) -> 1.7732123e+10 | E8: =D8*100/C8 -> 75.654391
A9: 3110 | B9: Tributarios | C9: =SUM(C10+C11+C12) -> 12000000000 | D9: =SUM(D10+D11+D12) -> 1.2252613e+10 | E9: =D9*100/C9 -> 102.10511
B10: Participación Ambiental Municipios | C10: 0 | D10: 0 | E10: 0
B11: Sobretasa Ambiental | C11: 12000000000 | D11: 1.2252613e+10 | E11: =D11*100/C11 -> 102.10511
B12: Otros | C12: 0 | D12: 0 | E12: 0
A13: 3120 | B13: No Tributarios | C13: =SUM(C14+C17+C18+C19+C20+C25) -> 1.1438326e+10 | D13: =SUM(D14+D17+D18+D19+D20+D25) -> 5.4795098e+09 | E13: =D13*100/C13 -> 47.904822
A14: 3121 | B14: Venta de Bienes y Servicios | C14: =SUM(C15:C16) -> 800000000 | D14: =SUM(D15:D16) -> 5.3377891e+08 | E14: =D14*100/C14 -> 66.722364
B15: Licencias, permisos y tramites ambientales | C15: 800000000 | D15: 5.3377891e+08 | E15: =D15*100/C15 -> 66.722364
B16: Otros por Venta de Bienes y Servicios | C16: 0 | D16: 0 | E16: 0
A17: 3123 | B17: Operaciones Comerciales | C17: 0 | D17: 0 | E17: 0
A18: 3124 | B18: Aportes Patronales | C18: 0 | D18: 0 | E18: 0
A19: 3125 | B19: Aportes de Afiliados | C19: 0 | D19: 0 | E19: 0
A20: 3126 | B20: Aportes de otras entidades | C20: =SUM(C21:C24) -> 4.5383262e+09 | D20: =SUM(D21:D24) -> 7.5286118e+08 | E20: =D20*100/C20 -> 16.588961
B21: Transferencias Sector Electrico | C21: 1000000000 | D21: 7.5286118e+08 | E21: =D21*100/C21 -> 75.286118
B22: Compensación Explotación Carbón | C22: 0 | D22: 0 | E22: 0
B23: Convenios | C23: 3.5383262e+09 | D23: 0 | E23: 0
B24: Otros Aportes de Otras Entidades | C24: 0 | D24: 0 | E24: 0
A25: 3128 | B25: Otros Ingresos | C25: =SUM(C26:C31) -> 6100000000 | D25: =SUM(D26:D31) -> 4.1928697e+09 | E25: =D25*100/C25 -> 68.735569
B26: Tasa Retributiva y Compensatoria | C26: 1000000000 | D26: 182223330 | E26: =D26*100/C26 -> 18.222333
B27: Tasa Material de Arrastre | C27: 0 | D27: 0 | E27: 0
B28: Tasa por Uso del Agua | C28: 500000000 | D28: 225360433 | E28: =D28*100/C28 -> 45.072087
B29: Tasa Aprovechamiento Forestal | C29: 1000000000 | D29: 2.8073441e+08 | E29: =D29*100/C29 -> 28.073441
B30: Multas y Sanciones | C30: 400000000 | D30: 3.1507627e+08 | E30: =D30*100/C30 -> 78.769067
B31: Otros Ingresos | C31: 3200000000 | D31: 3189475278 | E31: =D31*100/C31 -> 99.671102
A32: 3200 | B32: RECURSOS DE CAPITAL | C32: 3080000000 | D32: 3080000000 | E32: =D32*100/C32 -> 100
A33: 3210 | B33: Crédito externo | C33: 0 | D33: 0 | E33: 0
A34: 3211 | B34: Perfeccionado | C34: 0 | D34: 0 | E34: 0
A35: 3212 | B35: Autorizado | C35: 0 | D35: 0 | E35: 0
A36: 3220 | B36: Crédito Interno | C36: 0 | D36: 0 | E36: 0
A37: 3221 | B37: Perfeccionado | C37: 0 | D37: 0 | E37: 0
A38: 3222 | B38: Autorizado | C38: 0 | D38: 0 | E38: 0
A39: 3230 | B39: Rendimientos Financieros | C39: 50000000 | D39: 10278023 | E39: =D39*100/C39 -> 20.556046
A40: 3250 | B40: Recursos del Balance | C40: =SUM(C41:C46) -> 3000000000 | D40: =SUM(D41:D46) -> 3.7302923e+09 | E40: =D40*100/C40 -> 124.34308
A41: 3251 | B41: Venta de Activos | C41: 0 | D41: 0 | E41: 0
A42: 3252 | B42: Excedentes Financieros | C42: 0 | D42: 0 | E42: 0
...

Sheet Anexo 5-2 Gastos
A2: ANEXO No.5-2. INFORME DE EJECUCION PRESUPUESTAL DE GASTOS
A3: CORPORACIÓN AUTÓNOMA REGIONAL DEL CESAR
A4: RECURSOS VIGENCIA: | B4: 2018
A5: CONCEPTO | B5: RECURSOS PROPIOS $ | E5: RECURSOS DE LA NACION $ | H5: TOTAL RECURSOS (PROPIOS -NACION) $
B6: APROPIACION DEFINITIVA | C6: EJECUCION (COMPROMISOS) | D6: EJECUCION (PAGOS) | E6: APROPIACION DEFINITIVA | F6: EJECUCION (COMPROMISOS) | G6: EJECUCION (PAGOS) | H6: APROPIACION DEFINITIVA | I6: EJECUCION (COMPROMISOS) | J6: EJECUCION (PAGOS)
A7: GASTOS DE PERSONAL | B7: 2.2073468e+09 | C7: 2.1657929e+09 | D7: 2.1227428e+09 | E7: 2603836000 | F7: 2603836000 | G7: 2603836000 | H7: =SUM(B7+E7) -> 4.8111828e+09 | I7: =C7+F7 -> 4.7696289e+09 | J7: =D7+G7 -> 4.7265788e+09
A8: GASTOS GENERALES | B8: =SUM(B9:B11) -> 1.4487703e+09 | C8: =SUM(C9:C11) -> 1.4109323e+09 | D8: =SUM(D9:D11) -> 1.3710081e+09 | E8: =SUM(E9:E11) -> 46089000 | F8: 39175650 | G8: =F8 -> 39175650 | H8: =SUM(H9:H11) -> 1.4948593e+09 | I8: =SUM(I9:I11) -> 1.450108e+09 | J8: =SUM(J9:J11) -> 1.4101837e+09
A9: Adquisición de Bienes | B9: 12389146 | C9: 12389146 | D9: 12389146 | E9: 0 | F9: 0 | G9: =F9 -> 0 | H9: =+B9+E9 -> 12389146 | I9: =+C9+F9 -> 12389146 | J9: =+D9+G9 -> 12389146
A10: Adquisición de Servicios | B10: 1.4277187e+09 | C10: 1.3898808e+09 | D10: 1.3499565e+09 | E10: 46089000 | F10: 39175650 | G10: =F10 -> 39175650 | H10: =+B10+E10 -> 1.4738077e+09 | I10: =+C10+F10 -> 1.4290564e+09 | J10: =+D10+G10 -> 1.3891322e+09
A11: Impuestos y Multas | B11: 8662420 | C11: 8662420 | D11: 8662420 | E11: 0 | F11: 0 | G11: =F11 -> 0 | H11: =+B11+E11 -> 8662420 | I11: =+C11+F11 -> 8662420 | J11: =+D11+G11 -> 8662420
A12: TRANSFERENCIAS CORRIENTES | B12: =SUM(B14:B15) -> 4.4770889e+08 | C12: =SUM(C14:C15) -> 4.4770889e+08 | D12: =+D13+D17 -> 4.4770889e+08 | E12: =SUM(E14:E15) -> 6186000 | F12: 6186000 | G12: =F12 -> 6186000 | H12: =+H13+H17 -> 4.5389489e+08 | I12: =+I13+I17 -> 4.5389489e+08 | J12: =+J13+J17 -> 4.5389489e+08
A13: ADMINISTRACION PUBLICA CENTRAL | D13: =SUM(D14:D16) -> 4.4770889e+08 | G13: =F13 -> 0 | H13: =SUM(H14:H16) -> 4.5389489e+08 | I13: =SUM(I14:I16) -> 4.5389489e+08 | J13: =SUM(J14:J16) -> 4.5389489e+08
A14: Cuota de Auditaje Contaloria Nacional | B14: 40209577 | C14: 40209577 | D14: 40209577 | E14: 6186000 | F14: 6186000 | G14: =F14 -> 6186000 | H14: =+B14+E14 -> 46395577 | I14: =+C14+F14 -> 46395577 | J14: =+D14+G14 -> 46395577
A15: Fondo de Compensación Ambiental | B15: 4.0749931e+08 | C15: 4.0749931e+08 | D15: 4.0749931e+08 | E15: 0 | F15: 0 | G15: =F15 -> 0 | H15: =+B15+E15 -> 4.0749931e+08 | I15: =+C15+F15 -> 4.0749931e+08 | J15: =+D15+G15 -> 4.0749931e+08
A16: Otros | H16: =+B16+E16 -> 0 | I16: =+C16+F16 -> 0 | J16: =+D16+G16 -> 0
A17: TRANSFERENCIAS PREVISION Y SEGURIDAD SOCIAL | B17: =SUM(B18:B19) -> 0 | C17: =SUM(C18:C19) -> 0 | D17: =SUM(D18:D19) -> 0 | E17: =SUM(E18:E19) -> 0 | F17: =SUM(F18:F19) -> 0 | G17: =SUM(G18:G19) -> 0 | H17: =SUM(H18:H19) -> 0 | I17: =SUM(I18:I19) -> 0 | J17: =SUM(J18:J19) -> 0
A18: Mesadas Pensionales | B18: 0 | C18: 0 | D18: 0 | E18: 0 | F18: 0 | G18: 0 | H18: =+B18+E18 -> 0 | I18: =+C18+F18 -> 0 | J18: =+D18+G18 -> 0
A19: Bonos pensionales | B19: 0 | C19: 0 | D19: 0 | E19: 0 | F19: 0 | G19: 0 | H19: =+B19+E19 -> 0 | I19: =+C19+F19 -> 0 | J19: =+D19+G19 -> 0
A20: OTRAS TRANSFERENCIAS | B20: =+B21+B23 -> 0 | C20: =+C21+C23 -> 0 | D20: =+D21+D23 -> 0 | E20: =+E21+E23 -> 0 | F20: =+F21+F23 -> 0 | G20: =+G21+G23 -> 0 | H20: =+H21+H23 -> 0 | I20: =+I21+I23 -> 0 | J20: =+J21+J23 -> 0
A21: SENTENCIAS Y CONCILIACIONES | B21: =SUM(B22) -> 0 | C21: =SUM(C22) -> 0 | D21: =SUM(D22) -> 0 | E21: =SUM(E22) -> 0 | F21: =SUM(F22) -> 0 | G21: =SUM(G22) -> 0 | H21: =SUM(H22) -> 0 | I21: =SUM(I22) -> 0 | J21: =SUM(J22) -> 0
A22: Sentencias y Conciliaciones | B22: 0 | C22: 0 | D22: 0 | E22: 0 | F22: 0 | G22: 0 | H22: =+B22+E22 -> 0 | I22: =+C22+F22 -> 0 | J22: =+D22+G22 -> 0
A23: OTRAS | B23: 0 | C23: 0 | D23: 0 | E23: 0 | F23: 0 | G23: 0 | H23: =+B23+E23 -> 0 | I23: =+C23+F23 -> 0 | J23: =+D23+G23 -> 0
A24: TOTAL GASTOS DE FUNCIONAMIENTO | B24: =+B7+B8+B12+B20 -> 4103826000 | C24: =+C7+C8+C12+C20 -> 4.0244342e+09 | D24: =+D7+D8+D12+D20 -> 3.9414598e+09 | E24: =+E7+E8+E12+E20 -> 2656111000 | F24: =+F7+F8+F12+F20 -> 2649197650 | G24: =+G7+G8+G12+G20 -> 2649197650 | H24: =+H7+H8+H12+H20 -> 6759937000 | I24: =+I7+I8+I12+I20 -> 6.6736318e+09 | J24: =+J7+J8+J12+J20 -> 6.5906575e+09
A26: TOTAL INVERSION | B26: =SUM(B27:B66) -> 2.0501489e+10 | C26: =SUM(C27:C66) -> 1.9582263e+10 | D26: =SUM(D27:D66) -> 1.5615766e+10 | E26: =SUM(E27:E66) -> 34873054403 | F26: =SUM(F27:F66) -> 3.4838571e+10 | G26: =SUM(G27:G66) -> 0 | H26: =SUM(H27:H66) -> 55374543080 | I26: =SUM(I27:I66) -> 5.4420834e+10 | J26: =SUM(J27:J66) -> 1.5615766e+10
A27: 1.1- FORMULACION Y/O AJUSTE DE POMCAS, IMPLEMENTACION EVALUACION Y SEGUIMIENTO CUENCAS PRIORIZADAS | B27: 1898085525 | C27: 1871260093 | D27: 1.1178487e+09 | E27: 0 | F27: 0 | G27: 0 | H27: =B27+E27 -> 1898085525 | I27: =C27+F27 -> 1871260093 | J27: =D27+G27 -> 1.1178487e+09
A28: 1.2- FORMULACION E IMPLEMENTACION DE PLANES DE MANEJO DE MICROCUENCAS DPTO. CESAR | B28: 25000000 | C28: 24916145 | D28: 24916145 | E28: 0 | F28: 0 | G28: 0 | H28: =B28+E28 -> 25000000 | I28: =C28+F28 -> 24916145 | J28: =D28+G28 -> 24916145
A29: 1.3- FORMULACION E IMPLEMENTACION DE PLANES DE MANEJO AMBIENTAL DE ACUIFEROS EN DPTO. DEL CESAR | B29: 75000000 | C29: 42623777 | D29: 42623777 | E29: 0 | F29: 0 | G29: 0 | H29: =B29+E29 -> 75000000 | I29: =C29+F29 -> 42623777 | J29: =D29+G29 -> 42623777
A30: 1.4- GESTION E IMPLEMENTACION DEL PORH DEL RIO CESAR | B30: 10000000 | C30: 10000000 | D30: 10000000 | E30: 0 | F30: 0 | G30: 0 | H30: =B30+E30 -> 10000000 | I30: =C30+F30 -> 10000000 | J30: =D30+G30 -> 10000000
A31: 1.5- CONTROL SEGUIMIENTO PSMVS y PUEAA APROBADOS E IMPLEMENTACION ACCIONES USOS EFICIENTE DESCONTAMINA | B31: 360000000 | C31: 359708091 | D31: 358828041 | E31: 0 | F31: 0 | G31: 0 | H31: =B31+E31 -> 360000000 | I31: =C31+F31 -> 359708091 | J31: =D31+G31 -> 358828041
A32: 1.6- ACTUALIZACION BASE DATO DE USUARIOS Y REGLAMENTACION DE CORRIENTES ENFOCADA A LA VARIABILIDAD DEL CLIMA | B32: 50000000 | C32: 33881588 | D32: 33881588 | E32: 0 | F32: 0 | G32: 0 | H32: =B32+E32 -> 50000000 | I32: =C32+F32 -> 33881588 | J32: =D32+G32 -> 33881588
A33: 1.7- CONTROL Y SEGUMIENTO AL PROGRAMA DE LA TASA RETRIBUTIVA EN LA JURISDICCION CORPOCESAR | B33: 3.6273255e+08 | C33: 3.5339465e+08 | D33: 3.5339465e+08 | E33: 0 | F33: 0 | G33: 0 | H33: =B33+E33 -> 3.6273255e+08 | I33: =C33+F33 -> 3.5339465e+08 | J33: =D33+G33 -> 3.5339465e+08
A34: 2.1- PROMOCION Y APOYO IMPLEMENTAC POLITICA NACIONAL CAMBIO CLIMATICO GESTION IMPLEMENT MEDIDAS MITIGACIO | B34: 20000000 | C34: 1293000 | D34: 1293000 | E34: 0 | F34: 0 | G34: 0 | H34: =B34+E34 -> 20000000 | I34: =C34+F34 -> 1293000 | J34: =D34+G34 -> 1293000
A35: 2.2- ESTUDIOS INVESTIGAC Y CONOCIMIENT IMPLEMENTAR ACCIONES MITIGACION APROPIAD ADAPTAC CAMBIO CLIMATICO | B35: 115208700 | C35: 1435500 | D35: 1435500 | E35: 0 | F35: 0 | G35: 0 | H35: =B35+E35 -> 115208700 | I35: =C35+F35 -> 1435500 | J35: =D35+G35 -> 1435500
A36: 3.1- IDENTIFICACION, FORMULAC E IMPLEMENTAC MEDIDAS INTEGRALES CONSERVACION Y RECUPERACION RECURSO SUELO | B36: 645000000 | C36: 631401183 | D36: 2.1144492e+08 | E36: 0 | F36: 0 | G36: 0 | H36: =B36+E36 -> 645000000 | I36: =C36+F36 -> 631401183 | J36: =D36+G36 -> 2.1144492e+08
A37: 4.2- DECLARACION AREAS PROTEGIDAS IMPLEMENTAC OTRAS ESTRATEG CONSERVAC BIODIVERSIDAD Y FORMULAC PLANES | B37: 877000000 | C37: 843355280 | D37: 493606050 | E37: 0 | F37: 0 | G37: 0 | H37: =B37+E37 -> 877000000 | I37: =C37+F37 -> 843355280 | J37: =D37+G37 -> 493606050
A38: 4.3- FORMULACION E IMPLEMENTAC ACCIONES PRIORITAR MANEJO ECOSIST ESTRATEG (PARAMOS, BOSQUES SECO, HUMEDA | B38: 680000000 | C38: 678579512 | D38: 388579512 | E38: 0 | F38: 0 | G38: 0 | H38: =B38+E38 -> 680000000 | I38: =C38+F38 -> 678579512 | J38: =D38+G38 -> 388579512
... A61: D-PAGO PASIVOS EXIGIBLES VIGENCIAS ANTERIORES AUDINTERG S.A.S 19-6-0287-0-2014 | B61: 12082560 | C61: 12082560 | D61: 0 | E61: 0 | F61: 0 | G61: 0 | H61: =B61+E61 -> 12082560 | I61: =C61+F61 -> 12082560 | J61: =D61+G61 -> 0
A62: FONAM 3205-0900-2 CONSTRUCCION DE OBRA PARA EL CONTROL INUNDACION SOBRE LA MARGEN IZQUIERDA DEL RIO ARIGUANI | D62: 0 | E62: 9999842135 | F62: 9999578604 | G62: 0 | H62: =B62+E62 -> 9999842135 | I62: =C62+F62 -> 9999578604 | J62: =D62+G62 -> 0
A63: FONAM-C-3202-0900-4 IMPLEMENTACION DE ACCIONES DE MANEJO SOSTENIBLE EN LAS ZONAS SECAS MIGUILLO VARAS BLANCAS | D63: 0 | E63: 4995451401 | F63: 4.9951316e+09 | G63: 0 | H63: =B63+E63 -> 4995451401 | I63: =C63+F63 -> 4.9951316e+09 | J63: =D63+G63 -> 0
A64: FONAM-C-3202-0900-5 IMPLEMENTACION DE ACCIONES PLAN DE MANEJO PARAMOS SUBPARAMOS ALTA MONTAÑA SERRANIA DEL PERIJA | D64: 0 | E64: 5237806308 | F64: 5.2371478e+09 | G64: 0 | H64: =B64+E64 -> 5237806308 | I64: =C64+F64 -> 5.2371478e+09 | J64: =D64+G64 -> 0
...

Sheet graficos
A3: E Meta Física | B3: 0.979
A4: E Meta Financiera | B4: 0.95
A5: Eficiencia | B5: =SUM(B3*B3/B4) -> 1.0088853

Sheet Hoja2
A3: 1.1 | B3: 0.8 | C3: 0.98
A4: 1.2 | B4: 0.2 | C4: 1
A5: 1.3 | B5: 0.7 | C5: 1
A6: 1.4 | B6: 1 | C6: 0
A7: 1.5 | B7: 0.933 | C7: 0.99
A8: 1.6. | B8: 1 | C8: NA
A9: 1.7 | B9: 1 | C9: 0.9
A23: 2.1 | B23: 1 | C23: 0.15
A24: 2.2 | B24: 1 | C24: 0.98
A35: 7.1 | B35: 0.96 | C35: 0.94
A36: 7.2 | B36: 1 | C36: 0.62
A50: 5.1 | B50: 0.864 | C50: 0.91
A51: 5.2 | B51: 0.075 | C51: 0
B56: Programa | C56: Ponderación
D57: Meta física | E57: Meta financiera | F57: Meta Física | G57: Meta financiera
B58: 1.AGUA | C58: 30
B59: 2. CAMBIO CLIMÁTICO | C59: 30
B60: 3. SUELO | C60: 5
B61: 4. BIODIVERSIDAD | C61: 5
B62: 5. GESTIÓN AMBIENTAL URBANA | C62: 5
B63: 6. TRÁMITES Y AUTORIZACIONES AMBIENTALES | C63: 5
B64: 7. ORDENAMIENTO AMBIENTAL TERRITORIAL | C64: 5
B65: 8.CONOCIMIENTO E INFORMACIÓN AMBIENTAL | C65: 5
B66: 9. EDUCACIÓN AMBIENTAL | C66: 4
B67: 10. MINORÍAS ETNICAS | C67: 3
B68: 11.DESARROLLO INSTITUCIONA | C68: 3
B69: TOTAL
A83: PROYECTO | B83: Meta fis 2016 | C83: Meta fin 2016
A84: 4.1 | B84: 1 | C84: 0.33
A85: 4.2 | B85: 0.986 | C85: 0.87
A86: 4.3 | B86: 0.687 | C86: 0.89
A87: 4.4 | B87: 1 | C87: 1
A96: PROYECTO | B96: Meta fis 2017 | C96: Meta fin 2017
A97: 5.1 | B97: 0.778 | C97: 0.79
A98: 5.2 | B98: 1 | C98: 0.33
B110: AVANCE
A111: PROYECTO | B111: Meta fis 2017 | C111: Meta fin 2017
A112: 6.1 | B112: 0.868 | C112: 0.7
A113: 6.3 | B113: 0.944 | C113: 0.98

Sheet GASTOS RCC
A2: MINISTERIO DE AMBIENTE, VIVIENDA Y DESARROLLO TERRITORIAL
A3: INFORME DE EJECUCION PRESUPUESTAL ACUMULADA DE GASTOS DE INVERSIÓN RCC - JUNIO 30 /2013
A4: CORPORACION AUTONOMA REGIONAL DEL CESAR >CORPOCESAR<
A5: RECURSOS VIGENCIA (2013):
A6: CONCEPTO | B6: APROPIACION | C6: EJECUCION | D6: % EJEC | E6: SALDO PRO EJECUTAR | F6: % POR EJECUTAR | G6: Pagos acumulados RCC | H6: Saldo pro pagar RC
A7: 113.900.1 (7.1) | B7: 5.7093975e+08 | C7: 0 | D7: =C7/B7*100 -> 0 | E7: =B7-C7 -> 5.7093975e+08 | F7: =E7/B7*100 -> 100 | G7: 0 | H7: =C7-G7 -> 0
A8: 123.900.4 (5.6) | B8: 200000000 | C8: 0 | D8: =C8/B8*100 -> 0 | E8: =B8-C8 -> 200000000 | F8: =E8/B8*100 -> 100 | G8: 0 | H8: =C8-G8 -> 0
A9: 123.900.4 (5.3) | B9: 90777500 | C9: 0 | D9: =C9/B9*100 -> 0 | E9: =B9-C9 -> 90777500 | F9: =E9/B9*100 -> 100 | G9: 0 | H9: =C9-G9 -> 0
A10: 310.900.5 (6.1) | B10: 200000000 | C10: 0 | D10: =C10/B10*100 -> 0 | E10: =B10-C10 -> 200000000 | F10: =E10/B10*100 -> 100 | G10: 0 | H10: =C10-G10 -> 0
A11: 410.903.6 (2.2) | B11: 1.2046099e+09 | C11: 115912239 | D11: =C11/B11*100 -> 9.622388 | E11: =B11-C11 -> 1.0886977e+09 | F11: =E11/B11*100 -> 90.377612 | G11: 57956120 | H11: =C11-G11 -> 57956120
A12: 410.903.7 (2.3) | B12: 30000000 | C12: 0 | D12: =C12/B12*100 -> 0 | E12: =B12-C12 -> 30000000 | F12: =E12/B12*100 -> 100 | G12: 0 | H12: =C12-G12 -> 0
A13: 410.903.7 (2.7) | B13: 1.9873191e+08 | C13: 1.9873191e+08 | D13: =C13/B13*100 -> 100 | E13: =B13-C13 -> 0 | F13: =E13/B13*100 -> 0 | G13: 106602560 | H13: =C13-G13 -> 92129349
A14: 410.903.9 (2.9) | B14: 471670000 | C14: 0 | D14: =C14/B14*100 -> 0 | E14: =B14-C14 -> 471670000 | F14: =E14/B14*100 -> 100 | G14: 0 | H14: =C14-G14 -> 0
A15: 410.903.11 (5.5) | B15: 1.2822185e+10 | C15: 0 | D15: =C15/B15*100 -> 0 | E15: =B15-C15 -> 1.2822185e+10 | F15: =E15/B15*100 -> 100 | G15: 0 | H15: =C15-G15 -> 0
A16: 410.903.13 (1.2) | B16: 483200000 | C16: 0 | D16: =C16/B16*100 -> 0 | E16: =B16-C16 -> 483200000 | F16: =E16/B16*100 -> 100 | G16: 0 | H16: =C16-G16 -> 0
A17: 410.903.14 (2.5) | B17: 60000000 | C17: 0 | D17: =C17/B17*100 -> 0 | E17: =B17-C17 -> 60000000 | F17: =E17/B17*100 -> 100 | G17: 0 | H17: =C17-G17 -> 0
A18: 410.903.15 (2.8) | B18: 200000000 | C18: 0 | D18: =C18/B18*100 -> 0 | E18: =B18-C18 -> 200000000 | F18: =E18/B18*100 -> 100 | G18: 0 | H18: =C18-G18 -> 0
... A27: 420.1200.2 (5.7) | B27: 250000000 | C27: 0 | D27: =C27/B27*100 -> 0 | E27: =B27-C27 -> 250000000 | F27: =E27/B27*100 -> 100 | G27: 0 | H27: =C27-G27 -> 0
A28: GRAN TOTAL | B28: =SUM(B7:B27) -> 1.8910465e+10 | C28: =SUM(C7:C27) -> 6.1464415e+08 | D28: =C28/B28*100 -> 3.2502857 | E28: =B28-C28 -> 1.8295821e+10 | F28: =E28/B28*100 -> 96.749714 | G28: =SUM(G7:G27) -> 2.3955868e+08 | H28: =SUM(H7:H27) -> 3.7508547e+08

Sheet Hoja1
A1: Periodo 2013 | D1: Periodo 2014 | F1: Periodo 2015
A2: No Usuarios identificados | B2: No Usuarios legalizados | C2: Porcentaje de legalización | D2: No Usuarios identificados | E2: No Usuarios legalizados | F2: No Usuarios a identificar | G2: No Usuarios por legalizar | R2: 2013-2014
A3: 135 | B3: 65 | C3: 0.48 | D3: 120 | E3: 0.525 | F3: 120 | G3: 0.7 | R3: CLASE | S3: Nº INDIVIDUOS
R4: MAMÍFEROS | S4: =36+S11 -> 59
R5: AVES | S5: =30+S12 -> 56
R6: REPTILES | S6: =768+S13 -> 867
C7: 2013 | E7: 2014 | G7: 2015 | J7: =6/14 -> 0.42857143 | K7: =17/23 -> 0.73913043 | L7: =18/25 -> 0.72 | R7: Total | S7: =SUM(S4:S6) -> 982
L8: =206/340 -> 0.60588235
S11: 23
S12: 26
S13: 99
E14: 3 | G14: 0.3 | H14: =G14/E14 -> 0.1
C17: Avance periodo plan
C18: 2012 | E18: 44 | G18: =E18*0.25 -> 11
C19: 2013 | E19: 82 | G19: =E19*0.25 -> 20.5 | H19: =E19*0.33 -> 27.06 | I19: FÍSICA | J19: 0.57
C20: 2014 | E20: 87 | G20: =E20*0.25 -> 21.75 | H20: =E20*0.34 -> 29.58 | I20: FINANCIERA | J20: 0.58
C21: 2015 | E21: 90 | G21: =E21*0.25 -> 22.5
E23: 86 | G23: =E23*0.33 -> 28.38
E24: 89 | G24: =E24*0.33 -> 29.37
E26: =400/859 -> 0.46565774
E27: 2570000000 | F27: 2297200000
E28: 2297200000
I32: =8/9 -> 0.88888889 | K32: =4/7 -> 0.57142857 | N32: =281/358 -> 0.7849162

Sheet Avance Metas RAE 2014
A1: PROYECTO/ACTIVIDAD | B1: META 2014 | C1: OBSERVACIÓN | D1: RESPONSABLES
A2: ='ANEXO 1. MATRIZ DE SEGUIMIENTO'!A8 -> 1.1. Gestión e implentación de acciones integrales para la restauración ecológica en el departamento del Cesar
A3: ='ANEXO 1. MATRIZ DE SEGUIMIENTO'!A18 -> 1.2.3 Gestión sinérgica para la promoción y creación de capacidad técnica para la implementación del manejo SSC. | B3: 1 Acción | C3: No se ha definido qué acción se va a implementar | D3: Jorge Carpio - Wilson Marquez - Libardo Lascarro
A4: ='ANEXO 1. MATRIZ DE SEGUIMIENTO'!#REF! -> #REF!
A5: ='ANEXO 1. MATRIZ DE SEGUIMIENTO'!#REF! -> #REF! | B5: 1 Línea Base hidrológica y de usuarios levantada | C5: Definir cómo se va a cumplir con la meta | D5: Leuger Cortés
A6: ='ANEXO 1. MATRIZ DE SEGUIMIENTO'!#REF! -> #REF!
A7: ='ANEXO 1. MATRIZ DE SEGUIMIENTO'!#REF! -> #REF! | B7: 250 muestras analizadas | C7: No se han presentado los estudios previos para su contratación | D7: Eduardo López
A8: ='ANEXO 1. MATRIZ DE SEGUIMIENTO'!#REF! -> #REF! | B8: 1 Sistema diseñado e implementado | C8: No se han presentado los estudios previos para su contratación
A9: ='ANEXO 1. MATRIZ DE SEGUIMIENTO'!#REF! -> #REF! | B9: 1 ente territorial o persona prestadora apoyado | C9: No se ha definido la ejecución de esta actividad
A10: ='ANEXO 1. MATRIZ DE SEGUIMIENTO'!#REF! -> #REF!
A11: ='ANEXO 1. MATRIZ DE SEGUIMIENTO'!#REF! -> #REF! | B11: 100% asistencias técnicas | C11: Definir las acciones a desarrollar | D11: =D7 -> Eduardo López
A12: ='ANEXO 1. MATRIZ DE SEGUIMIENTO'!#REF! -> #REF!
A13: ='ANEXO 1. MATRIZ DE SEGUIMIENTO'!#REF! -> #REF! | B13: 1 sistema de AP o SB con apoyo | C13: Definir las acciones a desarrollar con Aguas del Cesar | D13: =D11 -> Eduardo López
A14: ='ANEXO 1. MATRIZ DE SEGUIMIENTO'!#REF! -> #REF!
A15: ='ANEXO 1. MATRIZ DE SEGUIMIENTO'!#REF! -> #REF! | B15: 2 Estudios | C15: Se presentó un borrador del estudio previo. Agilizar la entrega formal para iniciar el proceso de contratación | D15: Jorge Armenta
A16: ='ANEXO 1. MATRIZ DE SEGUIMIENTO'!#REF! -> #REF! | B16: 1 Corriente delimitada | C16: El responsable manifiesta estar adelantando los estudios previos. Agilizar la entrega formal para iniciar el proceso de contratación
A17: ='ANEXO 1. MATRIZ DE SEGUIMIENTO'!#REF! -> #REF! | B17: 1 mapa de amenazas | C17: El responsable manifiesta estar adelantando los estudios previos. Agilizar la entrega formal para iniciar el proceso de contratación | D17: =D15 -> Jorge Armenta
A18: ='ANEXO 1. MATRIZ DE SEGUIMIENTO'!#REF! -> #REF! | B18: 1 Convenio | C18: Definir qué se va a hacer al respecto | D18: Jorge Carpio - Maria Cristina Robayo
A19: ='ANEXO 1. MATRIZ DE SEGUIMIENTO'!#REF! -> #REF! | B19: 3 Convenios | C19: Agilizar la formalización de los convenios con los cuerpos de bomberos | D19: Asdrubal González - Horacio García
