Workbook
Name _Toc467769469: '2PORH'!#REF!
Name _Toc467769470: '3PSMV'!#REF!
Name _Toc467769471: '4UsoAguas'!#REF!
Name _Toc467769472: '5PUEAA'!#REF!
Name _Toc467769473: '6POMCASejec'!#REF!
Name _Toc467769474: '7Clima'!#REF!
Name _Toc467769475: '8Suelo'!#REF!
Name _Toc467769476: '9RUNAP'!$B$6
Name _Toc467769477: '10Paramos'!#REF!
Name _Toc467769478: '11Forest'!#REF!
Name _Toc467769479: '12PlanesAP'!#REF!
Name _Toc467769480: '13Amenaz'!#REF!
Name _Toc467769481: '14Invasor'!#REF!
Name _Toc467769482: '15Restaura'!#REF!
Name _Toc467769483: '16MIZC'!#REF!
Name _Toc467769484: '17PGIRS'!#REF!
Name _Toc467769485: '18Sector'!#REF!
Name _Toc467769486: '19GAU'!#REF!
Name _Toc467769487: '20Negoc'!#REF!
Name _Toc467769488: '21TiempoT'!#REF!
Name _Toc467769489: '22Autor'!#REF!
Name _Toc467769490: '23Sanc'!#REF!
Name _Toc467769491: '24POT'!#REF!
Name _Toc467769492: '25Redes'!#REF!
Name _Toc467769493: '26SIAC'!#REF!
Name _Toc467769494: '27Educa'!#REF!
Name Lista_CAR: 'Datos Generales'!$H$5:$H$37
Name REPORTE: Formulas!$F$33:$F$34
Name SI: Formulas!$D$33:$D$34
Name Vigencias: 'Datos Generales'!$H$39:$H$46

Sheet Datos Generales
A2: ANEXOS INFORME DE SEGUIMIENTO AL PLAN DE ACCIÓN 2020-2023
B5: Nombre de la Corporación | H5: Corporación Autónoma Regional del Alto Magdalena - CAM
B6: Periodo a reportar | H6: Corporación Autónoma Regional de Cundinamarca – CAR
B7: Nombre de la persona responsable del reporte | H7: Corporación Autónoma Regional del Canal del Dique – CARDIQUE
B8: Dependencia | H8: Corporación Autónoma Regional de Sucre – CARSUCRE
B9: Cargo | H9: Corporación Autónoma Regional de Santander – CAS
B10: Correo electrónico | H10: Corporación para el Desarrollo Sostenible del Norte y el Oriente Amazónico – CDA
B11: Teléfono | H11: Corporación Autónoma Regional para la Defensa de la Meseta de Bucaramanga – CDMB
H12: Corporación Autónoma Regional para el Desarrollo Sostenible del Chocó – CODECHOCÓ
H13: Corporación para el Desarrollo Sostenible del Archipiélago de San Andrés, Providencia y Santa Catalina – CORALINA
H14: Corporación Autónoma Regional del Centro de Antioquia – CORANTIOQUIA
H15: Corporación para el Desarrollo Sostenible del Área de Manejo Especial de La Macarena – CORMACARENA
H16: Corporación Autónoma Regional de las Cuencas de los Ríos Negro y Nare – CORNARE
H17: Corporación Autónoma Regional del Magdalena – CORPAMAG
H18: Corporación para el Desarrollo Sostenible del Sur de la Amazonia – CORPOAMAZONIA
H19: Corporación Autónoma Regional de Boyacá – CORPOBOYACÁ
H20: Corporación Autónoma Regional de Caldas – CORPOCALDAS
H21: Corporación Autónoma Regional del Cesar – CORPOCESAR
H22: Corporación Autónoma Regional de Chivor – CORPOCHIVOR
H23: Corporación Autónoma Regional de La Guajira – CORPOGUAJIRA
... H58: 2025-II

Sheet Anexo 1 Matriz Inf Gestión
A2: =+'Datos Generales'!C5 -> 0
A3: MATRIZ DE SEGUIMIENTO DEL PLAN DE ACCIÓN ANEXO No. 1. AVANCE EN LAS METAS FÍSICAS Y FINANCIERAS DEL PLAN DE ACCIÓN
A4: PERIODO REPORTADO: | B4: ='Datos Generales'!C6 -> 0
A5: (1) PROGRAMAS - PROYECTOS DEL PLAN DE ACCIÓN 2020-2023 (inserte filas cuando sea necesario) | B5: COMPORTAMIENTO META FISICA PLAN DE ACCION | L5: META FINANCIERA PLAN DE ACCION | U5: (20) OBSERVACIONES | V5: (27) PROGRAMA DE INVERSIÓN PUBLICA A LA QUE APORTA | W5: (28) IMG AL QUE APORTA | X5: (29) ODS AL QUE LE APORTA
B6: (2) UNIDAD DE MEDIDA | C6: (3) META FISICA ANUAL (Según unidad de medida) | D6: (4) AVANCE DE LA META FISICA (Según unidad de medida y Periodo Evaluado) | E6: (5) PORCENTAJE DE AVANCE FISICO % (Periodo Evaluado) ((4/3)*100) | F6: (5-A) DESCRIPCIÓN DEL AVANCE (Se puede describir en texto lo que se desea aclarar del avance númerico respectivo) | G6: (6) PORCENTAJE DE AVANCE PROCESO DE GESTION DE LA META FISICA (aplica unicamente para el informe del primer semestre) | H6: (7) META FISICA DEL PLAN (Según unidad de medida) | I6: (8) ACUMULADO DE LA META FISICA (Según unidad de medida) | J6: (9) PORCENTAJE DE AVANCE FISICO ACUMULADO % ((8/7)*100) | K6: (10) PONDERACIONES DE PROGRAMAS Y PROYECTOS (OPCIONAL DE ACUERDO AL PLAN DE ACCIÓN) | L6: (11) META FINANCIERA ANUAL ($) | M6: (12) AVANCE DE LA META FINANCIERA (Recursos comprometidos periodo Evaluado) ($) | N6: (13) PORCENTAJE DEL AVANCE FINANCIERO % (Periodo Evaluado) ((12/11)*100) | O6: (14) AVANCE DE LOS RECURSOS OBLIGADOS $ | P6: (15) PORCENTAJE DE AVANCE DE LOS RECURSOS OBLIGADOS ((14/12)*100) | Q6: (16) RESERVA PRESUPUESTAL $ (12-14) | R6: (17) META FINANCIERA DEL PLAN ($) | S6: (18) ACUMULADO DE LA META FINANCIERA $ | T6: (19) PORCENTAJE DE AVANCE FINANCIERO ACUMULADO % ((18/17)*100)
N7: =+M7/L7 -> #DIV/0! | P7: =+O7/M7 -> #DIV/0! | Q7: =+M7-O7 -> 0
N8: =+M8/L8 -> #DIV/0! | P8: =+O8/M8 -> #DIV/0! | Q8: =+M8-O8 -> 0
N9: =+M9/L9 -> #DIV/0! | P9: =+O9/M9 -> #DIV/0! | Q9: =+M9-O9 -> 0
N10: =+M10/L10 -> #DIV/0! | P10: =+O10/M10 -> #DIV/0! | Q10: =+M10-O10 -> 0
N11: =+M11/L11 -> #DIV/0! | P11: =+O11/M11 -> #DIV/0! | Q11: =+M11-O11 -> 0
N12: =+M12/L12 -> #DIV/0! | P12: =+O12/M12 -> #DIV/0! | Q12: =+M12-O12 -> 0
N13: =+M13/L13 -> #DIV/0! | P13: =+O13/M13 -> #DIV/0! | Q13: =+M13-O13 -> 0
N14: =+M14/L14 -> #DIV/0! | P14: =+O14/M14 -> #DIV/0! | Q14: =+M14-O14 -> 0
N15: =+M15/L15 -> #DIV/0! | P15: =+O15/M15 -> #DIV/0! | Q15: =+M15-O15 -> 0
N16: =+M16/L16 -> #DIV/0! | P16: =+O16/M16 -> #DIV/0! | Q16: =+M16-O16 -> 0
N17: =+M17/L17 -> #DIV/0! | P17: =+O17/M17 -> #DIV/0! | Q17: =+M17-O17 -> 0
N18: =+M18/L18 -> #DIV/0! | P18: =+O18/M18 -> #DIV/0! | Q18: =+M18-O18 -> 0
... N33: =+M33/L33 -> #DIV/0! | P33: =+O33/M33 -> #DIV/0! | Q33: =+M33-O33 -> 0
A34: Proyecto No 2.n. | N34: =+M34/L34 -> #DIV/0! | P34: =+O34/M34 -> #DIV/0! | Q34: =+M34-O34 -> 0
A35: Actividad No 2.n.1 | N35: =+M35/L35 -> #DIV/0! | P35: =+O35/M35 -> #DIV/0! | Q35: =+M35-O35 -> 0
N36: =+M36/L36 -> #DIV/0! | P36: =+O36/M36 -> #DIV/0! | Q36: =+M36-O36 -> 0
A37: Actividad No 2.n.n | N37: =+M37/L37 -> #DIV/0! | P37: =+O37/M37 -> #DIV/0! | Q37: =+M37-O37 -> 0
A38: :::::::: | N38: =+M38/L38 -> #DIV/0! | P38: =+O38/M38 -> #DIV/0! | Q38: =+M38-O38 -> 0
A39: PROGRAMA No N | N39: =+M39/L39 -> #DIV/0! | P39: =+O39/M39 -> #DIV/0! | Q39: =+M39-O39 -> 0
A40: Proyecto No N.1. | N40: =+M40/L40 -> #DIV/0! | P40: =+O40/M40 -> #DIV/0! | Q40: =+M40-O40 -> 0
A41: Actividad No N.1.1 | N41: =+M41/L41 -> #DIV/0! | P41: =+O41/M41 -> #DIV/0! | Q41: =+M41-O41 -> 0
N42: =+M42/L42 -> #DIV/0! | P42: =+O42/M42 -> #DIV/0! | Q42: =+M42-O42 -> 0
A43: Actividad No N.1.n | N43: =+M43/L43 -> #DIV/0! | P43: =+O43/M43 -> #DIV/0! | Q43: =+M43-O43 -> 0
A44: :::::::: | N44: =+M44/L44 -> #DIV/0! | P44: =+O44/M44 -> #DIV/0! | Q44: =+M44-O44 -> 0
A45: Proyecto No N.2. | N45: =+M45/L45 -> #DIV/0! | P45: =+O45/M45 -> #DIV/0! | Q45: =+M45-O45 -> 0
A46: Actividad No N.2.1 | N46: =+M46/L46 -> #DIV/0! | P46: =+O46/M46 -> #DIV/0! | Q46: =+M46-O46 -> 0
N47: =+M47/L47 -> #DIV/0! | P47: =+O47/M47 -> #DIV/0! | Q47: =+M47-O47 -> 0
A48: Actividad No N.2.n | N48: =+M48/L48 -> #DIV/0! | P48: =+O48/M48 -> #DIV/0! | Q48: =+M48-O48 -> 0
A49: :::::::: | N49: =+M49/L49 -> #DIV/0! | P49: =+O49/M49 -> #DIV/0! | Q49: =+M49-O49 -> 0
A50: Proyecto No N.n. | N50: =+M50/L50 -> #DIV/0! | P50: =+O50/M50 -> #DIV/0! | Q50: =+M50-O50 -> 0
A51: Actividad No N.n.1 | N51: =+M51/L51 -> #DIV/0! | P51: =+O51/M51 -> #DIV/0! | Q51: =+M51-O51 -> 0
N52: =+M52/L52 -> #DIV/0! | P52: =+O52/M52 -> #DIV/0! | Q52: =+M52-O52 -> 0
A53: Actividad No N.n.n | N53: =+M53/L53 -> #DIV/0! | P53: =+O53/M53 -> #DIV/0! | Q53: =+M53-O53 -> 0
A54: :::::::: | N54: =+M54/L54 -> #DIV/0! | P54: =+O54/M54 -> #DIV/0! | Q54: =+M54-O54 -> 0
A55: (18) TOTAL METAS FISICAS Y FINANCIERAS* | E55: =+(E7*$K$7) -> 0 | G55: =+(G7*$K$7) -> 0 | J55: =+(J7*$K$7) -> 0 | L55: =+L7 -> 0 | M55: =+M7 -> 0 | N55: =+M55/L55 -> #DIV/0! | P55: =+O55/M55 -> #DIV/0! | Q55: =+M55-O55 -> 0 | R55: =+R7 -> 0 | S55: =+S7 -> 0 | T55: =+S55/R55 -> #DIV/0!
...

Sheet Hoja1
A1: 3201 – Fortalecimiento del desempeño ambiental de los sectores productivos. | B1: Porcentaje de avance en la formulación y/o ajuste de los Planes de Ordenación y Manejo de Cuencas (POMCAS), Planes de Manejo de Acuíferos (PMA) y Planes de Manejo de Microcuencas (PMM)
A2: 3202 – Conservación de la biodiversidad y sus servicios ecosistémicos. | B2: Porcentaje de cuerpos de agua con planes de ordenamiento del recurso hídrico (PORH) adoptados
A3: 3203 – Gestión integral del recurso hídrico. | B3: Porcentaje de Planes de Saneamiento y Manejo de Vertimientos (PSMV) con seguimiento
A4: 3204 – Gestión de la información y el conocimiento ambiental. | B4: Porcentaje de cuerpos de agua con reglamentación del uso de las aguas
A5: 3205 – Ordenamiento ambiental territorial. | B5: Porcentaje de Programas de Uso Eficiente y Ahorro del Agua (PUEAA) con seguimiento
A6: 3206 – Gestión del cambio climático para un desarrollo bajo en carbono y resiliente al clima. | B6: Porcentaje de Planes de Ordenación y Manejo de Cuencas (POMCAS), Planes de Manejo de Acuíferos (PMA) y Planes de Manejo de Microcuencas (PMM) en ejecución
A7: 3207 – Gestión integral de mares, costas y recursos acuáticos. | B7: Porcentaje de entes territoriales asesorados en la incorporación, planificación y ejecución de acciones relacionadas con cambio climático en el marco de los instrumentos de planificación territorial
A8: 3208 – Educación Ambiental. | B8: Porcentaje de suelos degradados en recuperación o rehabilitación
A9: 3299 – Fortalecimiento de la gestión y dirección del Sector Ambiente y Desarrollo Sostenible. | B9: Porcentaje de la superficie de áreas protegidas regionales declaradas, homologadas o recategorizadas, inscritas en el RUNAP
A10: No Aplica | B10: Porcentaje de páramos delimitados por el MADS, con zonificación y régimen de usos adoptados por la CAR
B11: Porcentaje de avance en la formulación del Plan de Ordenación Forestal
B12: Porcentaje de áreas protegidas con planes de manejo en ejecución
B13: Porcentaje de especies amenazadas con medidas de conservación y manejo en ejecución
B14: Porcentaje de especies invasoras con medidas de prevención, control y manejo en ejecución
B15: Porcentaje de áreas de ecosistemas en restauración, rehabilitación y reforestación
B16: Implementación de acciones en manejo integrado de zonas costeras
B17: Porcentaje de Planes de Gestión Integral de Residuos Sólidos (PGIRS) con seguimiento a metas de aprovechamiento
B18: Porcentaje de sectores con acompañamiento para la reconversión hacia sistemas sostenibles de producción
B19: Porcentaje de ejecución de acciones en Gestión Ambiental Urbana
B20: Implementación del Programa Regional de Negocios Verdes por la autoridad ambiental
B21: Tiempo promedio de trámite para la resolución de autorizaciones ambientales otorgadas por la corporación
B22: Porcentaje de autorizaciones ambientales con seguimiento
... B28: No Aplica

Sheet Anexo 2 Protocolo Inf Gestión
A2: ANEXO No. 2.PROTOCOLO O GUÍA DE DILIGENCIAMIENTO
A3: MATRIZ DE SEGUIMIENTO A LA GESTIÓN Y DE AVANCE EN LAS METAS FÍSICAS Y FINANCIERAS DEL PLAN DE ACCIÓN
A4: ITEM | B4: DEFINICIONES
A5: (1) PROGRAMAS - PROYECTOS DEL Plan de Acción 2020-2023 | B5: Enuncie el nombre del total de los programas y proyectos aprobados en el Plan de Acción, utilizando la misma estructura jerárquica del Plan. Se plantea una estructura inicial de Programas con proyectos relacionados, no obstante esta estructura es solo indicativa. Inserte filas cuando sea necesario ingresar mas programas y proyectos. Recuerde que jerárquicamente los programas están integrados por proyectos y estos por actividades y la matriz pretende conocer hasta la escala de proyectos.
A6: (2) UNIDAD DE MEDIDA | B6: Relacione la unidad de medida por medio de la cual se determina la meta y el avance de la meta física, ejemplo hectáreas reforestadas, hectáreas con POMCA, PGIRS Apoyados, etc. Generalice una unidad de medida por cada proyecto, para el caso de programa no es necesario definir la unidad de medida.
A7: (3) META FÍSICA ANUAL | B7: Identifique el valor de la meta anual programada para el año que se este evaluando, con relación al programa o proyecto reportado en la columna (1). Ejemplo: hectáreas reforestadas, microcuencas con plan de ordenamiento formulado, # de vertimientos reglamentados, etc.
A8: (4) AVANCE DE LA META FISICA (Según unidad de medida y Periodo Evaluado) | B8: Reporte el avance acumulado para el periodo evaluado, en la ejecución física de la respectiva meta anual programada en la columna (3). Ejemplo: 35 hectáreas reforestadas, 3 microcuencas con plan de ordenamiento formulado, etc. Si no se presenta avance en el programa o proyecto, se deberá diligenciar la matriz con ceros (0,0) y en ningún caso dejar celdas en blanco.
A9: (5) PORCENTAJE DE AVANCE FISICO (Periodo Evaluado) | B9: Calcule el porcentaje del avance anual de la Meta física programada. Divida el valor de la columna (4) con el valor de la columna (3) y multiplique por 100. Para el caso, cuando el resultado del avance de una meta física de un programa o proyecto se reporte como el promedio ponderado o aritmético de las metas de los proyectos relacionados con dicho programa o proyecto, es importante indicar esta condición en la columna 10. Si no se presenta avance en el programa o proyecto, se deberá diligenciar la matriz con ceros (0,0) y en ningún caso dejar celdas en blanco.
A10: (5-A) DESCRIPCIÓN DEL AVANCE | B10: En esta columna para el informe a corte junio 30 puede describir en texto lo que se desea justificar, describir y aclarar del avance del programa, proyecto, actividad, para el informe a 31 de diciembre indicar la cantidad y donde establecio el producto recibido (municipio)
A11: (6) PORCENTAJE DE AVANCE PROCESO DE GESTION DE LA META FISICA (aplica unicamente para el informe del primer semestre) | B11: Cuando el avance de la meta física prevista para cada proyecto no es cuantificable, para el corte del periodo evaluado, reporte en porcentaje, el equivalente a la gestión realizada. Esta columna solamente aplica para el primer semestre de cada año, dado que en el informe anualizado se debe contar con algún tipo de producto o parte de este, de acuerdo con la meta planteada, por lo tanto en el informe anualizado esta columna debera ser diligenciada con NA. correspondiente
A12: (7) META FÍSICA DEL PLAN | B12: Identifique el valor (en numero) de la meta del plan de acción con relación al programa y/o proyecto reportado en la columna (1). Ejemplo: hectáreas reforestadas, microcuencas con plan de ordenamiento formulado, # de vertimientos reglamentados, etc.
A13: (8) ACUMULADO DE LA META FISICA | B13: Reporte el avance acumulado de la meta física que se obtenga desde la aprobación del Plan de Acción, incluyendo el periodo evaluado. Ejemplo 100 Ha reforestadas (2020), más 140 Ha reforestadas (2021), para un acumulado de 240 Ha (2020+2021)
A14: (9) PORCENTAJE DE AVANCE FISICO ACUMULADO | B14: Calcule el porcentaje del avance de la Meta física acumulada. Divida el valor de la columna (8) con el valor de la columna (7) y multiplique por 100.
A15: (10) PONDERACIONES DE PROGRAMAS (OPCIONAL DE ACUERDO AL Plan de Acción) | B15: Si el Plan de Acción contempla ponderaciones de programas o proyectos, relacione aquí las ponderaciones o pesos dados a cada programa, de acuerdo al porcentaje o valor asignado.
... A26: (18) TOTAL DE METAS FISICAS Y FINANCIERAS | B26: Sume los recursos de las metas financieras del plan, anual y de avance del periodo para cada proyecto, en las columnas respectivas (11, 12, 14 y 15). Es importante cuidarse de no sumar subtotales de los programas con las metas financieras de los proyectos, para evitar sumas dobles de un mismo proyecto. Calcule el % de avance total de los programas mediante el promedio de cada uno de los porcentajes de avance de los programas. Es importante recordar que no es aplicable para metas financieras realizar ponderaciones. Para el caso de las metas físicas, se deben totalizar las columnas 5 y 9, calculando el promedio de los porcentajes de avance de cada programa, es decir, el porcentaje de avance de las metas físicas del Plan de Acción en el periodo evaluado y el acumulado, así: sume el porcentaje de avance de cada programa y dividalo en el número de programas, con los datos respectivos, en las columnas 5 y 9 (Si es el caso, tenga en cuenta las ponderaciones que estén estipuladas en el Plan de Acción, las cuales debe quedar registradas en la columna 10).

Sheet Informe Ingresos
A2: INFORME DE EJECUCION PRESUPUESTAL DE INGRESOS
A3: CORPORACIÓN AUTÓMA REGIONAL DE XXXXX
A4: RECURSOS VIGENCIA :
A5: (1) ESTRUCTURA RENTISTICA | J5: (2) CONCEPTO | K5: (3) PROYECTADO PLAN FINANCIERO | L5: MODIFICACIONES | N5: (6) APROPIACIÓN FINAL (3+4-5) | O5: DISTRIBUCIÓN | S5: (11) DERECHOS POR COBRAR | T5: (12) RECAUDO EFECTIVO | U5: (13) % DE RECAUDO | V5: (14) OBSERVACIONES | W5: DEFINICIÓN | X5: SOPORTE LEGAL
A6: NIVEL ESTRUCTURAL | B6: NIVEL RENTISTICO | C6: SUBNIVEL RENTISTICO | D6: CONCEPTO | E6: NIVEL 1 | F6: NIVEL 2 | G6: NIVEL 3 | H6: NIVEL 4 | I6: NIVEL 5 | L6: (4) ADICIÓN | M6: (5) REDUCCIÓN | O6: (7) FUNCIONAMIENTO | P6: (8) INVERSIÓN | Q6: (9) FCA | R6: (10) SERVICIO A LA DEUDA
A7: 1 | J7: Ingresos | K7: =+K8+K141 -> #REF! | L7: =+L8+L141 -> #REF! | M7: =+M8+M141 -> #REF! | N7: =K7+L7-M7 -> #REF! | O7: =+O8+O141 -> 0 | P7: =+P8+P141 -> 0 | Q7: =+Q8+Q141 -> 0 | R7: =+R8+R141 -> #REF! | S7: =+S8+S141 -> #REF! | T7: =+T8+T141 -> #REF! | U7: =T7/S7 -> #REF! | W7: Los ingresos son recursos monetarios recaudados en una vigencia fiscal por quienes corresponda administrarlos según la ley. Se consideran ingresos las entradas de caja efectivas, en moneda nacional, que incrementan las disponibilidades para el gasto. Así, se deben cumplir las siguientes condiciones para reconocer una transacción como ingreso: 1. Afectación efectiva de caja. Los ingresos se reconocen bajo el principio de caja. Es decir, cuando hay desembolso de los recursos a favor de las entidades beneficiarias. 2. La afectación de caja se produce en moneda nacional. 3. Respaldo de un gasto. No se reconocen como ingresos aquellas entradas efectivas de caja que no están habilitadas para realizar gastos. | X7: - | Y7: -
A8: 1 | B8: 01 | J8: Ingresos Corrientes | K8: =+K9+K29 -> 0 | L8: =+L9+L29 -> 0 | M8: =+M9+M29 -> 0 | N8: =K8+L8-M8 -> 0 | O8: =+O9+O29 -> 0 | P8: =+P9+P29 -> 0 | Q8: =+Q9+Q29 -> 0 | R8: =+R9+R29 -> 0 | S8: =+S9+S29 -> 1530000000 | T8: =+T9+T29 -> 1906507046 | U8: =T8/S8 -> 1.246083 | W8: Se reconocen por su regularidad, además se caracterizan porque: i) su base de cálculo y su trayectoria histórica permiten estimar con cierto grado de certidumbre el volumen de ingresos; ii) si bien pueden constituir una base aproximada, esta sirve de referente para la elaboración del presupuesto anual. | Y8: -
A9: 1 | B9: 01 | C9: 01 | J9: Ingresos tributarios | K9: =+K10 -> 0 | L9: =+L10 -> 0 | M9: =+M10 -> 0 | N9: =K9+L9-M9 -> 0 | O9: =+O10 -> 0 | P9: =+P10 -> 0 | Q9: =+Q10 -> 0 | R9: =+R10 -> 0 | S9: =+S10 -> 0 | T9: =+T10 -> 0 | U9: =T9/S9 -> #DIV/0! | W9: Son aquellos establecidos como impuestos y estampillas por la ley. Estos representan la obligación de hacer un pago, sin que exista una retribución particular por parte del Estado. | X9: Corte Constitucional, Sentencia C-545/1994. | Y9: -
A10: 1 | B10: 01 | C10: 01 | D10: 01 | J10: Impuestos directos | K10: =+K11+K14 -> 0 | L10: =+L11+L14 -> 0 | M10: =+M11+M14 -> 0 | N10: =K10+L10-M10 -> 0 | O10: =+O11+O14 -> 0 | P10: =+P11+P14 -> 0 | Q10: =+Q11+Q14 -> 0 | R10: =+R11+R14 -> 0 | S10: =+S11+S14 -> 0 | T10: =+T11+T14 -> 0 | U10: =T10/S10 -> #DIV/0! | W10: Son aquellos que gravan directamente los ingresos o el patrimonio de las personas naturales y jurídicas, es decir, recaen sobre la capacidad económica de los sujetos. En los impuestos directos se identifica al contribuyente respectivo, y se conoce su capacidad de pago, mediante las informaciones relativas a sus rentas y patrimonio. | X10: Corte Constitucional, Sentencia C- 426/2005. | Y10: -
A11: 1 | B11: 01 | C11: 01 | D11: 01 | E11: 01 | J11: Sobretasa ambiental - Peajes | K11: =+K12+K13 -> 0 | L11: =+L12+L13 -> 0 | M11: =+M12+M13 -> 0 | N11: =K11+L11-M11 -> 0 | O11: =+O12+O13 -> 0 | P11: =+P12+P13 -> 0 | Q11: =+Q12+Q13 -> 0 | R11: =+R12+R13 -> 0 | S11: =+S12+S13 -> 0 | T11: =+T12+T13 -> 0 | U11: =T11/S11 -> #DIV/0! | W11: la Sobretasa Ambiental se creó como un mecanismo de compensación a la afectación y deterioro derivado de las vías del orden nacional actualmente construidas y que llegaren a construirse, próximas o situadas en Areas de Conservación y Protección Municipal, sitios de Ramsar o Humedales de Importancia Internacional definidos en la Ley 357 de 1997 y Reservas de Biosfera, así como sus respectivas Zonas de Amortiguación de conformidad con los criterios técnicos que para el efecto establezca el Ministerio de Ambiente, Vivienda y Desarrollo Territorial. | X11: Ley 981 de 2005 modificada por Ley 1718 de 2014 y Ley 1753 de 2015 | Y11: -
A12: 1 | B12: 01 | C12: 01 | D12: 01 | E12: 01 | F12: 01 | J12: Sobretasa ambiental - Peajes (vigencia actual) | N12: =K12+L12-M12 -> 0 | U12: =T12/S12 -> #DIV/0! | Y12: -
A13: 1 | B13: 01 | C13: 01 | D13: 01 | E13: 01 | F13: 02 | J13: Sobretasa ambiental - Peajes (vigencia anterior) | N13: =K13+L13-M13 -> 0 | U13: =T13/S13 -> #DIV/0! | Y13: -
A14: 1 | B14: 01 | C14: 01 | D14: 01 | E14: 02 | J14: Participación de intereses de mora sobre la sobretasa ambiental-peajes | K14: =+K15+K16 -> 0 | L14: =+L15+L16 -> 0 | M14: =+M15+M16 -> 0 | N14: =K14+L14-M14 -> 0 | O14: =+O15+O16 -> 0 | P14: =+P15+P16 -> 0 | Q14: =+Q15+Q16 -> 0 | R14: =+R15+R16 -> 0 | S14: =+S15+S16 -> 0 | T14: =+T15+T16 -> 0 | U14: =T14/S14 -> #DIV/0! | W14: Son las transferencias de recursos de los intereses recaudados por la mora en el pago de la sobretasa ambiental. Los intereses que se causen por mora en el pago del Impuesto Predial Unificado, también se causan para el pago y transferencia de la sobretasa ambiental. | X14: Decreto Reglamentario 1339 de 1994, artículo 2. | Y14: -
A15: 1 | B15: 01 | C15: 01 | D15: 01 | E15: 02 | F15: 01 | J15: Participación de intereses de mora sobre la sobretasa ambiental-peajes (vigencia actual) | N15: =K15+L15-M15 -> 0 | U15: =T15/S15 -> #DIV/0! | Y15: -
A16: 1 | B16: 01 | C16: 01 | D16: 01 | E16: 02 | F16: 02 | J16: Participación de intereses de mora sobre la sobretasa ambiental-peajes (vigencia anterior) | N16: =K16+L16-M16 -> 0 | U16: =T16/S16 -> #DIV/0! | Y16: -
A17: 1 | B17: 01 | C17: 01 | D17: 01 | E17: 01 | F17: 01 | G17: 01 | J17: Participación de la sobretasa ambiental - Corporaciones Autónomas Regionales | K17: =+K18+K19 -> 0 | L17: =+L18+L19 -> 0 | M17: =+M18+M19 -> 0 | N17: =K17+L17-M17 -> 0 | O17: =+O18+O19 -> 0 | P17: =+P18+P19 -> 0 | Q17: =+Q18+Q19 -> 0 | R17: =+R18+R19 -> 0 | S17: =+S18+S19 -> 0 | T17: =+T18+T19 -> 0 | U17: =T17/S17 -> #DIV/0! | W17: Son las transferencias de recursos de la sobretasa ambiental para las Corporaciones Autónomas Regionales (Art. 1. Decreto 1339 de 1994). De acuerdo con el Artículo 44 de la Ley 99 de 1993, el giro de estos recursos debe realizarse de forma trimestral y excepcionalmente, por anualidades antes del 30 de marzo de cada año siguiente al periodo de recaudo. | X17: Ley 99 de 1993, art. 44; Decreto 1339 de 1994, art.1 | Y17: -
A18: 1 | B18: 01 | C18: 01 | D18: 01 | E18: 01 | F18: 01 | G18: 01 | H18: 01 | J18: Participación de la sobretasa ambiental - Corporaciones Autónomas Regionales (vigencia actual) | N18: =K18+L18-M18 -> 0 | U18: =T18/S18 -> #DIV/0! | Y18: -
A19: 1 | B19: 01 | C19: 01 | D19: 01 | E19: 01 | F19: 01 | G19: 01 | H19: 02 | J19: Participación de la sobretasa ambiental - Corporaciones Autónomas Regionales (vigencia anterior) | N19: =K19+L19-M19 -> 0 | U19: =T19/S19 -> #DIV/0! | Y19: -
A20: 1 | B20: 01 | C20: 01 | D20: 01 | E20: 01 | F20: 01 | G20: 02 | J20: Participación del porcentaje ambiental - Corporaciones Autónomas Regionales | K20: =+K21+K22 -> 0 | L20: =+L21+L22 -> 0 | M20: =+M21+M22 -> 0 | N20: =K20+L20-M20 -> 0 | O20: =+O21+O22 -> 0 | P20: =+P21+P22 -> 0 | Q20: =+Q21+Q22 -> 0 | R20: =+R21+R22 -> 0 | S20: =+S21+S22 -> 0 | T20: =+T21+T22 -> 0 | U20: =T20/S20 -> #DIV/0!
A21: 1 | B21: 01 | C21: 01 | D21: 01 | E21: 01 | F21: 01 | G21: 02 | H21: 01 | J21: Participación del porcentaje ambiental - Corporaciones Autónomas Regionales (vigencia actual) | N21: =K21+L21-M21 -> 0 | U21: =T21/S21 -> #DIV/0!
A22: 1 | B22: 01 | C22: 01 | D22: 01 | E22: 01 | F22: 01 | G22: 02 | H22: 02 | J22: Participación del porcentaje ambiental - Corporaciones Autónomas Regionales (vigencia anterior) | N22: =K22+L22-M22 -> 0 | U22: =T22/S22 -> #DIV/0!
A23: 1 | B23: 01 | C23: 01 | D23: 01 | E23: 01 | F23: 01 | G23: 03 | J23: Participación de intereses de mora sobre la sobretasa ambiental | K23: =+K24+K25 -> 0 | L23: =+L24+L25 -> 0 | M23: =+M24+M25 -> 0 | N23: =K23+L23-M23 -> 0 | O23: =+O24+O25 -> 0 | P23: =+P24+P25 -> 0 | Q23: =+Q24+Q25 -> 0 | R23: =+R24+R25 -> 0 | S23: =+S24+S25 -> 0 | T23: =+T24+T25 -> 0 | U23: =T23/S23 -> #DIV/0! | W23: Son las transferencias de recursos de los intereses recaudados por la mora en el pago de la sobretasa ambiental. Los intereses que se causen por mora en el pago del Impuesto Predial Unificado, también se causan para el pago y transferencia de la sobretasa ambiental. | X23: Decreto Reglamentario 1339 de 1994, artículo 2. | Y23: -
A24: 1 | B24: 01 | C24: 01 | D24: 01 | E24: 01 | F24: 01 | G24: 03 | H24: 01 | J24: Participación de intereses de mora sobre la sobretasa ambiental (vigencia actual) | N24: =K24+L24-M24 -> 0 | U24: =T24/S24 -> #DIV/0! | Y24: -
A25: 1 | B25: 01 | C25: 01 | D25: 01 | E25: 01 | F25: 01 | G25: 03 | H25: 02 | J25: Participación de intereses de mora sobre la sobretasa ambiental (vigencia anterior) | N25: =K25+L25-M25 -> 0 | U25: =T25/S25 -> #DIV/0! | Y25: -
A26: 1 | B26: 01 | C26: 01 | D26: 01 | E26: 01 | F26: 01 | G26: 04 | J26: Participación de intereses de mora sobre el porcentaje ambiental | K26: =+K27+K28 -> 0 | L26: =+L27+L28 -> 0 | M26: =+M27+M28 -> 0 | N26: =K26+L26-M26 -> 0 | O26: =+O27+O28 -> 0 | P26: =+P27+P28 -> 0 | Q26: =+Q27+Q28 -> 0 | R26: =+R27+R28 -> 0 | S26: =+S27+S28 -> 0 | T26: =+T27+T28 -> 0 | U26: =T26/S26 -> #DIV/0!
A27: 1 | B27: 01 | C27: 01 | D27: 01 | E27: 01 | F27: 01 | G27: 04 | H27: 01 | J27: Participación de intereses de mora sobre el porcentaje ambiental (vigencia actual) | N27: =K27+L27-M27 -> 0 | U27: =T27/S27 -> #DIV/0!
A28: 1 | B28: 01 | C28: 01 | D28: 01 | E28: 01 | F28: 01 | G28: 04 | H28: 02 | J28: Participación de intereses de mora sobre el porcentaje ambiental (vigencia anterior) | N28: =K28+L28-M28 -> 0 | U28: =T28/S28 -> #DIV/0!
A29: 1 | B29: 01 | C29: 02 | J29: Ingresos no tributarios | K29: =+K30+K45+K88+K96+K122 -> 0 | L29: =+L30+L45+L88+L96+L122 -> 0 | M29: =+M30+M45+M88+M96+M122 -> 0 | N29: =K29+L29-M29 -> 0 | O29: =+O30+O45+O88+O96+O122 -> 0 | P29: =+P30+P45+P88+P96+P122 -> 0 | Q29: =+Q30+Q45+Q88+Q96+Q122 -> 0 | R29: =+R30+R45+R88+R96+R122 -> 0 | S29: =+S30+S45+S88+S96+S122 -> 1530000000 | T29: =+T30+T45+T88+T96+T122 -> 1906507046 | U29: =T29/S29 -> 1.246083 | W29: Son los ingresos corrientes que por ley no están definidos como impuestos y comprenderán las tasas y las multas. Los ingresos no tributarios se clasifican en: 1) Contribuciones 2) Tasas y derechos administrativos 3) Multas, sanciones e intereses de mora 4) Derechos económicos por uso de recursos naturales 5) Venta de bienes y servicios 6) Transferencias corrientes 7) Participación y derechos de monopolio | X29: Decreto 111 de 1996, art. 27 | Y29: -
A30: 1 | B30: 01 | C30: 02 | D30: 01 | J30: Contribuciones | K30: =+K31 -> 0 | L30: =+L31 -> 0 | M30: =+M31 -> 0 | N30: =K30+L30-M30 -> 0 | O30: =+O31 -> 0 | P30: =+P31 -> 0 | Q30: =+Q31 -> 0 | R30: =+R31 -> 0 | S30: =+S31 -> 0 | T30: =+T31 -> 1903045563 | U30: =T30/S30 -> #DIV/0! | W30: Las contribuciones son “las cargas fiscales al patrimonio particular, sustentadas en la potestad tributaria del Estado”. Las contribuciones corresponden a “la recuperación de los costos de los servicios que les presten o participación en los beneficios que les proporcionen”. El principio de legalidad del tributo se extiende a las contribuciones, razón por cual y como establece la Constitución Política, el método de definición de costos y beneficios y su forma de reparto deben ser definidos por Ley. Asimismo, la ley, ordenanza o acuerdo, debe definir los sujetos pasivos y activos, y la base gravable aplicable a la contribución. Sin embargo, la ley puede dar potestad administrativa a las autoridades para que fijen la tarifa que cobren a los contribuyentes. La unica excepción al principio de legalidad del tributo son las contribuciones especiales, las cuales no están definidas como contribuciones, pero de acuerdo con sentencia emitida por la Corte Constitucional, se ajusta a su definición. | X30: Corte Constitucional, Sentencia C-545/1994. Constitución política Art. 338 | Y30: -
A31: 1 | B31: 01 | C31: 02 | D31: 01 | E31: 01 | J31: Contribuciones diversas | K31: =+K32 -> 0 | L31: =+L32 -> 0 | M31: =+M32 -> 0 | N31: =K31+L31-M31 -> 0 | O31: =+O32 -> 0 | P31: =+P32 -> 0 | Q31: =+Q32 -> 0 | R31: =+R32 -> 0 | S31: =+S32 -> 0 | T31: =+T32 -> 1903045563 | U31: =T31/S31 -> #DIV/0! | W31: Las contribuciones diversas comprenden los ingresos por concepto de las demás contribuciones que no se clasifican dentro de las demás categorías de contribuciones descritas anteriormente, es decir, a las contribuciones sociales 1-01-02-01-001, contribuciones inherentes a la nómina 1-01-02-01-002, contribuciones especiales 1-01-02-01-003, contribuciones parafiscales, agropecuarias y pesqueras 1-01-02-01-004. | X31: - | Y31: -
A32: 1 | B32: 01 | C32: 02 | D32: 01 | E32: 01 | F32: 01 | J32: Contribución sector eléctrico | K32: =+K33+K36+K39+K42 -> 0 | L32: =+L33+L36+L39+L42 -> 0 | M32: =+M33+M36+M39+M42 -> 0 | N32: =K32+L32-M32 -> 0 | O32: =+O33+O36+O39+O42 -> 0 | P32: =+P33+P36+P39+P42 -> 0 | Q32: =+Q33+Q36+Q39+Q42 -> 0 | R32: =+R33+R36+R39+R42 -> 0 | S32: =+S33+S36+S39+S42 -> 0 | T32: =+T33+T36+T39+T42 -> 1903045563 | U32: =T32/S32 -> #DIV/0! | W32: Son los recursos por contribución del sector eléctrico a las que se refiere el artículo 45 de la Ley 99 de 1993. De acuerdo con este artículo, las empresas generadoras de energía hidroeléctrica cuya potencia nominal supera los 10.000 kilovatios, deben transferir el 6% de las ventas brutas de energia por generación propia de acuerdo con las distribuciones establecidas por la ley. En el caso de centrales térmicas el porcentaje de los recursos a transferir es del 4%. Los destinatarios de estos recursos son: las Corporaciones Autonómas Regionales o los Parques Nacionales Naturales que tengan jurisdicción en el área donde se encuentra localizada la cuenca hidrográfica y del área de influencia del proyecto o el área donde este ubicada la central térmica; y los municipios y distritos localizados de la cuenca que surte el embalse de las generadoras de energía hidroeléctrica o el municipio donde este ubicada la central térmica. COMPLEMENTAR PLAN DE DESARROLLO ART.289 DE 2019 | X32: Ley 99 de 1993, art. 45 | Y32: -
A33: 1 | B33: 01 | C33: 02 | D33: 01 | E33: 01 | F33: 01 | G33: 01 | J33: Contribución sector eléctrico - Hidroeléctrica | K33: =SUM(K34:K35) -> 0 | L33: =SUM(L34:L35) -> 0 | M33: =SUM(M34:M35) -> 0 | N33: =K33+L33-M33 -> 0 | O33: =SUM(O34:O35) -> 0 | P33: =SUM(P34:P35) -> 0 | Q33: =SUM(Q34:Q35) -> 0 | R33: =SUM(R34:R35) -> 0 | S33: =SUM(S34:S35) -> 0 | T33: =SUM(T34:T35) -> 0 | U33: =T33/S33 -> #DIV/0! | Y33: -
A34: 1 | B34: 01 | C34: 02 | D34: 01 | E34: 01 | F34: 01 | G34: 01 | H34: 01 | J34: Contribución sector eléctrico - Hidroeléctrica (vigencia actual) | N34: =K34+L34-M34 -> 0 | U34: =T34/S34 -> #DIV/0! | Y34: -
A35: 1 | B35: 01 | C35: 02 | D35: 01 | E35: 01 | F35: 01 | G35: 01 | H35: 02 | J35: Contribución sector eléctrico - Hidroeléctrica (vigencia anterior) | N35: =K35+L35-M35 -> 0 | U35: =T35/S35 -> #DIV/0! | Y35: -
A36: 1 | B36: 01 | C36: 02 | D36: 01 | E36: 01 | F36: 01 | G36: 02 | J36: Contribución sector eléctrico - Termoeléctrica | K36: =SUM(K37:K38) -> 0 | L36: =SUM(L37:L38) -> 0 | M36: =SUM(M37:M38) -> 0 | N36: =K36+L36-M36 -> 0 | O36: =SUM(O37:O38) -> 0 | P36: =SUM(P37:P38) -> 0 | Q36: =SUM(Q37:Q38) -> 0 | R36: =SUM(R37:R38) -> 0 | S36: =SUM(S37:S38) -> 0 | T36: =SUM(T37:T38) -> 1903045563 | U36: =T36/S36 -> #DIV/0! | Y36: -
A37: 1 | B37: 01 | C37: 02 | D37: 01 | E37: 01 | F37: 01 | G37: 02 | H37: 01 | J37: Contribución sector eléctrico - Termoeléctrica (vigencia actual) | N37: =K37+L37-M37 -> 0 | O37: =+N37*10% -> 0 | P37: =+N37*70% -> 0 | Q37: =+N37*20% -> 0 | T37: 1903045563 | U37: =T37/S37 -> #DIV/0! | Y37: -
A38: 1 | B38: 01 | C38: 02 | D38: 01 | E38: 01 | F38: 01 | G38: 02 | H38: 02 | J38: Contribución sector eléctrico - Termoeléctrica (vigencia anterior) | N38: =K38+L38-M38 -> 0 | U38: =T38/S38 -> #DIV/0! | Y38: -
A39: 1 | B39: 01 | C39: 02 | D39: 01 | E39: 01 | F39: 01 | G39: 03 | J39: Contribución sector eléctrico - Energia Alternativa | K39: =SUM(K40:K41) -> 0 | L39: =SUM(L40:L41) -> 0 | M39: =SUM(M40:M41) -> 0 | N39: =K39+L39-M39 -> 0 | O39: =SUM(O40:O41) -> 0 | P39: =SUM(P40:P41) -> 0 | Q39: =SUM(Q40:Q41) -> 0 | R39: =SUM(R40:R41) -> 0 | S39: =SUM(S40:S41) -> 0 | T39: =SUM(T40:T41) -> 0 | U39: =T39/S39 -> #DIV/0! | Y39: -
A40: 1 | B40: 01 | C40: 02 | D40: 01 | E40: 01 | F40: 01 | G40: 03 | H40: 01 | J40: Contribución sector eléctrico - Energia Alternativa (vigencia actual) | N40: =K40+L40-M40 -> 0 | U40: =T40/S40 -> #DIV/0! | Y40: -
A41: 1 | B41: 01 | C41: 02 | D41: 01 | E41: 01 | F41: 01 | G41: 03 | H41: 02 | J41: Contribución sector eléctrico - Energia Alternativa (vigencia anterior) | N41: =K41+L41-M41 -> 0 | U41: =T41/S41 -> #DIV/0! | Y41: -
...

Sheet PROTOCOLO INGRESOS
A2: ANEXO No. 2. PROTOCOLO O GUÍA DE DILIGENCIAMIENTO
A3: MATRIZ DE SEGUIMIENTO A LA GESTIÓN Y DE AVANCE EN LAS METAS FÍSICAS Y FINANCIERAS DEL PLAN DE ACCIÓN
A4: ÍTEM | B4: DEFINICIONES
A5: (1) ESTRUCTURA RENTÍSTICA | B5: Es el conjunto de elementos que rigen la clasificación, el ordenamiento y la presentación del Presupuesto.
A6: (2) CONCEPTO | B6: Cuentas que conforma el presupuesto de ingresos.
A7: (3) PROYECTADO PLAN FINANCIERO | B7: Indique el valor proyectado en el Plan Financiero del Plan de Acción y el cual es la base para la formulación del presupuesto de la vigencia de reporte.
A8: (4) ADICIÓN | B8: Indique las modificaciones positivas que se realizan al presupuesto de la Corporación, que buscan adecuarlo a nuevas condiciones que se presentan en la ejecución y que no fueron contempladas en la etapa de programación (Plan Financiero); este debe reflejarse tanto en el presupuesto de ingresos como en el gasto con el fin que haya un equilibrio presupuestal.
A9: (5) REDUCCIÓN | B9: Indique las modificaciones negativas que se realizan al presupuesto de la Corporación, que buscan adecuarlo a nuevas condiciones que se presentan en la ejecución y que afecta la etapa de programación (Plan Financiero); este debe reflejarse tanto en el presupuesto de ingresos como en el gasto con el fin que haya un equilibrio presupuestal.
A10: (6) APROPIACIÓN FINAL | B10: Es el resultado de la suma de lo programado en el Plan Financiero (3) más las adiciones (4) y menos las reducciones (5).
A11: (7) FUNCIONAMIENTO | B11: Indique los recursos que se asignan a la cuenta de Funcionamiento por cada una de las fuentes de financiación.
A12: (8) INVERSIÓN | B12: Indique los recursos que se asignan a la cuenta de Inversión por cada una de las fuentes de financiación.
A13: (9) FCA | B13: Indique los recursos que se asignan a la cuenta del Fondo de Compensación Ambiental -FCA, por cada una de las fuentes de financiación, atendiendo el artículo 24 de la Ley 344 de 1996, es decir el veinte por ciento (20%) de los recursos percibidos por las Corporaciones Autónomas Regionales, con excepción de las de Desarrollo Sostenible, por concepto de transferencias del sector eléctrico y el diez por ciento (10%) de las restantes rentas propias, con excepción del porcentaje ambiental de los gravámenes a la propiedad inmueble percibidos por ellas y de aquéllas que tengan como origen relaciones contractuales interadministrativas.
A14: (10) SERVICIO A LA DEUDA | B14: Indique los recursos que, se destina en la vigencia para disminuir el capital adeudado, e intereses, que se calculan sobre el capital adeudado. El servicio de la deuda de un período incluye a todas las obligaciones de un período determinado, es decir, que puede incluir a varios acreedores.
A15: (11) DERECHOS POR COBRAR | B15: Indique los recursos de los créditos a favor de la corporación y a los cuales realizará el proceso de cobro, estos pueden ser generados por la facturación por la prestación de un servicio, así mismo, se incluyen los valores que se giraran de otras entidades por contratos interinstitucionales, asignación de recursos para ejecución de proyectos, recursos asignados por la nación, los certificados por los entes territoriales por concepto de sobretasa o porcentaje ambiental, las certificaciones de las generadores de energía, por concepto de TSE, etc.
... A18: (14) OBSERVACIONES | B18: Si es el caso, relacione lo que considere importante para la respectiva revisión y análisis que realizará DOAT-SINA.

Sheet informe Gastos
A2: NIVEL ESTRUCTURAL | B2: NIVEL RENTISTICO | C2: SUBNIVEL RENTISTICO | D2: CONCEPTO | E2: NIVEL 1 | F2: NIVEL 2 | G2: NIVEL 3 | H2: CONCEPTO (2) | I2: RECURSOS PROPIOS (3) | M2: RECURSOS DE LA NACIÓN (4) | Q2: RECURSOS FONDO DE COMPENSACIÓN AMBIENTAL (5) | U2: RECURSOS DE REGALÍAS (6) | Y2: TOTAL RECURSOS (7) | AC2: OBSERVACIONES (8)
I3: PRESUPUESTADO | J3: COMPROMETIDO | K3: OBLIGACIONES | L3: PAGOS | M3: PRESUPUESTADO | N3: COMPROMETIDO | O3: OBLIGACIONES | P3: PAGOS | Q3: PRESUPUESTADO | R3: COMPROMETIDO | S3: OBLIGACIONES | T3: PAGOS | U3: PRESUPUESTADO | V3: COMPROMETIDO | W3: OBLIGACIONES | X3: PAGOS | Y3: PRESUPUESTADO | Z3: COMPROMETIDO | AA3: OBLIGACIONES | AB3: PAGOS
A4: 2 | B4: 01 | H4: GASTOS DE FUNCIONAMIENTO | I4: =+I5+I6+I9+I24 -> 0 | J4: =+J5+J6+J9+J24 -> 0 | K4: =+K5+K6+K9+K24 -> 0 | L4: =+L5+L6+L9+L24 -> 0 | M4: =+M5+M6+M9+M24 -> 0 | N4: =+N5+N6+N9+N24 -> 0 | O4: =+O5+O6+O9+O24 -> 0 | P4: =+P5+P6+P9+P24 -> 0 | ... X4: =+X5+X6+X9+X24 -> 0 | Y4: =+I4+M4+Q4+U4 -> 0 | Z4: =+J4+N4+R4+V4 -> 0 | AA4: =+K4+O4+S4+W4 -> 0 | AB4: =+L4+P4+T4+X4 -> 0
A5: 2 | B5: 01 | C5: 01 | H5: GASTOS DE PERSONAL | Y5: =+I5+M5+Q5+U5 -> 0 | Z5: =+J5+N5+R5+V5 -> 0 | AA5: =+K5+O5+S5+W5 -> 0 | AB5: =+L5+P5+T5+X5 -> 0
A6: 2 | B6: 01 | C6: 02 | H6: ADQUISICIÓN DE BIENES Y SERVICIOS | I6: =+I7+I8 -> 0 | J6: =+J7+J8 -> 0 | K6: =+K7+K8 -> 0 | L6: =+L7+L8 -> 0 | M6: =+M7+M8 -> 0 | N6: =+N7+N8 -> 0 | O6: =+O7+O8 -> 0 | P6: =+P7+P8 -> 0 | ... X6: =+X7+X8 -> 0 | Y6: =+I6+M6+Q6+U6 -> 0 | Z6: =+J6+N6+R6+V6 -> 0 | AA6: =+K6+O6+S6+W6 -> 0 | AB6: =+L6+P6+T6+X6 -> 0
A7: 2 | B7: 01 | C7: 02 | D7: 01 | H7: Adquisición de activos no financieros | Y7: =+I7+M7+Q7+U7 -> 0 | Z7: =+J7+N7+R7+V7 -> 0 | AA7: =+K7+O7+S7+W7 -> 0 | AB7: =+L7+P7+T7+X7 -> 0
A8: 2 | B8: 01 | C8: 02 | D8: 01 | H8: Adquisiciones diferentes de activos | Y8: =+I8+M8+Q8+U8 -> 0 | Z8: =+J8+N8+R8+V8 -> 0 | AA8: =+K8+O8+S8+W8 -> 0 | AB8: =+L8+P8+T8+X8 -> 0
A9: 2 | B9: 01 | C9: 03 | H9: TRANSFERENCIAS CORRIENTES | I9: =+I10+I15+I21 -> 0 | J9: =+J10+J15+J21 -> 0 | K9: =+K10+K15+K21 -> 0 | L9: =+L10+L15+L21 -> 0 | M9: =+M10+M15+M21 -> 0 | N9: =+N10+N15+N21 -> 0 | O9: =+O10+O15+O21 -> 0 | P9: =+P10+P15+P21 -> 0 | ... X9: =+X10+X15+X21 -> 0 | Y9: =+I9+M9+Q9+U9 -> 0 | Z9: =+J9+N9+R9+V9 -> 0 | AA9: =+K9+O9+S9+W9 -> 0 | AB9: =+L9+P9+T9+X9 -> 0
A10: 2 | B10: 01 | C10: 03 | D10: 01 | H10: A ENTIDADES DE GOBIERNO | I10: =+I11+I15 -> 0 | J10: =+J11+J15 -> 0 | K10: =+K11+K15 -> 0 | L10: =+L11+L15 -> 0 | M10: =+M11+M15 -> 0 | N10: =+N11+N15 -> 0 | O10: =+O11+O15 -> 0 | P10: =+P11+P15 -> 0 | ... X10: =+X11+X15 -> 0 | Y10: =+I10+M10+Q10+U10 -> 0 | Z10: =+J10+N10+R10+V10 -> 0 | AA10: =+K10+O10+S10+W10 -> 0 | AB10: =+L10+P10+T10+X10 -> 0
B11: 01 | C11: 03 | D11: 01 | E11: 01 | H11: A ORGANOS DEL PGN | I11: =+I12 -> 0 | J11: =+J12 -> 0 | K11: =+K12 -> 0 | L11: =+L12 -> 0 | M11: =+M12 -> 0 | N11: =+N12 -> 0 | O11: =+O12 -> 0 | P11: =+P12 -> 0 | ... X11: =+X12 -> 0 | Y11: =+I11+M11+Q11+U11 -> 0 | Z11: =+J11+N11+R11+V11 -> 0 | AA11: =+K11+O11+S11+W11 -> 0 | AB11: =+L11+P11+T11+X11 -> 0
A12: 2 | B12: 01 | C12: 03 | D12: 01 | E12: 01 | F12: 01 | H12: Fondo de Compensación Ambiental - Ministerio del Medio Ambiente Art 24 Ley 344 de 1996 | I12: =+I13+I14 -> 0 | J12: =+J13+J14 -> 0 | K12: =+K13+K14 -> 0 | L12: =+L13+L14 -> 0 | M12: =+M13+M14 -> 0 | N12: =+N13+N14 -> 0 | O12: =+O13+O14 -> 0 | P12: =+P13+P14 -> 0 | ... X12: =+X13+X14 -> 0 | Y12: =+I12+M12+Q12+U12 -> 0 | Z12: =+J12+N12+R12+V12 -> 0 | AA12: =+K12+O12+S12+W12 -> 0 | AB12: =+L12+P12+T12+X12 -> 0
A13: 2 | B13: 01 | C13: 03 | D13: 01 | E13: 01 | F13: 01 | G13: 01 | H13: Fondo de Compensación Ambiental - TSE (20%) | Y13: =+I13+M13+Q13+U13 -> 0 | Z13: =+J13+N13+R13+V13 -> 0 | AA13: =+K13+O13+S13+W13 -> 0 | AB13: =+L13+P13+T13+X13 -> 0
A14: 2 | B14: 01 | C14: 03 | D14: 01 | E14: 01 | F14: 01 | G14: 02 | H14: Fondo de Compensación Ambiental - Recursos propios diferentes a TSE (10%) | Y14: =+I14+M14+Q14+U14 -> 0 | Z14: =+J14+N14+R14+V14 -> 0 | AA14: =+K14+O14+S14+W14 -> 0 | AB14: =+L14+P14+T14+X14 -> 0
A15: 2 | B15: 01 | C15: 03 | D15: 01 | E15: 02 | H15: A ESQUEMAS ASOCIATIVOS | I15: =+I16 -> 0 | J15: =+J16 -> 0 | K15: =+K16 -> 0 | L15: =+L16 -> 0 | M15: =+M16 -> 0 | N15: =+N16 -> 0 | O15: =+O16 -> 0 | P15: =+P16 -> 0 | ... X15: =+X16 -> 0 | Y15: =+I15+M15+Q15+U15 -> 0 | Z15: =+J15+N15+R15+V15 -> 0 | AA15: =+K15+O15+S15+W15 -> 0 | AB15: =+L15+P15+T15+X15 -> 0
A16: 2 | B16: 01 | C16: 03 | D16: 01 | E16: 02 | F16: 01 | H16: Aportes a ASOCARS | Y16: =+I16+M16+Q16+U16 -> 0 | Z16: =+J16+N16+R16+V16 -> 0 | AA16: =+K16+O16+S16+W16 -> 0 | AB16: =+L16+P16+T16+X16 -> 0
A17: 2 | B17: 01 | C17: 03 | D17: 02 | H17: PRESTACIONES SOCIALES | I17: =+I18 -> 0 | J17: =+J18 -> 0 | K17: =+K18 -> 0 | L17: =+L18 -> 0 | M17: =+M18 -> 0 | N17: =+N18 -> 0 | O17: =+O18 -> 0 | P17: =+P18 -> 0 | ... X17: =+X18 -> 0 | Y17: =+I17+M17+Q17+U17 -> 0 | Z17: =+J17+N17+R17+V17 -> 0 | AA17: =+K17+O17+S17+W17 -> 0 | AB17: =+L17+P17+T17+X17 -> 0
A18: 2 | B18: 01 | C18: 03 | D18: 02 | E18: 01 | H18: Prestaciones sociales relacionadas con el empleo | I18: =+I19+I20 -> 0 | J18: =+J19+J20 -> 0 | K18: =+K19+K20 -> 0 | L18: =+L19+L20 -> 0 | M18: =+M19+M20 -> 0 | N18: =+N19+N20 -> 0 | O18: =+O19+O20 -> 0 | P18: =+P19+P20 -> 0 | ... X18: =+X19+X20 -> 0 | Y18: =+I18+M18+Q18+U18 -> 0 | Z18: =+J18+N18+R18+V18 -> 0 | AA18: =+K18+O18+S18+W18 -> 0 | AB18: =+L18+P18+T18+X18 -> 0
A19: 2 | B19: 01 | C19: 03 | D19: 02 | E19: 01 | F19: 01 | H19: Mesadas pensionales (de pensiones) | I19: 0 | Y19: =+I19+M19+Q19+U19 -> 0 | Z19: =+J19+N19+R19+V19 -> 0 | AA19: =+K19+O19+S19+W19 -> 0 | AB19: =+L19+P19+T19+X19 -> 0
A20: 2 | B20: 01 | C20: 03 | D20: 02 | E20: 01 | F20: 02 | H20: Bonos pensionales (de pensiones) | I20: 0 | Y20: =+I20+M20+Q20+U20 -> 0 | Z20: =+J20+N20+R20+V20 -> 0 | AA20: =+K20+O20+S20+W20 -> 0 | AB20: =+L20+P20+T20+X20 -> 0
A21: 2 | B21: 01 | C21: 03 | D21: 03 | H21: SENTENCIAS Y CONCILIACIONES | I21: =+I22+I23 -> 0 | J21: =+J22+J23 -> 0 | K21: =+K22+K23 -> 0 | L21: =+L22+L23 -> 0 | M21: =+M22+M23 -> 0 | N21: =+N22+N23 -> 0 | O21: =+O22+O23 -> 0 | P21: =+P22+P23 -> 0 | ... X21: =+X22+X23 -> 0 | Y21: =+I21+M21+Q21+U21 -> 0 | Z21: =+J21+N21+R21+V21 -> 0 | AA21: =+K21+O21+S21+W21 -> 0 | AB21: =+L21+P21+T21+X21 -> 0
A22: 2 | B22: 01 | C22: 03 | D22: 03 | E22: 01 | H22: Comisiones y otros gastos | Y22: =+I22+M22+Q22+U22 -> 0 | Z22: =+J22+N22+R22+V22 -> 0 | AA22: =+K22+O22+S22+W22 -> 0 | AB22: =+L22+P22+T22+X22 -> 0
A23: 2 | B23: 01 | C23: 03 | D23: 03 | E23: 02 | H23: Conciliaciones | Y23: =+I23+M23+Q23+U23 -> 0 | Z23: =+J23+N23+R23+V23 -> 0 | AA23: =+K23+O23+S23+W23 -> 0 | AB23: =+L23+P23+T23+X23 -> 0
A24: 2 | B24: 01 | C24: 04 | H24: GASTOS POR TRIBUTOS, MULTAS, SANCIONES E INTERESES DE MORA | I24: =+I25+I29+I31+I33 -> 0 | J24: =+J25+J29+J31+J33 -> 0 | K24: =+K25+K29+K31+K33 -> 0 | L24: =+L25+L29+L31+L33 -> 0 | M24: =+M25+M29+M31+M33 -> 0 | N24: =+N25+N29+N31+N33 -> 0 | O24: =+O25+O29+O31+O33 -> 0 | P24: =+P25+P29+P31+P33 -> 0 | ... X24: =+X25+X29+X31+X33 -> 0 | Y24: =+I24+M24+Q24+U24 -> 0 | Z24: =+J24+N24+R24+V24 -> 0 | AA24: =+K24+O24+S24+W24 -> 0 | AB24: =+L24+P24+T24+X24 -> 0
A25: 2 | B25: 01 | C25: 04 | D25: 01 | H25: IMPUESTOS | I25: =+I26 -> 0 | J25: =+J26 -> 0 | K25: =+K26 -> 0 | L25: =+L26 -> 0 | M25: =+M26 -> 0 | N25: =+N26 -> 0 | O25: =+O26 -> 0 | P25: =+P26 -> 0 | ... X25: =+X26 -> 0 | Y25: =+I25+M25+Q25+U25 -> 0 | Z25: =+J25+N25+R25+V25 -> 0 | AA25: =+K25+O25+S25+W25 -> 0 | AB25: =+L25+P25+T25+X25 -> 0
A26: 2 | B26: 01 | C26: 04 | D26: 01 | E26: 01 | H26: IMPUESTOS TERRITORIALES | I26: =+I27+I28 -> 0 | J26: =+J27+J28 -> 0 | K26: =+K27+K28 -> 0 | L26: =+L27+L28 -> 0 | M26: =+M27+M28 -> 0 | N26: =+N27+N28 -> 0 | O26: =+O27+O28 -> 0 | P26: =+P27+P28 -> 0 | ... X26: =+X27+X28 -> 0 | Y26: =+I26+M26+Q26+U26 -> 0 | Z26: =+J26+N26+R26+V26 -> 0 | AA26: =+K26+O26+S26+W26 -> 0 | AB26: =+L26+P26+T26+X26 -> 0
A27: 2 | B27: 01 | C27: 04 | D27: 01 | E27: 01 | F27: 01 | H27: Impuesto predial y Sobretasa ambiental | Y27: =+I27+M27+Q27+U27 -> 0 | Z27: =+J27+N27+R27+V27 -> 0 | AA27: =+K27+O27+S27+W27 -> 0 | AB27: =+L27+P27+T27+X27 -> 0
A28: 2 | B28: 01 | C28: 04 | D28: 01 | E28: 01 | F28: 02 | H28: Impuesto sobre vehículos automotores. | Y28: =+I28+M28+Q28+U28 -> 0 | Z28: =+J28+N28+R28+V28 -> 0 | AA28: =+K28+O28+S28+W28 -> 0 | AB28: =+L28+P28+T28+X28 -> 0
A29: 2 | B29: 01 | C29: 04 | D29: 02 | H29: TASAS Y DERECHOS ADMINISTRATIVOS | I29: =+I30 -> 0 | J29: =+J30 -> 0 | K29: =+K30 -> 0 | L29: =+L30 -> 0 | M29: =+M30 -> 0 | N29: =+N30 -> 0 | O29: =+O30 -> 0 | P29: =+P30 -> 0 | ... X29: =+X30 -> 0 | Y29: =+I29+M29+Q29+U29 -> 0 | Z29: =+J29+N29+R29+V29 -> 0 | AA29: =+K29+O29+S29+W29 -> 0 | AB29: =+L29+P29+T29+X29 -> 0
A30: 2 | B30: 01 | C30: 04 | D30: 02 | E30: 01 | H30: Peajes. | Y30: =+I30+M30+Q30+U30 -> 0 | Z30: =+J30+N30+R30+V30 -> 0 | AA30: =+K30+O30+S30+W30 -> 0 | AB30: =+L30+P30+T30+X30 -> 0
A31: 2 | B31: 01 | C31: 04 | D31: 03 | H31: CONTRIBUCIONES | I31: =+I32 -> 0 | J31: =+J32 -> 0 | K31: =+K32 -> 0 | L31: =+L32 -> 0 | M31: =+M32 -> 0 | N31: =+N32 -> 0 | O31: =+O32 -> 0 | P31: =+P32 -> 0 | ... X31: =+X32 -> 0 | Y31: =+I31+M31+Q31+U31 -> 0 | Z31: =+J31+N31+R31+V31 -> 0 | AA31: =+K31+O31+S31+W31 -> 0 | AB31: =+L31+P31+T31+X31 -> 0
A32: 2 | B32: 01 | C32: 04 | D32: 03 | E32: 01 | H32: Cuota de fiscalización y auditaje | Y32: =+I32+M32+Q32+U32 -> 0 | Z32: =+J32+N32+R32+V32 -> 0 | AA32: =+K32+O32+S32+W32 -> 0 | AB32: =+L32+P32+T32+X32 -> 0
A33: 2 | B33: 01 | C33: 04 | D33: 04 | H33: Multas, sanciones e intereses de mora | I33: =+I34+I35+I36 -> 0 | J33: =+J34+J35+J36 -> 0 | K33: =+K34+K35+K36 -> 0 | L33: =+L34+L35+L36 -> 0 | M33: =+M34+M35+M36 -> 0 | N33: =+N34+N35+N36 -> 0 | O33: =+O34+O35+O36 -> 0 | P33: =+P34+P35+P36 -> 0 | ... X33: =+X34+X35+X36 -> 0 | Y33: =+I33+M33+Q33+U33 -> 0 | Z33: =+J33+N33+R33+V33 -> 0 | AA33: =+K33+O33+S33+W33 -> 0 | AB33: =+L33+P33+T33+X33 -> 0
A34: 2 | B34: 01 | C34: 04 | D34: 04 | E34: 01 | H34: Multas | Y34: =+I34+M34+Q34+U34 -> 0 | Z34: =+J34+N34+R34+V34 -> 0 | AA34: =+K34+O34+S34+W34 -> 0 | AB34: =+L34+P34+T34+X34 -> 0
A35: 2 | B35: 01 | C35: 04 | D35: 04 | E35: 02 | H35: Sanciones | Y35: =+I35+M35+Q35+U35 -> 0 | Z35: =+J35+N35+R35+V35 -> 0 | AA35: =+K35+O35+S35+W35 -> 0 | AB35: =+L35+P35+T35+X35 -> 0
A36: 2 | B36: 01 | C36: 04 | D36: 04 | E36: 03 | H36: Intereses de mora | Y36: =+I36+M36+Q36+U36 -> 0 | Z36: =+J36+N36+R36+V36 -> 0 | AA36: =+K36+O36+S36+W36 -> 0 | AB36: =+L36+P36+T36+X36 -> 0
A37: 2 | B37: 02 | H37: SERVICIO DE LA DEUDA | I37: =+I38+I42 -> 0 | J37: =+J38+J42 -> 0 | K37: =+K38+K42 -> 0 | L37: =+L38+L42 -> 0 | M37: =+M38+M42 -> 0 | N37: =+N38+N42 -> 0 | O37: =+O38+O42 -> 0 | P37: =+P38+P42 -> 0 | ... X37: =+X38+X42 -> 0 | Y37: =+I37+M37+Q37+U37 -> 0 | Z37: =+J37+N37+R37+V37 -> 0 | AA37: =+K37+O37+S37+W37 -> 0 | AB37: =+L37+P37+T37+X37 -> 0
A38: 2 | B38: 02 | C38: 01 | H38: Servicios de la deuda pública externa | I38: =+I39+I40+I41 -> 0 | J38: =+J39+J40+J41 -> 0 | K38: =+K39+K40+K41 -> 0 | L38: =+L39+L40+L41 -> 0 | M38: =+M39+M40+M41 -> 0 | N38: =+N39+N40+N41 -> 0 | O38: =+O39+O40+O41 -> 0 | P38: =+P39+P40+P41 -> 0 | ... X38: =+X39+X40+X41 -> 0 | Y38: =+I38+M38+Q38+U38 -> 0 | Z38: =+J38+N38+R38+V38 -> 0 | AA38: =+K38+O38+S38+W38 -> 0 | AB38: =+L38+P38+T38+X38 -> 0
A39: 2 | B39: 02 | C39: 01 | D39: 01 | H39: Servicios de la deuda pública externa | Y39: =+I39+M39+Q39+U39 -> 0 | Z39: =+J39+N39+R39+V39 -> 0 | AA39: =+K39+O39+S39+W39 -> 0 | AB39: =+L39+P39+T39+X39 -> 0
A40: 2 | B40: 02 | C40: 01 | D40: 02 | H40: Intereses de la deduda pública externa | Y40: =+I40+M40+Q40+U40 -> 0 | Z40: =+J40+N40+R40+V40 -> 0 | AA40: =+K40+O40+S40+W40 -> 0 | AB40: =+L40+P40+T40+X40 -> 0
A41: 2 | B41: 02 | C41: 01 | D41: 03 | H41: Comisiones y otros gastos | Y41: =+I41+M41+Q41+U41 -> 0 | Z41: =+J41+N41+R41+V41 -> 0 | AA41: =+K41+O41+S41+W41 -> 0 | AB41: =+L41+P41+T41+X41 -> 0
...

Sheet Hoja2
A2: ANEXO No. 5.2. PROTOCOLO O GUÍA DE DILIGENCIAMIENTO
A3: MATRIZ DE SEGUIMIENTO A LA GESTIÓN Y DE AVANCE EN LAS METAS FÍSICAS Y FINANCIERAS DEL PLAN DE ACCIÓN
A4: ÍTEM | B4: DEFINICIONES
A5: (1) ESTRUCTURA RENTÍSTICA | B5: Es el conjunto de elementos que rigen la clasificación, el ordenamiento y la presentación del Presupuesto.
A6: (2) CONCEPTO | B6: Cuentas que conforma el presupuesto de los gastos.
A7: (3) RECURSOS PROPIOS | B7: Por cada cuenta que conforma el presupuesto de gastos por concepto de recursos propios indique cuanto se apropió (cuanto se programó en el presupuesto, este valor puede cambiar conforme a los ajustes realizados al plan financiero), comprometió (registro presupuestal conforme a lo apropiado, el valor de lo comprometido no debe superar lo apropiado), obligó (de lo comprometido, cuanto fueron la exigibilidades por la entrega de bienes y servicios) y pagó (cuanto de esas exigibilidades ya se giraron), en la vigencia del reporte.
A8: (4) RECURSOS NACIÓN | B8: Por cada cuenta que conforma el presupuesto de gastos por concepto de los recursos recibidos por el Presupuesto General de la Nación, indique cuanto se apropió (cuanto se programó en el presupuesto, este valor puede cambiar conforme a los ajustes realizados al plan financiero), comprometió (registro presupuestal conforme a lo apropiado, el valor de lo comprometido no debe superar lo apropiado), obligó (de lo comprometido, cuanto fueron la exigibilidades por la entrega de bienes y servicios) y pagó (cuanto de esas exigibilidades ya se giraron), en la vigencia del reporte.
A9: (5) RECURSOS FONDO DE COMPENSACIÓN AMBIENTAL | B9: Por cada cuenta que conforma el presupuesto de gastos por concepto de los recursos recibidos por el Fondo de Compensación Ambiental, indique cuanto se apropió (cuanto se programó en el presupuesto, este valor puede cambiar conforme a los ajustes realizados al plan financiero), comprometió (registro presupuestal conforme a lo apropiado, el valor de lo comprometido no debe superar lo apropiado), obligó (de lo comprometido, cuanto fueron la exigibilidades por la entrega de bienes y servicios) y pagó (cuanto de esas exigibilidades ya se giraron), en la vigencia del reporte.
A10: (6) RECURSOS DE REGALÍAS | B10: Por cada cuenta que conforma el presupuesto de gastos por concepto de los recursos recibidos por el Sistema General de Regalías, indique cuanto se apropió (cuanto se programó en el presupuesto, este valor puede cambiar conforme a los ajustes realizados al plan financiero), comprometió (registro presupuestal conforme a lo apropiado, el valor de lo comprometido no debe superar lo apropiado), obligó (de lo comprometido, cuanto fueron la exigibilidades por la entrega de bienes y servicios) y pagó (cuanto de esas exigibilidades ya se giraron), en la vigencia del reporte.
A11: (7) TOTAL RECURSOS | B11: Es la sumatoria del gasto realizado por recursos propios, Nación, Regalías y Fondo de Compensación Ambiental.
A12: (8) OBSERVACIONES | B12: Si es el caso, relacione lo que considere importante para la respectiva revisión y análisis que realizará DOAT-SINA.

Sheet Anexo 3 Matriz IMG
A2: ='Datos Generales'!C5 -> 0
A3: ANEXO NO. 3. MATRIZ DE REPORTE DE AVANCE DE INDICADORES MÍNIMOS DE GESTIÓN INCORPORADOS EN LA RESOLUCIÓN 667 DE 2016
A4: PERIODO REPORTADO: | C4: ='Datos Generales'!C6 -> 0
A5: N | B5: Indicador | C5: 2020 | D5: 2021 | E5: 2022 | F5: 2023 | H5: Acuerdo | I5: Programas | J5: Observaciones | L5: Acuerdo Consejo Directivo | M5: Programa o Proyecto asociado | N5: Observaciones
A6: 1. | B6: Porcentaje de avance en la formulación y/o ajuste de los Planes de Ordenación y Manejo de Cuencas (POMCAS), Planes de Manejo de Acuíferos (PMA) y Planes de Manejo de Microcuencas (PMM) | C6: =+'1POMCAS'!D8 -> N.A. | H6: ='1POMCAS'!F11 -> 0 | I6: =+'1POMCAS'!E12 -> 2.4 | J6: =+'1POMCAS'!E13 -> 0 | L6: =IF(ISNUMBER(C6),"",H6) -> 0 | M6: =IF(ISNUMBER(I6),"",I6) | N6: =IF(ISNUMBER(J6),"",J6)
A7: 2. | B7: Porcentaje de cuerpos de agua con planes de ordenamiento del recurso hídrico (PORH) adoptados | C7: =+'2PORH'!D8 -> N.A. | H7: =+'2PORH'!F11 -> 0 | I7: =+'2PORH'!E12 -> 2.4 | J7: =+'2PORH'!E13 -> 0 | L7: =IF(ISNUMBER(C7),"",H7) -> 0 | M7: =IF(ISNUMBER(I7),"",I7) | N7: =IF(ISNUMBER(J7),"",J7)
A8: 3. | B8: Porcentaje de Planes de Saneamiento y Manejo de Vertimientos (PSMV) con seguimiento | C8: =+'3PSMV'!D8 -> 1 | H8: =+'3PSMV'!F11 -> 0 | I8: =+'3PSMV'!E12 -> 0 | J8: =+'3PSMV'!E13 -> 0 | L8: =IF(ISNUMBER(C8),"",H8) | M8: =IF(ISNUMBER(I8),"",I8) | N8: =IF(ISNUMBER(J8),"",J8)
A9: 4. | B9: Porcentaje de cuerpos de agua con reglamentación del uso de las aguas | C9: =+'4UsoAguas'!D8 -> N.A. | H9: =+'4UsoAguas'!F11 -> 0 | I9: =+'4UsoAguas'!E12 -> 2.4 | J9: =+'4UsoAguas'!E13 -> No se programó meta para el 2020 | L9: =IF(ISNUMBER(C9),"",H9) -> 0 | M9: =IF(ISNUMBER(I9),"",I9) | N9: =IF(ISNUMBER(J9),"",J9) -> No se programó meta para el 2020
A10: 5. | B10: Porcentaje de Programas de Uso Eficiente y Ahorro del Agua (PUEAA) con seguimiento | C10: =+'5PUEAA'!D8 -> 0.19047619 | H10: =+'5PUEAA'!F11 -> 0 | I10: =+'5PUEAA'!E12 -> 2.4 | J10: =+'5PUEAA'!E13 -> 0 | L10: =IF(ISNUMBER(C10),"",H10) | M10: =IF(ISNUMBER(I10),"",I10) | N10: =IF(ISNUMBER(J10),"",J10)
A11: 6. | B11: Porcentaje de Planes de Ordenación y Manejo de Cuencas (POMCAS), Planes de Manejo de Acuíferos (PMA) y Planes de Manejo de Microcuencas (PMM) en ejecución | C11: =+'6POMCASejec'!D8 -> 0.48148148 | H11: =+'6POMCASejec'!F11 -> 0 | I11: =+'6POMCASejec'!E12 -> 2.4 | J11: =+'6POMCASejec'!E13 -> 0 | L11: =IF(ISNUMBER(C11),"",H11) | M11: =IF(ISNUMBER(I11),"",I11) | N11: =IF(ISNUMBER(J11),"",J11)
A12: 7. | B12: Porcentaje de entes territoriales asesorados en la incorporación, planificación y ejecución de acciones relacionadas con cambio climático en el marco de los instrumentos de planificación territorial | C12: =+'7Clima'!D8 -> 1 | H12: =+'7Clima'!F11 -> 0 | I12: =+'7Clima'!E12 -> 0 | J12: =+'7Clima'!E13 -> 0 | L12: =IF(ISNUMBER(C12),"",H12) | M12: =IF(ISNUMBER(I12),"",I12) | N12: =IF(ISNUMBER(J12),"",J12)
A13: 8. | B13: Porcentaje de suelos degradados en recuperación o rehabilitación | C13: =+'8Suelo'!D8 -> N.A. | H13: =+'8Suelo'!F11 -> 0 | I13: =+'8Suelo'!E12 -> 0 | J13: =+'8Suelo'!E13 -> 0 | L13: =IF(ISNUMBER(C13),"",H13) -> 0 | M13: =IF(ISNUMBER(I13),"",I13) | N13: =IF(ISNUMBER(J13),"",J13)
A14: 9. | B14: Porcentaje de la superficie de áreas protegidas regionales declaradas, homologadas o recategorizadas, inscritas en el RUNAP | C14: =+'9RUNAP'!D9 -> N.A. | H14: =+'9RUNAP'!F12 -> 0 | I14: =+'9RUNAP'!E13 -> 5.4 | J14: =+'9RUNAP'!E14 -> 0 | L14: =IF(ISNUMBER(C14),"",H14) -> 0 | M14: =IF(ISNUMBER(I14),"",I14) | N14: =IF(ISNUMBER(J14),"",J14)
A15: 10. | B15: Porcentaje de páramos delimitados por el MADS, con zonificación y régimen de usos adoptados por la CAR | C15: ='10Paramos'!D8 -> N.A. | H15: ='10Paramos'!F11 -> 0 | I15: ='10Paramos'!E12 -> 5.4 | J15: ='10Paramos'!E13 -> 0 | L15: =IF(ISNUMBER(C15),"",H15) -> 0 | M15: =IF(ISNUMBER(I15),"",I15) | N15: =IF(ISNUMBER(J15),"",J15)
A16: 11. | B16: Porcentaje de avance en la formulación del Plan de Ordenación Forestal | C16: =+'11Forest'!D8 -> SIN INFORMACION | H16: =+'11Forest'!F11 -> 0 | I16: =+'11Forest'!E12 -> 5.2 | J16: =+'11Forest'!E13 -> 0 | L16: =IF(ISNUMBER(C16),"",H16) -> 0 | M16: =IF(ISNUMBER(I16),"",I16) | N16: =IF(ISNUMBER(J16),"",J16)
A17: 12. | B17: Porcentaje de áreas protegidas con planes de manejo en ejecución | C17: =+'12PlanesAP'!D8 -> 1 | H17: =+'12PlanesAP'!F11 -> 0 | I17: =+'12PlanesAP'!E12 -> 5.4 | J17: =+'12PlanesAP'!E13 -> 0 | L17: =IF(ISNUMBER(C17),"",H17) | M17: =IF(ISNUMBER(I17),"",I17) | N17: =IF(ISNUMBER(J17),"",J17)
A18: 13. | B18: Porcentaje de especies amenazadas con medidas de conservación y manejo en ejecución | C18: =+'13Amenaz'!D8 -> 1 | H18: =+'13Amenaz'!F11 -> 0 | I18: =+'13Amenaz'!E12 -> 0 | J18: =+'13Amenaz'!E13 -> 0 | L18: =IF(ISNUMBER(C18),"",H18) | M18: =IF(ISNUMBER(I18),"",I18) | N18: =IF(ISNUMBER(J18),"",J18)
A19: 14. | B19: Porcentaje de especies invasoras con medidas de prevención, control y manejo en ejecución | C19: =+'14Invasor'!D8 -> 1 | H19: =+'14Invasor'!F11 -> 0 | I19: =+'14Invasor'!E12 -> 0 | J19: =+'14Invasor'!E13 -> 0 | L19: =IF(ISNUMBER(C19),"",H19) | M19: =IF(ISNUMBER(I19),"",I19) | N19: =IF(ISNUMBER(J19),"",J19)
A20: 15. | B20: Porcentaje de áreas de ecosistemas en restauración, rehabilitación y reforestación | C20: =+'15Restaura'!D8 -> SIN INFORMACION | H20: =+'15Restaura'!F11 -> Acuerdo 05/2020 por medio del Cual se aprueba el Plan de Acción 2020-2023 | I20: =+'15Restaura'!E12 -> 0 | J20: =+'15Restaura'!E13 -> Para el periodo 2020, no se programó meta para este indicador | L20: =IF(ISNUMBER(C20),"",H20) -> Acuerdo 05/2020 por medio del Cual se aprueba el Plan de Acción 2020-2023 | M20: =IF(ISNUMBER(I20),"",I20) | N20: =IF(ISNUMBER(J20),"",J20) -> Para el periodo 2020, no se programó meta para este indicador
A21: 16. | B21: Implementación de acciones en manejo integrado de zonas costeras | C21: =+'16MIZC'!D8 -> 0 | H21: =+'16MIZC'!F11 -> 0 | I21: =+'16MIZC'!E12 -> 0 | J21: =+'16MIZC'!E13 -> 0 | L21: =IF(ISNUMBER(C21),"",H21) | M21: =IF(ISNUMBER(I21),"",I21) | N21: =IF(ISNUMBER(J21),"",J21)
A22: 17. | B22: Porcentaje de Planes de Gestión Integral de Residuos Sólidos (PGIRS) con seguimiento a metas de aprovechamiento | C22: =+'17PGIRS'!D8 -> 1 | H22: =+'17PGIRS'!F11 -> 0 | I22: =+'17PGIRS'!E12 -> 0 | J22: =+'17PGIRS'!E13 -> 0 | L22: =IF(ISNUMBER(C22),"",H22) | M22: =IF(ISNUMBER(I22),"",I22) | N22: =IF(ISNUMBER(J22),"",J22)
A23: 18. | B23: Porcentaje de sectores con acompañamiento para la reconversión hacia sistemas sostenibles de producción | C23: =+'18Sector'!D8 -> 1 | H23: =+'18Sector'!F11 -> 0 | I23: =+'18Sector'!E12 -> 0 | J23: =+'18Sector'!E13 -> 0 | L23: =IF(ISNUMBER(C23),"",H23) | M23: =IF(ISNUMBER(I23),"",I23) | N23: =IF(ISNUMBER(J23),"",J23)
A24: 19. | B24: Porcentaje de ejecución de acciones en Gestión Ambiental Urbana | C24: =+'19GAU'!D8 -> 1 | H24: =+'19GAU'!F11 -> 0 | I24: =+'19GAU'!E12 -> 4.1 | J24: =+'19GAU'!E13 -> 0 | L24: =IF(ISNUMBER(C24),"",H24) | M24: =IF(ISNUMBER(I24),"",I24) | N24: =IF(ISNUMBER(J24),"",J24)
A25: 20. | B25: Implementación del Programa Regional de Negocios Verdes por la autoridad ambiental | C25: =+'20Negoc'!D8 -> 0 | H25: =+'20Negoc'!F11 -> 0 | I25: =+'20Negoc'!E12 -> 0 | J25: =+'20Negoc'!E13 -> 0 | L25: =IF(ISNUMBER(C25),"",H25) | M25: =IF(ISNUMBER(I25),"",I25) | N25: =IF(ISNUMBER(J25),"",J25)
A26: 21. | B26: Tiempo promedio de trámite para la resolución de autorizaciones ambientales otorgadas por la corporación | C26: =+'21TiempoT'!D8 -> 0.91552347 | H26: =+'21TiempoT'!F11 -> 0 | I26: =+'21TiempoT'!E12 -> 0 | J26: =+'21TiempoT'!E13 -> 0 | L26: =IF(ISNUMBER(C26),"",H26) | M26: =IF(ISNUMBER(I26),"",I26) | N26: =IF(ISNUMBER(J26),"",J26)
