Workbook
Name _Toc239512525: 'TABLA 7 ESTRUCTURA PROGRAMÁTICA'!$A$1

Sheet TABLA 7 ESTRUCTURA PROGRAMÁTICA
A1: Tabla 7. Estructura Básica de las Acciones Operativas del Plan de Acción
B3: CORPORACIÓN AUTONOMA REGIONAL DEL CESAR "CORPOCESAR"
A5: COMPONENTES DEL PGAR | B5: (3) META FISICA ANUAL (Según unidad de medida)
A6: LINEA ESTRATÉGICA | B6: PROGRAMA | C6: PROYECTOS | D6: ACTIVIDADES/ METAS | E6: METAS FÍSICAS | I6: TOTAL METAS FISICAS | J6: UNIDAD DE MEDIDA DE LA ACTIVIDAD
E7: 2020 | F7: 2021 | G7: 2022 | H7: 2023
B8: 1. RESTAURACIÓN ECOLÓGICA VERIFICABLE Y SUSTENTABLE | C8: 1.1. Gestión e implentación de acciones integrales para la restauración ecológica en el departamento del Cesar | D8: 1.1.1 Identificación y priorización de las zonas prioritarias para restaurar y recuperar en las 5 ERE del departamento | E8: 1 | F8: 2 | G8: 2 | H8: 0 | I8: =SUM(E8:H8) -> 5 | J8: No. | K8: ERE con zonas identificadas y priorizadas para restaurar y recuperar.
D9: 1.1.2 Formulación e implementación de proyectos de restauración Ecològica Integral - REI-en alianzas con actores claves. (metodologia SER) | E9: 0 | F9: 1 | G9: 0 | H9: 1 | I9: =SUM(E9:H9) -> 2 | J9: No. | K9: Proyectos de restauración Ecologica Integral - REI- gestionados y en implementaciòn.
D10: 1.1.3 Monitoreo, seguimiento y evaluaciòn de las acciones de REI en implementaciòn | E10: 0 | F10: 1 | G10: 0 | H10: 1 | I10: =SUM(E10:H10) -> 2 | J10: No. | K10: Sistema de monitoreo y reporte implementado por proyecto.
D11: 1.1.4 Reporte, comunicación y divulgación de la evolución del proceso de REI. | E11: 0 | F11: 1 | G11: 0 | H11: 1 | I11: =SUM(E11:H11) -> 2
A12: 1. GESTIÓN PARA EL DESARROLLO AMBIENTAL SOSTENIBLE A TRAVES DE LA RECUPERACIÓN Y CONSERVACIÓN DE LAS ECORREGIONES ESTRATÉGICAS. | C12: 1.2 Coordinación y Desarrollo de portafolios de sistemas sostenibles de conservación - SSC- (conservación, restauración, manejo sostenible, agroforestales, reconversión productiva) en el departamento del Cesar | D12: 1.2.1 Coordinación, concienciación de actores entorno al proceso de visión de sistemas sostenibles de conservación -SSC- | E12: 1 | F12: 1 | G12: 1 | H12: 0 | I12: =SUM(E12:H12) -> 3 | J12: No. | K12: Grupos de actores conformados para el desarrollo del SSC
D13: 1.2.2 Diseño conjunto de un modelo y estrategias para la implementación de SSC | E13: 30 | F13: 70 | G13: 0 | H13: 0 | I13: =SUM(E13:H13) -> 100 | J13: % | K13: Porcentaje de avance del modelo de SSC
D14: 1.2.3 Gestión sinérgica para la promoción y creación de capacidad técnica para la implementación del manejo SSC. | E14: 0 | F14: 1 | G14: 1 | H14: 1 | I14: =SUM(E14:H14) -> 3 | J14: No. | K14: Grupos asistidos técnicamente
D15: 1.2.4 Apoyo a la implementación, seguimiento y evaluación de proyectos pilotos y/o estratégicos de SSC. | E15: 0 | F15: 2 | G15: 2 | H15: 1 | I15: =SUM(E15:H15) -> 5 | J15: No. | K15: Proyectos formulados y apoyados con seguimiento y evaluación.
B17: 2. GESTIÓN INTEGRAL DEL RIESGO AMBIENTAL, CLIMÁTICO, Y DEL RECURSO HÍDRICO. | C17: 2.1 Implementación y evaluación de acciones del Plan Integral de Gestión de Cambio Climático -PIGCC- Territorial del Cesar | D17: 2.1.1 Gestión e implementación de Estrategias y/o Proyectos de mitigación y adaptación al cambio climático, en el marco de los planteamientos del -PIGCC- Territorial del Cesar | E17: 2 | F17: 3 | G17: 5 | H17: 5 | I17: =SUM(E17:H17) -> 15 | J17: No. | K17: No. de estrategias y/o proyectos del PIGCC, implementados o promovidos
D18: 2.1.2 Implementación del SIA de cambio climático dptal y apoyo efectivo al sistema de Registro Nacional de Reducción de Emisiones de Gases de Efecto Invernadero - RENARE | E18: 0 | F18: 20 | G18: 70 | H18: 100 | I18: 100 | J18: % | K18: Avance del SIA -CC y apoyo a RENARE
D19: 2.1.3 Fortalecimiento de la participación y gestión de Corpocesar, en el nodo Regional de Cambio Climático -NRCC- del Caribe | E19: 100 | F19: 100 | G19: 100 | H19: 100 | I19: 100 | J19: % | K19: Agenda intersectorial del NRCC Caribe articulada y apoyada.
C21: 2.2 Implementación de acciones para la operación de la EDANA en el área de jurisdicción de Corpocesar. | D21: 2.2.1 Gestión para la implementación de la Metodología que permita al sector ambiente realizar una evaluación de daños y necesidades ambientales -EDANA en zonas continentales impactadas por desastres naturales, socionaturales y/o antrópicos | E21: 20 | F21: 80 | G21: 100 | H21: 0 | I21: 100 | J21: % | K21: Adopción de la Metodología EDANA
D22: 2.2.2 Implementación PILOTO de EDANA en zona priorizada | E22: 0 | F22: 20 | G22: 80 | H22: 0 | I22: 100 | J22: % | K22: Avance del piloto EDANA
D23: 2.2.3 Diseño, Gestión e institucionalización operativa de EDANA Corpocesar. | E23: 0 | F23: 0 | G23: 0.5 | H23: 0.5 | I23: 1 | J23: No. | K23: EDANA en operación
C25: 2.3 Gestión de conocimiento e implementación de medidas para la reducción del riesgo ambiental en áreas prioritarias del dpto. del Cesar. | D25: 2.3.1 Gestión y ejecución de Acciones de conocimiento para la reducción del riesgo asociado al cambio climático, enmarcadas en la GRD. (Estudios de detalle) | E25: 1 | F25: 1 | G25: 1 | H25: 0 | I25: 3 | J25: No. | K25: Acciones de conocimiento del riesgo ejecutadas
D26: 2.3.2 Gestión e implementación de Medidas estructurales y/o proyectos para la REDUCCION del riesgo | E26: 10 | F26: 90 | G26: 100 | H26: 0 | I26: 100 | J26: Porcentaje | K26: Medidas estructurales ejecutadas
D27: 2.3.3 Gestión, implementación y evaluación de Medidas no estructurales y/o proyectos para la REDUCCION del riesgo | E27: 0 | F27: 1 | G27: 2 | H27: 2 | I27: 5 | J27: No. | K27: Medidas no estructurales ejecutadas
E28: 0 | F28: 1 | G28: 2 | H28: 2 | I28: 5 | J28: No. | K28: Medidas no estructurales evaluadas
C30: 2.4 Gestión integral del recurso hídrico y materialización de la ZOAT en el area de jurisdiccion de Corpocesar. | D30: 2.4.1 Desarrollo de instrumentos de planificación y administración del recurso hídrico, y contribución a la ejecución de Plan Hídrico Nacional -PHN- fase III, en el marco de la PNGIRH. | E30: 0 | F30: 1 | G30: 2 | H30: 1 | I30: =SUM(E30:H30) -> 4 | J30: No. | K30: Fases de nuevos POMCAS adelantadas (4 fases)
E31: 4 | F31: 8 | G31: 8 | H31: 8 | I31: 28 | J31: No. | K31: Acciones de POMCA implementadas (componentes de la fase 4)
E32: 8 | F32: 8 | G32: 8 | H32: 8 | I32: 8 | J32: no | K32: POMCA con seguimiento, coordinación y evaluación/año
E33: 0 | F33: 1 | G33: 1 | H33: 1 | I33: 3 | J33: No. | K33: Nuevas Fases de los PMA de Microcuenca formulados.
E34: 0 | F34: 1 | G34: 2 | H34: 2 | I34: 5 | J34: No. | K34: Acciones de PMA de Microcuencas Implementadas/año
E35: 1 | F35: 2 | G35: 2 | H35: 2 | I35: 7 | K35: Acciones de PMA de Acuíferos Implementadas/año
E36: 0 | F36: 1 | G36: 1 | H36: 1 | I36: 3 | J36: No. | K36: Otras acciones de planeación y gestión de Acuíferos Implementadas/año
D37: 2.4.2 Gestión, formulación e Implementación de PORH. | E37: 0 | F37: 0 | G37: 0.5 | H37: 1 | I37: 1 | J37: No. | K37: Nuevo PORH formulado (S/. Prioridad)
E38: 1 | F38: 3 | G38: 3 | H38: 3 | I38: 10 | J38: No. | K38: Acciones de PORH implementadas/plan (R. Cesar, Calenturitas y Chiriaimo).
D39: 2.4.3 Control, seguimiento y apoyo a implementación de los PSMV y PUEAA aprobados por la Corporación e implementación de acciones para el uso eficiente y descontaminación del recurso hídrico en el dpto. del Cesar. (armonización con proyecto 4.1) | E39: 25 | F39: 25 | G39: 25 | H39: 25 | I39: 25 | J39: No. | K39: PSMV´s con seguimiento/año
E40: 1 | F40: 1 | G40: 1 | H40: 1 | I40: 4 | J40: No. | K40: STAR apoyados (medida estructural y no estructural para disminuir la contaminación hídrica)/año
E41: 100 | F41: 100 | G41: 100 | H41: 100 | I41: 100 | J41: % | K41: Cobertura de PUEAA con seguimiento (PUEAA seguimiento/Aprobados)
D42: 2.4.4 Acotamiento de rondas hídricas e incorporación a las Determinantes ambientales (Cuerpos de agua priorizados: R. Guatapurí no 1). Armonización con el proyecto 3.1 | E42: 0 | F42: 0.3 | G42: 0.7 | H42: 1 | I42: 2 | J42: No. | K42: Ronda hídrica acotada/año
D43: 2.4.5 Estructuración e implementación de una estrategia integral para la recuperación de ecosistemas en la cuenca del río Cesar (tipo APP). En armonía con el programa 5 y la actividad 2.4.2 | E43: 10 | F43: 30 | G43: 60 | H43: 40 | I43: 100 | J43: % | K43: Avance de la Estrategia integral estructurada e implementada
D44: 2.4.6 Instalación de las denominadas "plataformas colaborativas" con el MADS, para la articulación de inversiones y acciones para la recuperación de ecosistemas degradados en torno a cuencas hidrográficas. | E44: 1 | F44: 1 | G44: 1 | H44: 1 | I44: 1 | J44: No. | K44: Plataforma colaborativa CAR-MADS, en operación
B46: 3. OCUPACIÓN TERRITORIAL INTEGRAL | C46: 3.1 Fortalecimiento del proceso de Ordenamiento Territorial como estrategia para promover el desarrollo terrirorial sostenible, en el dpto del Cesar. | D46: 3.1.1 Actualización de las determinantes ambientales para el Ordenamiento territorial (énfasis en cambio climático, GRD, suelo suburbano, EEP) | E46: 50 | F46: 100 | G46: 0 | H46: 0 | I46: 100 | J46: % | K46: Avance de Determinantes Ambientales revisadas, actualizadas y socializadas
D47: 3.1.2 Socialización y divulgación de las DA para el OT (cartografía temática compartida) | E47: 0 | F47: 100 | G47: 0 | H47: 0 | I47: 100
...

Sheet ANEXO 1. MATRIZ DE SEGUIMIENTO
A2: ANEXO 1. MATRIZ DE SEGUIMIENTO A LA GESTIÓN Y AVANCE EN LAS METAS FÍSICAS Y FINANCIERAS DEL PLAN DE ACCIÓN.
A3: CORPORACIÓN AUTÓNOMA REGIONAL DEL CESAR - CORPOCESAR MATRIZ DE SEGUIMIENTO DEL PLAN DE ACCIÓN 2016 - 2019 AVANCE EN LAS METAS FÍSICAS Y FINANCIERAS DEL PLAN DE ACCIÓN
A4: VIGENCIA EVALUADA (AÑO): 2021 acumulado 2020-2023 PERIODO EVALUADO (I SEMESTRE): _(2021)
A5: (1) PROGRAMAS - PROYECTOS DEL PLAN 2020-2023 (inserte filas cuando sea necesario) | B5: COMPORTAMIENTO META FISICA PLAN DE ACCION TRIENAL | O5: META FINANCIERA PLAN DE ACCION | X5: (20) OBSERVACIONES | Y5: (27) PROGRAMA DE INVERSIÓN PUBLICA A LA QUE APORTA | Z5: (28) IMG AL QUE APORTA | AA5: (29) ODS AL QUE LE APORTA
B6: (2) UNIDAD DE MEDIDA | C6: (3) META FISICA ANUAL (Según unidad de medida) | D6: (4) AVANCE DE LA META FISICA (Según unidad de medida y Periodo Evaluado) | E6: (5) PORCENTAJE DE AVANCE FISICO % (Periodo Evaluado) ((4/3)*100) | F6: (5-A) DESCRIPCIÓN DEL AVANCE (Se puede describir en texto lo que se desea aclarar del avance númerico respectivo) | G6: (6) PORCENTAJE DE AVANCE PROCESO DE GESTION DE LA META FISICA (aplica unicamente para el informe del primer semestre) | H6: (7) META FISICA PERIODO DEL PLAN (Según unidad de medida) | I6: (8) ACUMULADO DE LA META FISICA (Según unidad de medida) | J6: (9) PORCENTAJE DE AVANCE FISICO ACUMULADO % ((8/7)*100) | K6: (10) PONDERACIONES DE PROGRAMAS Y PROYECTOS (OPCIONAL DE ACUERDO AL PLAN) | L6: % DE AVANCE PONDERADO POR ACTIVIDAD - (Api) | M6: FRACCIÓN DE PORCENTAJE AVANCE PONDERADO POR ACTIVIDAD RESPECTO AL PLAN TOTAL (Fapi) | N6: DETERMINACIÓN DEL PORCENTAJE PONDERADO DE AVANCE DEL PLAN ∑Fapi | O6: (11) META FINANCIERA ANUAL ($) | P6: (12) AVANCE DE LA META FINANCIERA (Recursos comprometidos periodo Evaluado) ($) | Q6: (13) PORCENTAJE DEL AVANCE FINANCIERO % (Periodo Evaluado) ((12/11)*100) | R6: (14) AVANCE DE LOS RECURSOS OBLIGADOS $ | S6: (15) PORCENTAJE DE AVANCE DE LOS RECURSOS OBLIGADOS ((14/12)*100) | T6: (16) RESERVA PRESUPUESTAL $ (12-14) | U6: (17) META FINANCIERA PERIODO DEL PLAN ($) | V6: (18) ACUMULADO DE LA META FINANCIERA $ | W6: (19) PORCENTAJE DE AVANCE FINANCIERO ACUMULADO % ((15/14)*100)
A7: ='TABLA 7 ESTRUCTURA PROGRAMÁTICA'!B8 -> 1. RESTAURACIÓN ECOLÓGICA VERIFICABLE Y SUSTENTABLE | K7: 0.2
A8: ='TABLA 7 ESTRUCTURA PROGRAMÁTICA'!C8 -> 1.1. Gestión e implentación de acciones integrales para la restauración ecológica en el departamento del Cesar | E8: =E9*$K9+E10*$K10+E11*$K11+E12*$K12 -> 1 | G8: =G9*$K9 -> 0.2 | J8: =J9*$K9 -> 0.2 | K8: 0.6
A9: ='TABLA 7 ESTRUCTURA PROGRAMÁTICA'!D8 -> 1.1.1 Identificación y priorización de las zonas prioritarias para restaurar y recuperar en las 5 ERE del departamento | B9: ='TABLA 7 ESTRUCTURA PROGRAMÁTICA'!K8 -> ERE con zonas identificadas y priorizadas para restaurar y recuperar. | C9: 2 | D9: 2 | E9: =IF(C9=0,"N.A",(D9/C9)*1) -> 1 | F9: Se priorizó la ecorregión Ciénaga de Zapatosa, áreas para restaurar en el PNR Perijá y a través de la Construcción del portafolio de proyectos en núcleos activos de deforestación y del portafolio de áreas prioritarias para las compensaciones orientadas a la conservación de la biodiversidad, restauración ecológica y el desarrollo sostenible en jurisdicción de CORPOCESAR, se establecieron dichas áreas | G9: =E9 -> 1 | H9: ='TABLA 7 ESTRUCTURA PROGRAMÁTICA'!I8 -> 5 | I9: =G9 -> 1 | J9: =I9 -> 1 | K9: 0.2 | L9: =IF(C9=0,E9,(G9*K9)) -> 0.2 | M9: =IF(L9="N.A","N.A",L9*$K$7*$K$8) -> 0.024 | N9: =IF(M9="N.A",0,0) -> 0 | O9: 1961942882 | P9: 1940681282 | Q9: =P9/O9 -> 0.98916299 | R9: =P9 -> 1940681282 | S9: =R9/P9 -> 1 | T9: =P9-R9 -> 0 | U9: =O9 -> 1961942882 | V9: =O9 -> 1961942882 | W9: =V9/U9 -> 1 | Y9: 3202 – Conservación de la biodiversidad y sus servicios ecosistémicos. | Z9: 15. Porcentaje de áreas de ecosistemas en restauración, rehabilitación y reforestación | AA9: 15. Promover el uso sostenible de los ecosistemas terrestres, luchar contra la desertificación, detener e invertir la degradación de las tierras y frenar la pérdida de la diversidad biológica
A10: ='TABLA 7 ESTRUCTURA PROGRAMÁTICA'!D9 -> 1.1.2 Formulación e implementación de proyectos de restauración Ecològica Integral - REI-en alianzas con actores claves. (metodologia SER) | B10: ='TABLA 7 ESTRUCTURA PROGRAMÁTICA'!K9 -> Proyectos de restauración Ecologica Integral - REI- gestionados y en implementaciòn. | C10: 1 | D10: 2 | E10: 1 | F10: Se encuentra en proceso de ejecución el proyecto para la restauración de áreas degradadas en las Microcuencas del Rio Magiriaimo y Bosque Seco en el Municipio de Becerril | G10: =E10 -> 1 | H10: ='TABLA 7 ESTRUCTURA PROGRAMÁTICA'!I9 -> 2 | I10: =E10 -> 1 | J10: =I10 -> 1 | K10: 0.6 | L10: =IF(C10=0,E10,(E10*K10)) -> 0.6 | M10: =IF(L10="N.A","N.A",L10*$K$7*$K$8) -> 0.072 | N10: =(IF(M10="N.A",0,M10))+N9 -> 0.072
A11: ='TABLA 7 ESTRUCTURA PROGRAMÁTICA'!D10 -> 1.1.3 Monitoreo, seguimiento y evaluaciòn de las acciones de REI en implementaciòn | B11: ='TABLA 7 ESTRUCTURA PROGRAMÁTICA'!K10 -> Sistema de monitoreo y reporte implementado por proyecto. | C11: 1 | D11: 1 | E11: =IF(C11=0,"N.A",(D11/C11)*1) -> 1 | F11: Se han realizado monitoreos y seguimientos a las acciones realizadas en ejecucion del proyecto Magiriaimo. | G11: =E11 -> 1 | H11: ='TABLA 7 ESTRUCTURA PROGRAMÁTICA'!I10 -> 2 | I11: =E11 -> 1 | J11: =I11 -> 1 | K11: 0.1 | L11: =IF(C11=0,E11,(E11*K11)) -> 0.1 | M11: =IF(L11="N.A","N.A",L11*$K$7*$K$8) -> 0.012 | N11: =(IF(M11="N.A",0,M11))+N10 -> 0.084
A12: ='TABLA 7 ESTRUCTURA PROGRAMÁTICA'!D11 -> 1.1.4 Reporte, comunicación y divulgación de la evolución del proceso de REI. | C12: 1 | D12: 1 | E12: =IF(C12=0,"N.A",(D12/C12)*1) -> 1 | F12: Se han realizado publicaciones de comunicaciones y boletines de la evolución de los procesos de restauración ecológica en la página web de CORPOCESAR. https://www.corpocesar.gov.co/boletines_de_prensa-1.html, así como para la identificación de alertas tempranas de deforestación. | G12: =E12 -> 1 | H12: ='TABLA 7 ESTRUCTURA PROGRAMÁTICA'!I11 -> 2 | I12: =E12 -> 1 | J12: =I12 -> 1 | K12: 0.1 | L12: =IF(C12=0,E12,(E12*K12)) -> 0.1 | M12: =IF(L12="N.A","N.A",L12*$K$7*$K$8) -> 0.012 | N12: =(IF(M12="N.A",0,M12))+N11 -> 0.096
A13: AVANCE | J13: =I13 -> 0 | L13: =SUM(L9:L12) -> 1 | M13: =IF(L13="N.A","N.A",L13*$K$7*$K$8) -> 0.12
A14: 1. RESTAURACIÓN ECOLÓGICA VERIFICABLE Y SUSTENTABLE | K14: 0.2
A15: ='TABLA 7 ESTRUCTURA PROGRAMÁTICA'!C12 -> 1.2 Coordinación y Desarrollo de portafolios de sistemas sostenibles de conservación - SSC- (conservación, restauración, manejo sostenible, agroforestales, reconversión productiva) en el departamento del Cesar | E15: =E16*$K16+E17*$K17+E18*$K18+E19*$K19 -> 0.6 | G15: =G16*$K16+G17*$K17 -> 0.2 | J15: =J16*$K16+J17*$K17 -> 0.2 | K15: 0.4
A16: ='TABLA 7 ESTRUCTURA PROGRAMÁTICA'!D12 -> 1.2.1 Coordinación, concienciación de actores entorno al proceso de visión de sistemas sostenibles de conservación -SSC- | B16: ='TABLA 7 ESTRUCTURA PROGRAMÁTICA'!K12 -> Grupos de actores conformados para el desarrollo del SSC | C16: 1 | D16: 3 | E16: 1 | F16: A)Se conformaron actores en marco del contrato N° 19-7-0008-0-2020 para la conservación del bosque seco tropical Bs-T, a través de un núcleo de restauración/conservación comunitaria que contribuye a la conectividad y protección en el municipio de Becerril, departamento del Cesar, B) también el proyecto de 10 hectáreas de unidades agroforestales con frutales de mango, cultivo de patilla y arboles maderables con su correspondiente aislamiento y facilidades de riego que se desarrolla en la comunidad indígena de Tezhumque, perteneciente al pueblo Wiwa, C) Proyecto para la Restauración de Áreas Degradadas en las microcuencas del rio Magiriamo jurisdicción de CORPOCESAR. | G16: =E16 -> 1 | H16: ='TABLA 7 ESTRUCTURA PROGRAMÁTICA'!I12 -> 3 | I16: =G16 -> 1 | J16: =I16 -> 1 | K16: 0.2 | L16: =IF(C16=0,G16,(G16*K16)) -> 0.2 | M16: =IF(L16="N.A","N.A",L16*$K$14*$K$15) -> 0.016 | N16: =(IF(M16="N.A",0,M16))+N12 -> 0.112 | O16: 400000000 | P16: 212096436 | Q16: =P16/O16 -> 0.53024109 | R16: =P16 -> 212096436 | S16: =R16/P16 -> 1 | T16: =P16-R16 -> 0 | U16: =O16 -> 400000000 | W16: =V16/U16 -> 0 | Y16: 3202 – Conservación de la biodiversidad y sus servicios ecosistémicos. | Z16: 15. Porcentaje de áreas de ecosistemas en restauración, rehabilitación y reforestación | AA16: 15. Promover el uso sostenible de los ecosistemas terrestres, luchar contra la desertificación, detener e invertir la degradación de las tierras y frenar la pérdida de la diversidad biológica
A17: ='TABLA 7 ESTRUCTURA PROGRAMÁTICA'!D13 -> 1.2.2 Diseño conjunto de un modelo y estrategias para la implementación de SSC | B17: ='TABLA 7 ESTRUCTURA PROGRAMÁTICA'!K13 -> Porcentaje de avance del modelo de SSC | C17: 70 | D17: 0 | E17: =IF(C17=0,"N.A",(D17/C17)*1) -> 0 | F17: Esta actividad será realizada en el segundo semestre del año | G17: =E17 -> 0 | H17: ='TABLA 7 ESTRUCTURA PROGRAMÁTICA'!I13 -> 100 | I17: =E17 -> 0 | J17: =I17 -> 0 | K17: 0.4 | L17: =IF(C17=0,E17,(E17*K17)) -> 0 | M17: =IF(L17="N.A","N.A",L17*$K$14*$K$15) -> 0 | N17: =(IF(M17="N.A",0,M17))+N16 -> 0.112
A18: ='TABLA 7 ESTRUCTURA PROGRAMÁTICA'!D14 -> 1.2.3 Gestión sinérgica para la promoción y creación de capacidad técnica para la implementación del manejo SSC. | B18: ='TABLA 7 ESTRUCTURA PROGRAMÁTICA'!K14 -> Grupos asistidos técnicamente | C18: 1 | D18: 3 | E18: 1 | F18: A) Se desarrolla asistencia técnica en marco del contrato N° 19-7-0008-0-2020 para la conservación del bosque seco tropical Bs-T, a través de un núcleo de restauración/conservación comunitaria que contribuye a la conectividad y protección en el municipio de Becerril, departamento del Cesar B) en la comunidad indígena de Tezhumque, perteneciente al pueblo Wiwa, C) proyecto para la Restauración de Áreas Degradadas en las microcuencas del Rio Magiriamo en un área de 10 hectáreas de unidades agroforestales con frutales de mango, cultivo de patilla y arboles maderables, con su correspondiente aislamiento y facilidades de riego. | G18: =E18 -> 1 | H18: ='TABLA 7 ESTRUCTURA PROGRAMÁTICA'!I14 -> 3 | I18: =E18 -> 1 | J18: =I18 -> 1 | K18: 0.2 | L18: =IF(C18=0,E18,(E18*K18)) -> 0.2 | M18: =IF(L18="N.A","N.A",L18*$K$14*$K$15) -> 0.016 | N18: =(IF(M18="N.A",0,M18))+N17 -> 0.128
A19: ='TABLA 7 ESTRUCTURA PROGRAMÁTICA'!D15 -> 1.2.4 Apoyo a la implementación, seguimiento y evaluación de proyectos pilotos y/o estratégicos de SSC. | B19: ='TABLA 7 ESTRUCTURA PROGRAMÁTICA'!K15 -> Proyectos formulados y apoyados con seguimiento y evaluación. | C19: 2 | D19: 3 | E19: 1 | F19: A) Se realiza seguimiento y evaluacion en marco del contrato N° 19-7-0008-0-2020 para la conservación del bosque seco tropical Bs-T, a través de un núcleo de restauración/conservación comunitaria que contribuye a la conectividad y protección en el municipio de Becerril, departamento del Cesar, B) Proyecto de 10 hectáreas de unidades agroforestales con frutales de mango, cultivo de patilla y arboles maderables con su correspondiente aislamiento y facilidades de riego que se desarrolla en la comunidad indígena de Tezhumque, perteneciente al pueblo Wiwa, C) Proyecto para la Restauración de Áreas Degradadas en las microcuencas del rio Magiriamo jurisdicción de CORPOCESAR. | G19: =E19 -> 1 | H19: ='TABLA 7 ESTRUCTURA PROGRAMÁTICA'!I15 -> 5 | I19: =E19 -> 1 | J19: =I19 -> 1 | K19: 0.2 | L19: =IF(C19=0,E19,(E19*K19)) -> 0.2 | M19: =IF(L19="N.A","N.A",L19*$K$14*$K$15) -> 0.016 | N19: =(IF(M19="N.A",0,M19))+N18 -> 0.144
A20: AVANCE | J20: =I20 -> 0 | L20: =SUM(L16:L19) -> 0.6
A21: ='TABLA 7 ESTRUCTURA PROGRAMÁTICA'!B17 -> 2. GESTIÓN INTEGRAL DEL RIESGO AMBIENTAL, CLIMÁTICO, Y DEL RECURSO HÍDRICO. | K21: 0.2
A22: ='TABLA 7 ESTRUCTURA PROGRAMÁTICA'!C17 -> 2.1 Implementación y evaluación de acciones del Plan Integral de Gestión de Cambio Climático -PIGCC- Territorial del Cesar | E22: =E23*$K23+E24*$K24+E25*$K25 -> 0.9 | G22: =G23*$K23+G25*$K25 -> 0.8 | J22: =J23*$K23+J25*$K25 -> 0.8 | K22: 0.3
A23: ='TABLA 7 ESTRUCTURA PROGRAMÁTICA'!D17 -> 2.1.1 Gestión e implementación de Estrategias y/o Proyectos de mitigación y adaptación al cambio climático, en el marco de los planteamientos del -PIGCC- Territorial del Cesar | B23: ='TABLA 7 ESTRUCTURA PROGRAMÁTICA'!K17 -> No. de estrategias y/o proyectos del PIGCC, implementados o promovidos | C23: 3 | D23: 3 | E23: =IF(C23=0,"N.A",(D23/C23)*1) -> 1 | F23: 1.) En la actualidad se está formulando un proyecto a través del convenio de cooperación número 041 de 2021 entre Fondo Acción y CORPOCESAR, que busca la implementación de medidas integrales para la mitigación de Gases de Efecto Invernadero (GEI), mediante la preservación y restauración de coberturas vegetales nativas e implementación de prácticas agrícolas sostenibles ambientalmente en áreas estratégicas del Parque Natural Regional Serranía del Perijá y Cuenca Garupal Diluvio. (2) Se formuló y está en proceso de contratación el proyecto denominado: IMPLEMENTACIÓN DE ACCIONES DE MITIGACIÓN DEL CAMBIO CLIMÁTICO EN ZONAS RURALES DE LOS MUNICIPIOS DE VALLEDUPAR, LA PAZ, MANAURE, SAN DIEGO Y AGUSTÍN CODAZZI DEL DEPARTAMENTO DEL CESAR el cual se ejecutará en la cuenca Garupal Diluvio y en el Parque Natural Regional Serranía del Perijá, comprende la construcción de 625 estufas ecológicas, talleres de capacitación y socialización del PIGCCT Cesar 2032. Por valor total de $2.114.000.000. (3) Se encuentra en etapa de Formulación del Plan de Manejo del Distrito Regional de Manejo Integrado DRMI complejo Cenagoso de Zapatosa CCZ. | G23: =E23 -> 1 | H23: ='TABLA 7 ESTRUCTURA PROGRAMÁTICA'!I17 -> 15 | I23: =E23 -> 1 | J23: =I23 -> 1 | K23: 0.6 | L23: =IF(C23=0,E23,(E23*K23)) -> 0.6 | M23: =IF(L23="N.A","N.A",L23*$K$21*$K$22) -> 0.036 | N23: =(IF(M23="N.A",0,M23))+N19 -> 0.18 | O23: 400000000 | P23: 219635027 | Q23: =P23/O23 -> 0.54908757 | R23: =P23 -> 219635027 | S23: =R23/P23 -> 1 | T23: =P23-R23 -> 0 | U23: =O23 -> 400000000 | W23: =V23/U23 -> 0 | Y23: 3206 – Gestión del cambio climático para un desarrollo bajo en carbono y resiliente al clima. | Z23: 7. Porcentaje de entes territoriales asesorados en la incorporación, planificación y ejecución de acciones relacionadas con cambio climático en el marco de los instrumentos de planificación territorial
A24: ='TABLA 7 ESTRUCTURA PROGRAMÁTICA'!D18 -> 2.1.2 Implementación del SIA de cambio climático dptal y apoyo efectivo al sistema de Registro Nacional de Reducción de Emisiones de Gases de Efecto Invernadero - RENARE | B24: ='TABLA 7 ESTRUCTURA PROGRAMÁTICA'!K18 -> Avance del SIA -CC y apoyo a RENARE | C24: 20 | D24: 10 | E24: =IF(C24=0,"N.A",(D24/C24)*1) -> 0.5 | F24: En funcionamiento el Link corpocesar (condiciones alertas ambientales, boletin especial sobre ciclones tropicales, variabilidad climática cambio climático, pronóstico del tiempo) https://www.corpocesar.gov.co/files/BOLETIN%20ESPECIAL%20SOBRE%20CICLONES%20TROPICALES%20_%2015%20DE%20JULIO%20DE%202021.pdf | G24: =E24 -> 0.5 | H24: ='TABLA 7 ESTRUCTURA PROGRAMÁTICA'!I18 -> 100 | I24: =E24 -> 0.5 | J24: =I24 -> 0.5 | K24: 0.2 | L24: =IF(C24=0,E24,(E24*K24)) -> 0.1 | M24: =IF(L24="N.A","N.A",L24*$K$21*$K$22) -> 0.006 | N24: =(IF(M24="N.A",0,M24))+N23 -> 0.186
A25: ='TABLA 7 ESTRUCTURA PROGRAMÁTICA'!D19 -> 2.1.3 Fortalecimiento de la participación y gestión de Corpocesar, en el nodo Regional de Cambio Climático -NRCC- del Caribe | B25: ='TABLA 7 ESTRUCTURA PROGRAMÁTICA'!K19 -> Agenda intersectorial del NRCC Caribe articulada y apoyada. | C25: 100 | D25: 100 | E25: =IF(C25=0,"N.A",(D25/C25)*1) -> 1 | F25: 1) Se participó activamente en el primer encuentro del NORECCI, donde se presentaron los avances de iniciativas en la región, y se llevó a cabo un taller para identificar las necesidades actuales de los integrantes del Nodo y otros actores relevantes del orden regional. 2) Se participó en el taller para la Construccion del Plan de Accion del Nodo Regional de Cambio Climatico Caribe e Insular - NORECCI. | G25: =E25 -> 1 | H25: ='TABLA 7 ESTRUCTURA PROGRAMÁTICA'!I19 -> 100 | I25: =E25 -> 1 | J25: =I25 -> 1 | K25: 0.2 | L25: =IF(C25=0,E25,(E25*K25)) -> 0.2 | M25: =IF(L25="N.A","N.A",L25*$K$21*$K$22) -> 0.012 | N25: =(IF(M25="N.A",0,M25))+N24 -> 0.198
A26: AVANCE | J26: =I26 -> 0 | L26: =SUM(L23:L25) -> 0.9
A27: =A21 -> 2. GESTIÓN INTEGRAL DEL RIESGO AMBIENTAL, CLIMÁTICO, Y DEL RECURSO HÍDRICO. | K27: 0.2
A28: ='TABLA 7 ESTRUCTURA PROGRAMÁTICA'!C21 -> 2.2 Implementación de acciones para la operación de la EDANA en el área de jurisdicción de Corpocesar. | E28: =E29*$K29+E30*$K30 -> 0.875 | J28: =J29*$K29 -> 0.375 | K28: 0.1
A29: ='TABLA 7 ESTRUCTURA PROGRAMÁTICA'!D21 -> 2.2.1 Gestión para la implementación de la Metodología que permita al sector ambiente realizar una evaluación de daños y necesidades ambientales -EDANA en zonas continentales impactadas por desastres naturales, socionaturales y/o antrópicos | B29: ='TABLA 7 ESTRUCTURA PROGRAMÁTICA'!K21 -> Adopción de la Metodología EDANA | C29: 80 | D29: 60 | E29: =IF(C29=0,"N.A",(D29/C29)*1) -> 0.75 | F29: Ante la respuesta dada por el MADS en el segundo semestre del 2020 para el avance en la adopción de la metodología (EDANA - C), se sostuvo la segunda jornada de capacitación dictada por el MADS al GIT de la coordinación para la GRD de CORPOCESAR, para el comienzo del aprendizaje de la metodología. Para el efecto, se tomó como base la actuación de la entidad, a través del grupo interno de trabajo de la Coordinación para la GRD, la evaluación de los efectos de incendios de la cobertura vegetal ocurridos en el mes de marzo de 2021 en las cuencas de los ríos Garupal y Diluvio, en el piedemonte de la Sierra Nevada de Santa Marta, municipio de Valledupar. El informe respectivo está en proceso de ajuste, luego de la elaboración de la primera versión del mismo durante el taller de capacitación a que se ha hecho referencia. La inspección de campo, base para la EDANA-C, se llevó a cabo mancomunadamente con la Oficina Jurídica de la entidad, mediante una visita desarrollada el 31 de marzo de 2021, para la atención de una queja presentada por personas que habitan en las zonas afectadas por los incendios en citas. El informe a la Oficina Jurídica se rindió el día 07 de abril de 2021. El Informe definitivo de la aplicación de la metodología EDANA - C sobre el caso se envió al MADS el 18 de junio y en oficio de la SGAP 6/7/2021. | G29: =E29 -> 0.75 | H29: ='TABLA 7 ESTRUCTURA PROGRAMÁTICA'!I21 -> 100 | I29: =E29 -> 0.75 | J29: =I29 -> 0.75 | K29: 0.5 | L29: =IF(C29=0,E29,(E29*K29)) -> 0.375 | M29: =IF(L29="N.A","N.A",L29*$K$27*$K$28) -> 0.0075 | N29: =(IF(M29="N.A",0,M29))+N25 -> 0.2055 | O29: 200000000 | P29: 25347900 | Q29: =P29/O29 -> 0.1267395 | R29: =P29 -> 25347900 | S29: =R29/P29 -> 1 | T29: =P29-R29 -> 0 | U29: =O29 -> 200000000 | W29: =V29/U29 -> 0 | Y29: 3206 – Gestión del cambio climático para un desarrollo bajo en carbono y resiliente al clima. | AA29: 13. Adoptar medidas urgentes para combatir el cambio climático y sus efectos
A30: ='TABLA 7 ESTRUCTURA PROGRAMÁTICA'!D22 -> 2.2.2 Implementación PILOTO de EDANA en zona priorizada | B30: ='TABLA 7 ESTRUCTURA PROGRAMÁTICA'!K22 -> Avance del piloto EDANA | C30: 20 | D30: 20 | E30: =IF(C30=0,"N.A",(D30/C30)*1) -> 1 | F30: La implementación completa del piloto de la metodología EDANA-C se podrá dar en la medida en que se haga presencia en las zonas que eventualmente resultaron afectadas por los eventos naturales desastrosos, con el fin de complementar la información destinada a la formulación de las acciones propuestas en el respectivo informe de la metodología EDANA-C. La ejecución de estas medidas o propuestas pertenece a una fase posterior, en la cual la aplicación de la metodología EDANA-C ya ha sido finalizada y no se relaciona con la implementación de la metodología en sí misma. es preciso mencionar que la metodología EDANA - C se encuentra en proceso de formulación por parte del MADS, se espera sea publicada de manera oficial en el mes de noviembre de 2021. | G30: =E30 -> 1 | H30: ='TABLA 7 ESTRUCTURA PROGRAMÁTICA'!I22 -> 100 | I30: =E30 -> 1 | J30: =I30 -> 1 | K30: 0.5 | L30: =IF(C30=0,E30,(E30*K30)) -> 0.5 | M30: =IF(L30="N.A","N.A",L30*$K$27*$K$28) -> 0.01 | N30: =(IF(M30="N.A",0,M30))+N29 -> 0.2155
A31: ='TABLA 7 ESTRUCTURA PROGRAMÁTICA'!D23 -> 2.2.3 Diseño, Gestión e institucionalización operativa de EDANA Corpocesar. | B31: ='TABLA 7 ESTRUCTURA PROGRAMÁTICA'!K23 -> EDANA en operación | C31: 0 | E31: =IF(C31=0,"N.A",(D31/C31)*1) -> N.A | G31: =E31 -> N.A | H31: ='TABLA 7 ESTRUCTURA PROGRAMÁTICA'!I23 -> 1 | I31: =E31 -> N.A | J31: =I31 -> N.A | K31: 0 | L31: =IF(C31=0,E31,(E31*K31)) -> N.A | M31: =IF(L31="N.A","N.A",L31*$K$27*$K$28) -> N.A | N31: =(IF(M31="N.A",0,M31))+N30 -> 0.2155
A32: AVANCE | J32: =I32 -> 0 | L32: =SUM(L29:L31) -> 0.875
A33: =A21 -> 2. GESTIÓN INTEGRAL DEL RIESGO AMBIENTAL, CLIMÁTICO, Y DEL RECURSO HÍDRICO. | K33: 0.2
A34: ='TABLA 7 ESTRUCTURA PROGRAMÁTICA'!C25 -> 2.3 Gestión de conocimiento e implementación de medidas para la reducción del riesgo ambiental en áreas prioritarias del dpto. del Cesar. | E34: =E35*$K35+E36*$K$36+E37*$K37+E38*$K$38 -> 0.59666667 | G34: =G35*$K35+G36*$K$36 -> 0.29666667 | J34: =J35*$K35 -> 0.03 | K34: 0.3
A35: ='TABLA 7 ESTRUCTURA PROGRAMÁTICA'!D25 -> 2.3.1 Gestión y ejecución de Acciones de conocimiento para la reducción del riesgo asociado al cambio climático, enmarcadas en la GRD. (Estudios de detalle) | B35: ='TABLA 7 ESTRUCTURA PROGRAMÁTICA'!K25 -> Acciones de conocimiento del riesgo ejecutadas | C35: 1 | D35: 0.1 | E35: =IF(C35=0,"N.A",(D35/C35)*1) -> 0.1 | F35: Se suscribió el Convenio No.19-7-0004-0-2021, cuyo objeto es: Aunar esfuerzos técnicos, administrativos y financieros para la realización de estudios básicos de riesgo de desastres del municipio de La Paz, Cesar, en el marco del decreto 1807 de 2014 (compilado decreto 1077 de 2015) así como la formulación de la agenda de cambio climático para el Municipio, en el marco de la Ley 1931 de 2018 suscrito con el municipio de La Paz, el cual finalizo la etapa de contratación, será ejecutado en el segundo semestre de 2021 | G35: =E35 -> 0.1 | H35: ='TABLA 7 ESTRUCTURA PROGRAMÁTICA'!I25 -> 3 | I35: =G35 -> 0.1 | J35: =I35 -> 0.1 | K35: 0.3 | L35: =IF(C35=0,G35,(G35*K35)) -> 0.03 | M35: =IF(L35="N.A","N.A",L35*$K$33*$K$34) -> 0.0018 | N35: =(IF(M35="N.A",0,M35))+N31 -> 0.2173 | O35: 1500000000 | P35: 1.4440079e+09 | Q35: =P35/O35 -> 0.9626719 | R35: =P35 -> 1.4440079e+09 | S35: =R35/P35 -> 1 | T35: =P35-R35 -> 0 | U35: =O35 -> 1500000000 | W35: =V35/U35 -> 0 | Y35: 3206 – Gestión del cambio climático para un desarrollo bajo en carbono y resiliente al clima. | Z35: 7. Porcentaje de entes territoriales asesorados en la incorporación, planificación y ejecución de acciones relacionadas con cambio climático en el marco de los instrumentos de planificación territorial | AA35: 13. Adoptar medidas urgentes para combatir el cambio climático y sus efectos
A36: ='TABLA 7 ESTRUCTURA PROGRAMÁTICA'!D26 -> 2.3.2 Gestión e implementación de Medidas estructurales y/o proyectos para la REDUCCION del riesgo | B36: ='TABLA 7 ESTRUCTURA PROGRAMÁTICA'!K26 -> Medidas estructurales ejecutadas | C36: 90 | D36: 60 | E36: =IF(C36=0,"N.A",(D36/C36)*1) -> 0.66666667 | F36: Este indicador se está ejecutando mediante Contrato N° 19-6-0023-0-2021cuyo objeto es "MEDIDAS ESTRUCTURALES PARA PREVENCION DE INUNDACIONES EN GUACOCHE A TRAVES DE LA RECUPERACION HIDRAULICA Y AMBIENTAL DE LA LAGUNA DE GUACOCHE Y CONTROL DEL DESBORDAMIENTO DEL CAÑO EL ARROYITO EN EL CORREGIMIENTO DE GUACOCHE, MUNICIPÍO DE VALLEDUPAR. | G36: =E36 -> 0.66666667 | H36: ='TABLA 7 ESTRUCTURA PROGRAMÁTICA'!I26 -> 100 | I36: =E36 -> 0.66666667 | J36: =I36 -> 0.66666667 | K36: 0.4 | L36: =IF(C36=0,E36,(E36*K36)) -> 0.26666667 | M36: =IF(L36="N.A","N.A",L36*$K$33*$K$34) -> 0.016 | N36: =(IF(M36="N.A",0,M36))+N35 -> 0.2333
A37: ='TABLA 7 ESTRUCTURA PROGRAMÁTICA'!D27 -> 2.3.3 Gestión, implementación y evaluación de Medidas no estructurales y/o proyectos para la REDUCCION del riesgo | B37: ='TABLA 7 ESTRUCTURA PROGRAMÁTICA'!K27 -> Medidas no estructurales ejecutadas | C37: 1 | D37: 3 | E37: 1 | F37: A) Jornadas de campo en la margen derecha del río Guatapurí y zonas aledañas (Cerro de Hurtado y margen derecha del río) caracterizando las situaciones que en materia de amenaza, vulnerabilidad y riesgo de origen natural se presentan en la zona en citas. De estas actuaciones se rindieron los informes correspondientes que sirvieron de base para que la Dirección General y la Oficina Jurídica de la entidad emitieran comunicados dirigidos a la Alcaldía del Municipio de Valledupar, ordenando que se adelantaran acciones que impidan la degradación en la ribera del río Guatapurí a su paso por las inmediaciones de la ciudad de Valledupar. B) Se participó en jornadas de capacitación y organización comunitaria en materia de prevención de incendios forestales, en la zona de la unidad de bosque seco tropical de las cuencas de los ríos Garupal y Diluvio (en el marco de la ECC Garupal - Diluvio). C) Se ejecutaron actividades de evaluación de áreas afectadas por incendios de la cobertura vegetal, en las zonas de la vereda Azúcar Buena, La Guitarra, El Saltillo, Las Cumbres, Nuevo Mundo, en las cuales se realizaron charlas de educación ambiental y de prevención de incendios de la cobertura vegetal, así como se recolectó información sobre los presuntos responsables de las actividades (quemas) que han causado desastres en zonas de importancia ambiental además de los miembros de la empresa que opera la red de calidad de aire de CORPOCESAR. D)Se sostuvo reunión con la Dirección Nacional de Bomberos y los CBV del Cesar para analizar las necesidades de apoyo logístico, a partir de lo cual se trabaja en la proyección de estudios previos para la dotación de los cuerpos de bomberos con sede en el Cesar, de equipos para prevención y atención de incendios E) Elaboración de los estudios previos para el plan de atención de incendios y el mapa de riesgo por incendios forestales. se hizo entrega de la estimación del costo de la dotación para un grupo de 15 juegos básicos de equipos para atención de incendios de la cobertura vegetal. | G37: =E37 -> 1 | H37: ='TABLA 7 ESTRUCTURA PROGRAMÁTICA'!I27 -> 5 | I37: =E37 -> 1 | J37: =I37 -> 1 | K37: 0.15 | L37: =IF(C37=0,E37,(E37*K37)) -> 0.15 | M37: =IF(L37="N.A","N.A",L37*$K$33*$K$34) -> 0.009 | N37: =(IF(M37="N.A",0,M37))+N36 -> 0.2423
B38: ='TABLA 7 ESTRUCTURA PROGRAMÁTICA'!K28 -> Medidas no estructurales evaluadas | C38: 1 | D38: 1 | E38: =IF(C38=0,"N.A",(D38/C38)*1) -> 1 | F38: Se realizó un diagnóstico de la margen derecha del río Guatapurí, enfocado en la acequia Guatapurí - Salguero - Los Mayales, en el cual se hizo evidente que el municipio no ha dado cumplimiento a los requerimientos formulados por la entidad en materia de gestión ambiental de la margen derecha del río Guatapurí, a su paso por las inmediaciones de la ciudad de Valledupar. De lo anterior se dio cuenta en informe del 19 de abril de2021, para los fines pertinentes, entregado a las directivas de la entidad y las coordinaciones de seguimiento al aprovechamiento del recurso hídrico, saneamiento básico y de PML-RESPEL. | G38: =E38 -> 1 | H38: ='TABLA 7 ESTRUCTURA PROGRAMÁTICA'!I28 -> 5 | I38: =E38 -> 1 | J38: =I38 -> 1 | K38: 0.15 | L38: =IF(C38=0,E38,(E38*K38)) -> 0.15 | M38: =IF(L38="N.A","N.A",L38*$K$33*$K$34) -> 0.009 | N38: =(IF(M38="N.A",0,M38))+N37 -> 0.2513
A39: AVANCE | J39: =I39 -> 0 | L39: =SUM(L33:L36) -> 0.29666667
A40: =A21 -> 2. GESTIÓN INTEGRAL DEL RIESGO AMBIENTAL, CLIMÁTICO, Y DEL RECURSO HÍDRICO. | K40: 0.2
A41: ='TABLA 7 ESTRUCTURA PROGRAMÁTICA'!C30 -> 2.4 Gestión integral del recurso hídrico y materialización de la ZOAT en el area de jurisdiccion de Corpocesar. | E41: =E42*$K42+E43*$K43+E44*$K44+E45*$K45+E46*$K46+E47*$K47+E48*$K48+E50*$K50+E51*$K51+E52*$K52+E53*$K53+E54*$K54+E55*$K55+E56*$K56 -> 0.43475 | G41: =G43*$K43+G44*$K44+G47*$K47+G50*$K50+G51*$K51+G52*$K52+G53*$K53+G55*$K55+G56*$K56 -> 0.25975 | J41: =J43*$K43+J44*$K44+J47*$K47+J50*$K50+J51*$K51+J52*$K52+J53*$K53+J55*$K55+J56*$K56 -> 0.25975 | K41: 0.3
...

Sheet AVANCE 
A1: PROGRAMA | B1: PROYECTO | C1: AVANCE FISICO | D1: PONDERACION | E1: AVANCE FINANCIERO
A2: ='[2]TABLA 7 ESTRUCTURA PROGRAMÁTICA'!B8 -> 1. RESTAURACIÓN ECOLÓGICA VERIFICABLE Y SUSTENTABLE | B2: ='[2]TABLA 7 ESTRUCTURA PROGRAMÁTICA'!C8 -> 1.1. Gestión e implentación de acciones integrales para la restauración ecológica en el departamento del Cesar | C2: ='ANEXO 1. MATRIZ DE SEGUIMIENTO'!E8 -> 1 | D2: ='[2]ANEXO 1. MATRIZ DE SEGUIMIENTO'!K8 -> 0.6 | E2: ='ANEXO 1. MATRIZ DE SEGUIMIENTO'!Q9 -> 0.98916299
B3: ='[2]TABLA 7 ESTRUCTURA PROGRAMÁTICA'!C12 -> 1.2 Coordinación y Desarrollo de portafolios de sistemas sostenibles de conservación - SSC- (conservación, restauración, manejo sostenible, agroforestales, reconversión productiva) en el departamento del Cesar | C3: ='ANEXO 1. MATRIZ DE SEGUIMIENTO'!E15 -> 0.6 | D3: ='[2]ANEXO 1. MATRIZ DE SEGUIMIENTO'!K15 -> 0.4 | E3: ='ANEXO 1. MATRIZ DE SEGUIMIENTO'!Q16 -> 0.53024109
A4: AVANCE PROGRAMA 1 | C4: =C2*D2+C3*D3 -> 0.84 | E4: =AVERAGE(E2:E3) -> 0.75970204
A5: ='[2]TABLA 7 ESTRUCTURA PROGRAMÁTICA'!B17 -> 2. GESTIÓN INTEGRAL DEL RIESGO AMBIENTAL, CLIMÁTICO, Y DEL RECURSO HÍDRICO. | B5: ='[2]TABLA 7 ESTRUCTURA PROGRAMÁTICA'!C17 -> 2.1 Implementación y evaluación de acciones del Plan Integral de Gestión de Cambio Climático -PIGCC- Territorial del Cesar | C5: ='ANEXO 1. MATRIZ DE SEGUIMIENTO'!E22 -> 0.9 | D5: ='[2]ANEXO 1. MATRIZ DE SEGUIMIENTO'!K22 -> 0.3 | E5: ='[2]ANEXO 1. MATRIZ DE SEGUIMIENTO'!Q23 -> 0.54908757
B6: ='[2]TABLA 7 ESTRUCTURA PROGRAMÁTICA'!C21 -> 2.2 Implementación de acciones para la operación de la EDANA en el área de jurisdicción de Corpocesar. | C6: ='ANEXO 1. MATRIZ DE SEGUIMIENTO'!E28 -> 0.875 | D6: ='[2]ANEXO 1. MATRIZ DE SEGUIMIENTO'!K28 -> 0.1 | E6: ='ANEXO 1. MATRIZ DE SEGUIMIENTO'!Q29 -> 0.1267395
B7: ='[2]TABLA 7 ESTRUCTURA PROGRAMÁTICA'!C25 -> 2.3 Gestión de conocimiento e implementación de medidas para la reducción del riesgo ambiental en áreas prioritarias del dpto. del Cesar. | C7: ='ANEXO 1. MATRIZ DE SEGUIMIENTO'!E34 -> 0.59666667 | D7: ='[2]ANEXO 1. MATRIZ DE SEGUIMIENTO'!K34 -> 0.3 | E7: ='ANEXO 1. MATRIZ DE SEGUIMIENTO'!Q35 -> 0.9626719
B8: ='[2]TABLA 7 ESTRUCTURA PROGRAMÁTICA'!C30 -> 2.4 Gestión integral del recurso hídrico y materialización de la ZOAT en el area de jurisdiccion de Corpocesar. | C8: ='ANEXO 1. MATRIZ DE SEGUIMIENTO'!E41 -> 0.43475 | D8: ='[2]ANEXO 1. MATRIZ DE SEGUIMIENTO'!K41 -> 0.3 | E8: ='ANEXO 1. MATRIZ DE SEGUIMIENTO'!Q42 -> 0.94060818
A9: AVANCE PROGRAMA 2 | C9: =C5*D5+C6*D6+C7*D7+C8*D8 -> 0.666925 | E9: =AVERAGE(E5:E8) -> 0.64477679
A10: ='[2]TABLA 7 ESTRUCTURA PROGRAMÁTICA'!B46 -> 3. OCUPACIÓN TERRITORIAL INTEGRAL | B10: ='[2]TABLA 7 ESTRUCTURA PROGRAMÁTICA'!C46 -> 3.1 Fortalecimiento del proceso de Ordenamiento Territorial como estrategia para promover el desarrollo terrirorial sostenible, en el dpto del Cesar. | C10: ='ANEXO 1. MATRIZ DE SEGUIMIENTO'!E59 -> 0.54 | D10: ='[2]ANEXO 1. MATRIZ DE SEGUIMIENTO'!K59 -> 0.4 | E10: ='ANEXO 1. MATRIZ DE SEGUIMIENTO'!Q60 -> 0.400265
B11: ='[2]TABLA 7 ESTRUCTURA PROGRAMÁTICA'!C51 -> 3.2 Asistencia técnica a todos los municipios de la jurisdicción en los procesos de revisión y ajuste de los POT, siguiendo guias del SINA | C11: ='ANEXO 1. MATRIZ DE SEGUIMIENTO'!E66 -> 0.6 | D11: ='[2]ANEXO 1. MATRIZ DE SEGUIMIENTO'!K66 -> 0.4 | E11: ='ANEXO 1. MATRIZ DE SEGUIMIENTO'!Q67 -> 0
B12: ='[2]TABLA 7 ESTRUCTURA PROGRAMÁTICA'!C56 -> 3.3 Implementación de un sistema de relacionamiento interinstitucional en el proceso de planeación del desarrollo y evaluación de los modelos de ocupación adoptados | C12: ='ANEXO 1. MATRIZ DE SEGUIMIENTO'!E74 -> 0 | D12: ='[2]ANEXO 1. MATRIZ DE SEGUIMIENTO'!K74 -> 0.2 | E12: ='ANEXO 1. MATRIZ DE SEGUIMIENTO'!Q75 -> 0
A13: AVANCE PROGRAMA 3 | C13: =C10*D10+C11*D11+C12*D12 -> 0.456 | E13: =AVERAGE(E10:E12) -> 0.13342167
A14: ='[2]TABLA 7 ESTRUCTURA PROGRAMÁTICA'!B59 -> 4. PRODUCTIVIDAD SOSTENIBLE y BIODIVERCIUDAD : integrando lo SECTORIAL y lo URBAno | B14: ='[2]TABLA 7 ESTRUCTURA PROGRAMÁTICA'!C59 -> 4.1 Gestión, coordinación, e implementación de políticas locales de resiliencia y sostenibilidad ambiental urbana en el área de jurisdicción de Corpocesar. | C14: ='ANEXO 1. MATRIZ DE SEGUIMIENTO'!E79 -> 0.25 | D14: ='[2]ANEXO 1. MATRIZ DE SEGUIMIENTO'!K79 -> 0.2 | E14: ='ANEXO 1. MATRIZ DE SEGUIMIENTO'!Q80 -> 0.58381333
B15: ='[2]TABLA 7 ESTRUCTURA PROGRAMÁTICA'!C63 -> 4.2 Gestión y apoyo regional a la implementación de la estrategia nacional de Economía circular y economía ambiental para la producción sostenible. | C15: ='ANEXO 1. MATRIZ DE SEGUIMIENTO'!E85 -> 0.906 | D15: ='[2]ANEXO 1. MATRIZ DE SEGUIMIENTO'!K85 -> 0.2 | E15: ='ANEXO 1. MATRIZ DE SEGUIMIENTO'!Q86 -> 0.93107266
B16: ='[2]TABLA 7 ESTRUCTURA PROGRAMÁTICA'!C71 -> 4.3 Apropiación de la Ciencia ambiental y de la tecnología para promover la producción sostenible en el dpto. del Cesar. | C16: ='ANEXO 1. MATRIZ DE SEGUIMIENTO'!E95 -> 0.325 | D16: ='[2]ANEXO 1. MATRIZ DE SEGUIMIENTO'!K95 -> 0.1 | E16: ='ANEXO 1. MATRIZ DE SEGUIMIENTO'!Q96 -> 0.75
B17: ='[2]TABLA 7 ESTRUCTURA PROGRAMÁTICA'!C77 -> 4.4 Gestión integral del suelo para la recuperación de este recurso natural en el departamento del Cesar. | C17: ='ANEXO 1. MATRIZ DE SEGUIMIENTO'!E103 -> 0.5 | D17: ='[2]ANEXO 1. MATRIZ DE SEGUIMIENTO'!K103 -> 0.3 | E17: ='ANEXO 1. MATRIZ DE SEGUIMIENTO'!Q104 -> 0.092656875
B18: ='[2]TABLA 7 ESTRUCTURA PROGRAMÁTICA'!C83 -> 4.5 Gestión integral del recurso aire, articulada a la prioridad regional del MADS, en áreas estratégicas del dpto del Cesar. | C18: ='ANEXO 1. MATRIZ DE SEGUIMIENTO'!E111 -> 0.69 | D18: ='[2]ANEXO 1. MATRIZ DE SEGUIMIENTO'!K111 -> 0.2 | E18: ='ANEXO 1. MATRIZ DE SEGUIMIENTO'!Q112 -> 0.86213006
A19: AVANCE PROGRAMA 4 | C19: =C14*D14+C15*D15+C16*D16+C17*D17+C18*D18 -> 0.5517 | E19: =AVERAGE(E14:E18) -> 0.64393459
A20: ='[2]TABLA 7 ESTRUCTURA PROGRAMÁTICA'!B93 -> 5. PROTECCION DE LA BIODIVERSIDAD PARA sostenibilidad de servicios ecosistèmicos y SUSTENTABILIDAD DEL DESARROLLO | B20: ='[2]TABLA 7 ESTRUCTURA PROGRAMÁTICA'!C93 -> 5.1 Gestión e implementación de estrategias para la recuperación y conservación de la flora y fauna en el Departamento del Cesar, en armonía con el proyecto 1.2 | C20: ='ANEXO 1. MATRIZ DE SEGUIMIENTO'!E123 -> 0.53 | D20: ='[2]ANEXO 1. MATRIZ DE SEGUIMIENTO'!K123 -> 0.2 | E20: ='ANEXO 1. MATRIZ DE SEGUIMIENTO'!Q124 -> 0.51891005
B21: ='[2]TABLA 7 ESTRUCTURA PROGRAMÁTICA'!C101 -> 5.2 Implementación de la estrategia de control integral en los núcleos de deforestación priorizados en el Cesar, (en coordinación institucional con el MADS). | C21: ='ANEXO 1. MATRIZ DE SEGUIMIENTO'!E133 -> 0.5325 | D21: ='ANEXO 1. MATRIZ DE SEGUIMIENTO'!K133 -> 0.2 | E21: ='ANEXO 1. MATRIZ DE SEGUIMIENTO'!Q134 -> 0.575
B22: ='[2]TABLA 7 ESTRUCTURA PROGRAMÁTICA'!C110 -> 5.3 Fortalecimiento de gobernanza forestal en la jurisdicción de Corpocesar. | C22: ='ANEXO 1. MATRIZ DE SEGUIMIENTO'!E144 -> 0.30833333 | D22: ='[2]ANEXO 1. MATRIZ DE SEGUIMIENTO'!K144 -> 0.2 | E22: ='ANEXO 1. MATRIZ DE SEGUIMIENTO'!Q145 -> 0.405025
B23: ='[2]TABLA 7 ESTRUCTURA PROGRAMÁTICA'!C115 -> 5.4 Gestión del SIRAP y/o implementación de otras estrategias de conservación de la biodiversidad y formulación e implementación y apoyo de PM de AP en el dpto. del Cesar. | C23: ='ANEXO 1. MATRIZ DE SEGUIMIENTO'!E151 -> 0.56 | D23: ='[2]ANEXO 1. MATRIZ DE SEGUIMIENTO'!K151 -> 0.2 | E23: ='ANEXO 1. MATRIZ DE SEGUIMIENTO'!Q152 -> 0.1611465
B24: ='[2]TABLA 7 ESTRUCTURA PROGRAMÁTICA'!C126 -> 5.5 Fortalecimiento, gestión e implementación de medidas para el manejo de la fauna en el dpto. del Cesar | C24: ='ANEXO 1. MATRIZ DE SEGUIMIENTO'!E164 -> 1 | D24: ='[2]ANEXO 1. MATRIZ DE SEGUIMIENTO'!K164 -> 0.2 | E24: ='ANEXO 1. MATRIZ DE SEGUIMIENTO'!Q165 -> 0.88625536
A25: AVANCE PROGRAMA 5 | C25: =C20*D20+C21*D21+C22*D22+C23*D23+C24*D24 -> 0.58616667 | E25: =AVERAGE(E20:E24) -> 0.50926738
A26: ='[2]TABLA 7 ESTRUCTURA PROGRAMÁTICA'!B130 -> 6. ECOEDUCACIÓN: ENDÓGENA Y TRANSVERSAL | B26: ='[2]TABLA 7 ESTRUCTURA PROGRAMÁTICA'!C130 -> 6.1 Fortalecimento de la participación ciudadana en la Gestión ambiental, con enfoque endógeno y/o cultural, intergeneracional, y consensual para promover el desarrollo ECOsocial en el dpto del Cesar. | C26: ='ANEXO 1. MATRIZ DE SEGUIMIENTO'!E170 -> 0.88571429 | D26: ='[2]ANEXO 1. MATRIZ DE SEGUIMIENTO'!K170 -> 0.3 | E26: ='ANEXO 1. MATRIZ DE SEGUIMIENTO'!Q171 -> 0.54141333
B27: ='[2]TABLA 7 ESTRUCTURA PROGRAMÁTICA'!C136 -> 6.2 Fortalecimiento y optimización del programa transversal de Educación Ambiental de la Corporación, armonizado a la Política Nacional de Educación Ambiental de Colombia, en el contexto de la propuesta DEPARTAMENTO DEL CESAR - CORPOCESAR– 2020: "Por la sustentabilidad de la vida". | C27: ='ANEXO 1. MATRIZ DE SEGUIMIENTO'!E178 -> 0.72833333 | D27: ='[2]ANEXO 1. MATRIZ DE SEGUIMIENTO'!K178 -> 0.6 | E27: ='ANEXO 1. MATRIZ DE SEGUIMIENTO'!Q179 -> 0.235272
B28: ='[2]TABLA 7 ESTRUCTURA PROGRAMÁTICA'!C143 -> 6.3 Planeación, gestión e Implementación de acciones para el manejo de conflictos socioambientales asociados a la productividad económica y/o uso de RN en áreas estratégicas del Cesar. | C28: ='ANEXO 1. MATRIZ DE SEGUIMIENTO'!E187 -> 0.61 | D28: ='[2]ANEXO 1. MATRIZ DE SEGUIMIENTO'!K187 -> 0.1 | E28: ='[2]ANEXO 1. MATRIZ DE SEGUIMIENTO'!Q188 -> 0.87834667
A29: AVANCE PROGRAMA 6 | C29: =C26*D26+C27*D27+C28*D28 -> 0.76371429 | E29: =AVERAGE(E26:E28) -> 0.55167733
A30: ='[2]TABLA 7 ESTRUCTURA PROGRAMÁTICA'!B147 -> 7. PACTANDO EQUIDAD: ANCESTRAL Y DIFERENCIAL | B30: ='[2]TABLA 7 ESTRUCTURA PROGRAMÁTICA'!C147 -> 7.1 Implementación de estrategias para el manejo ambiental en territorios indígenas de la Sierra Nevada de Santa Marta y Serranía de Perijá, incorporando la cosmovisión de los pueblos indígenas y el enfoque diferencial en la restauración ecológica integral . | C30: ='ANEXO 1. MATRIZ DE SEGUIMIENTO'!E193 -> 0.45 | D30: ='[2]ANEXO 1. MATRIZ DE SEGUIMIENTO'!K193 -> 0.5 | E30: ='ANEXO 1. MATRIZ DE SEGUIMIENTO'!Q194 -> 0.42431167
B31: ='[2]TABLA 7 ESTRUCTURA PROGRAMÁTICA'!C155 -> 7.2 Implementación de estrategias para el manejo ambiental en comunidades afrodescendientes, otras minorías étnicas, y/o poblaciones victimas del conflicto armado en el dpto. del Cesar. | C31: ='ANEXO 1. MATRIZ DE SEGUIMIENTO'!E203 -> 0.55 | D31: ='ANEXO 1. MATRIZ DE SEGUIMIENTO'!K203 -> 0.5 | E31: ='ANEXO 1. MATRIZ DE SEGUIMIENTO'!Q204 -> 0.510955
A32: AVANCE PROGRAMA 7 | C32: =C30*D30+C31*D31 -> 0.5 | E32: =AVERAGE(E30:E31) -> 0.46763333
A33: ='[2]TABLA 7 ESTRUCTURA PROGRAMÁTICA'!B159 -> 8. DESARROLLO INSTITUCIONAL SINÉRGICO | B33: ='[2]TABLA 7 ESTRUCTURA PROGRAMÁTICA'!C159 -> 8.1 Fortalecimiento e implementación de medidas Técnicas, económicas y financieras para la sostenibilidad administrativa y financiera de Corpocesar. | C33: ='ANEXO 1. MATRIZ DE SEGUIMIENTO'!E209 -> 0.68578109 | D33: ='[2]ANEXO 1. MATRIZ DE SEGUIMIENTO'!K209 -> 0.4 | E33: ='ANEXO 1. MATRIZ DE SEGUIMIENTO'!Q210 -> 0.44857411
B34: ='[2]TABLA 7 ESTRUCTURA PROGRAMÁTICA'!C173 -> 8.2 Gestión e implementacion de acciones para el aumento de la capacidad de desempeño institucional integral de Corpocesar. | C34: ='ANEXO 1. MATRIZ DE SEGUIMIENTO'!E225 -> 0.70608333 | D34: ='[2]ANEXO 1. MATRIZ DE SEGUIMIENTO'!K225 -> 0.3 | E34: ='ANEXO 1. MATRIZ DE SEGUIMIENTO'!Q226 -> 0.81109859
B35: ='[2]TABLA 7 ESTRUCTURA PROGRAMÁTICA'!C186 -> 8.3 Fortalecimiento institucional sostenible del ejercicio de la autoridad ambiental regional (seguimiento, control y vigilancia) y apoyo integral de los procesos operativos de trámites ambientales otorgados por la Corporación | C35: ='ANEXO 1. MATRIZ DE SEGUIMIENTO'!E238 -> 0.501 | D35: ='[2]ANEXO 1. MATRIZ DE SEGUIMIENTO'!K238 -> 0.3 | E35: ='ANEXO 1. MATRIZ DE SEGUIMIENTO'!Q239 -> 0.94042964
A36: AVANCE PROGRAMA 8 | C36: =C33*D33+C34*D34+C35*D35 -> 0.63643744 | E36: =AVERAGE(E33:E35) -> 0.73336745
A37: ='[2]TABLA 7 ESTRUCTURA PROGRAMÁTICA'!B194 -> 9. COMUNICACIÓN AMBIENTAL INTELIGENTE | B37: ='[2]TABLA 7 ESTRUCTURA PROGRAMÁTICA'!C194 -> 9.1 Gestión de conocimiento e información ambiental para la promoción del desarrollo ambiental sostenible. | C37: ='ANEXO 1. MATRIZ DE SEGUIMIENTO'!E248 -> 0.8 | D37: ='[2]ANEXO 1. MATRIZ DE SEGUIMIENTO'!K248 -> 0.4 | E37: ='ANEXO 1. MATRIZ DE SEGUIMIENTO'!Q249 -> 0.034413
B38: ='[2]TABLA 7 ESTRUCTURA PROGRAMÁTICA'!C201 -> 9.2 Implementación de la estrategia de Comunicación política de la gestión ambiental para la divulgación interinstitucional y aprehensión ciudadana al sector ambiental | C38: ='ANEXO 1. MATRIZ DE SEGUIMIENTO'!E257 -> 0.73 | D38: ='[2]ANEXO 1. MATRIZ DE SEGUIMIENTO'!K257 -> 0.3 | E38: ='ANEXO 1. MATRIZ DE SEGUIMIENTO'!Q258 -> 0.079754601
B39: ='[2]TABLA 7 ESTRUCTURA PROGRAMÁTICA'!C206 -> 9.3 Fortalecimiento de las TIC´s .según lineamientos de MINTICs y la política de gobierno digital, en Corpocesar. | C39: ='ANEXO 1. MATRIZ DE SEGUIMIENTO'!E264 -> 0.815 | D39: ='[2]ANEXO 1. MATRIZ DE SEGUIMIENTO'!K264 -> 0.3 | E39: ='ANEXO 1. MATRIZ DE SEGUIMIENTO'!Q265 -> 0.48074701
A40: AVANCE PROGRAMA 9 | C40: =C37*D37+C38*D38+C39*D39 -> 0.7835 | E40: =AVERAGE(E37:E39) -> 0.19830487

Sheet TABLA 7a EJEMPLO PONDERACIONES
B2: EJEMPLO GENERAL IDENTIFICACIÓN DE PONDERACIONES Y DE CÁLCULO DE AVANCE DEL PLAN AÑO X
B5: DETERMINACIÓN DEL PORCENTAJE DE AVANCE DEL PLAN DE ACCIÓN EN UN AÑO X
B6: PROGRAMA | C6: PONDERACION DEL PROGRAMA (Ppri) | D6: PROYECTOS | E6: PONDERACIÓN DEL PROYECTO AÑO X (Ppi) | F6: ACTIVIDADES | G6: PONDERACIÓN DE LAS ACTIVIDADES AÑO X ( Pai ) | H6: METAS FÍSICA AÑO X ( Mi ) | I6: UNIDAD DEL MEDIDA DE LA ACTIVIDAD | J6: AVANCE DE META FÍSICA AÑO X ( Ri) | K6: % DE AVANCE ACTIVIDAD (Ai) = (Ri ) / (Mi) X 100 | L6: % DE AVANCE PONDERADO POR ACTIVIDAD (Api)= (Ai) x ( Pai ) | M6: % DE AVANCE PONDERADO POR PROYECTO (% APpi)= sumatoria % de avance ponderados de actividades del proyecto (Api) | N6: Fracción de % de avance ponderado por actividad respecto al Plan total (FApi) = (Ai) x (Pai ) x ( Ppi) x (Ppri)
B8: Programa 1 | C8: 0.3 | D8: Proyecto 1.1 | E8: 0.2 | F8: Actividad 1.1.1 | G8: 0.5 | H8: 30 | I8: hectareas | J8: 20 | K8: =J8/H8*100 -> 66.666667 | L8: =K8*G8 -> 33.333333 | N8: =K8*G8*E$8*C$8 -> 2
F9: Actividad 1.1.2 | G9: 0.5 | H9: 1000 | I9: personas | J9: 950 | K9: =J9/H9*100 -> 95 | L9: =K9*G9 -> 47.5 | N9: =K9*G9*E$8*C$8 -> 2.85
G10: =SUM(G8:G9) -> 1 | M10: =L8+L9 -> 80.833333
D11: Proyecto 1.2 | E11: 0.5 | F11: Actividad 1.2.1 | G11: 0.25 | H11: 5000 | I11: metros | J11: 3500 | K11: =J11/H11*100 -> 70 | L11: =K11*G11 -> 17.5 | N11: =K11*G11*E$11*C$8 -> 2.625
F12: Actividad 1.2.2 | G12: 0.35 | H12: 540 | I12: metros cúbicos | J12: 300 | K12: =J12/H12*100 -> 55.555556 | L12: =K12*G12 -> 19.444444 | N12: =K12*G12*E$11*C$8 -> 2.9166667
F13: Actividad 1.2.3 | G13: 0.4 | H13: 65 | I13: toneladas | J13: 25 | K13: =J13/H13*100 -> 38.461538 | L13: =K13*G13 -> 15.384615 | N13: =K13*G13*E$11*C$8 -> 2.3076923
G14: =SUM(G11:G13) -> 1 | M14: =SUM(L11:L13) -> 52.32906
D15: Proyecto 1.3 | E15: 0.3 | F15: Actividad 1.3.1 | G15: 0.5 | H15: 3 | I15: toneladas | J15: 2 | K15: =J15/H15*100 -> 66.666667 | L15: =K15*G15 -> 33.333333 | N15: =K15*G15*E$15*C$8 -> 3
F16: Actividad 1.3.2 | G16: 0.5 | H16: 100 | I16: personas | J16: 50 | K16: =J16/H16*100 -> 50 | L16: =K16*G16 -> 25 | N16: =K16*G16*E$15*C$8 -> 2.25
E17: =SUM(E8:E16) -> 1 | G17: =SUM(G15:G16) -> 1 | M17: =L15+L16 -> 58.333333
B18: Programa 2 | C18: 0.4 | D18: Proyecto 2.1 | E18: 0.25 | F18: Actividad 2.1.1 | G18: 0.45 | H18: 4 | I18: toneladas | J18: 3 | K18: =J18/H18*100 -> 75 | L18: =K18*G18 -> 33.75 | N18: =K18*G18*E$18*C$18 -> 3.375
F19: Actividad 2.1.2 | G19: 0.15 | H19: 50 | I19: porcentaje | J19: 45 | K19: =J19/H19*100 -> 90 | L19: =K19*G19 -> 13.5 | N19: =K19*G19*E$18*C$18 -> 1.35
F20: Actividad 2.1.3 | G20: 0.4 | H20: 689 | I20: personas | J20: 500 | K20: =J20/H20*100 -> 72.56894 | L20: =K20*G20 -> 29.027576 | N20: =K20*G20*E$18*C$18 -> 2.9027576
G21: =SUM(G18:G20) -> 1 | M21: =SUM(L18:L20) -> 76.277576
D22: Proyecto 2.2 | E22: 0.45 | F22: Actividad 2.2.1 | G22: 0.5 | H22: 400 | I22: Unidades | J22: 300 | K22: =J22/H22*100 -> 75 | L22: =K22*G22 -> 37.5 | N22: =K22*G22*E$22*C$18 -> 6.75
F23: Actividad 2.2.2 | G23: 0.5 | H23: 100 | I23: metros | J23: 90 | K23: =J23/H23*100 -> 90 | L23: =K23*G23 -> 45 | N23: =K23*G23*E$22*C$18 -> 8.1
G24: =SUM(G22:G23) -> 1 | M24: =L22+L23 -> 82.5
D25: Proyecto 2.3 | E25: 0.3 | F25: Actividad 2.3.1 | G25: 0.35 | H25: 45 | I25: metros cúbicos | J25: 35 | K25: =J25/H25*100 -> 77.777778 | L25: =K25*G25 -> 27.222222 | N25: =K25*G25*E$25*C$18 -> 3.2666667
F26: Actividad 2.3.2 | G26: 0.45 | H26: 30 | I26: personas | J26: 25 | K26: =J26/H26*100 -> 83.333333 | L26: =K26*G26 -> 37.5 | N26: =K26*G26*E$25*C$18 -> 4.5
F27: Actividad 2.3.3 | G27: 0.2 | H27: 80 | I27: porcentaje | J27: 70 | K27: =J27/H27*100 -> 87.5 | L27: =K27*G27 -> 17.5 | N27: =K27*G27*E$25*C$18 -> 2.1
E28: =SUM(E18:E27) -> 1 | G28: =SUM(G25:G27) -> 1 | M28: =SUM(L25:L27) -> 82.222222
B29: Programa 3 | C29: 0.3 | D29: Proyecto 3.1 | E29: 0.15 | F29: Actividad 3.1.1 | G29: 0.3 | H29: 90 | I29: toneladas | J29: 80 | K29: =J29/H29*100 -> 88.888889 | L29: =K29*G29 -> 26.666667 | N29: =K29*G29*E$29*C$29 -> 1.2
F30: Actividad 3.1.2 | G30: 0.3 | H30: 4000 | I30: Unidades | J30: 3500 | K30: =J30/H30*100 -> 87.5 | L30: =K30*G30 -> 26.25 | N30: =K30*G30*E$29*C$29 -> 1.18125
F31: Actividad 3.1.3 | G31: 0.4 | H31: 120 | I31: metros | J31: 100 | K31: =J31/H31*100 -> 83.333333 | L31: =K31*G31 -> 33.333333 | N31: =K31*G31*E$29*C$29 -> 1.5
G32: =SUM(G29:G31) -> 1 | M32: =SUM(L29:L31) -> 86.25
D33: Proyecto 3.2 | E33: 0.35 | F33: Actividad 3.2.1 | G33: 0.25 | H33: 7 | I33: metros cúbicos | J33: 6 | K33: =J33/H33*100 -> 85.714286 | L33: =K33*G33 -> 21.428571 | N33: =K33*G33*E$33*C$29 -> 2.25
F34: Actividad 3.2.2 | G34: 0.25 | H34: 45 | I34: toneladas | J34: 40 | K34: =J34/H34*100 -> 88.888889 | L34: =K34*G34 -> 22.222222 | N34: =K34*G34*E$33*C$29 -> 2.3333333
F35: Actividad 3.2.3 | G35: 0.5 | H35: 80 | I35: hectareas | J35: 70 | K35: =J35/H35*100 -> 87.5 | L35: =K35*G35 -> 43.75 | N35: =K35*G35*E$33*C$29 -> 4.59375
G36: =SUM(G33:G35) -> 1 | M36: =SUM(L33:L35) -> 87.400794
D37: Proyecto 3.3 | E37: 0.45 | F37: Actividad 3.3.1 | G37: 0.5 | H37: 150 | I37: Unidades | J37: 120 | K37: =J37/H37*100 -> 80 | L37: =K37*G37 -> 40 | N37: =K37*G37*E$37*C$29 -> 5.4
F38: Actividad 3.3.2 | G38: 0.5 | H38: 100 | I38: personas | J38: 80 | K38: =J38/H38*100 -> 80 | L38: =K38*G38 -> 40 | N38: =K38*G38*E$37*C$29 -> 5.4
G39: =SUM(G37:G38) -> 1 | M39: =L37+L38 -> 80
D40: Proyecto 3.4 | E40: 0.05 | F40: Actividad 3.4.1 | G40: 0.5 | H40: 50 | I40: metros cúbicos | J40: 40 | K40: =J40/H40*100 -> 80 | L40: =K40*G40 -> 40 | N40: =K40*G40*E$40*C$29 -> 0.6
F41: Actividad 3.4.2 | G41: 0.5 | H41: 300 | I41: metros | J41: 250 | K41: =J41/H41*100 -> 83.333333 | L41: =K41*G41 -> 41.666667 | N41: =K41*G41*E$40*C$29 -> 0.625
C42: =SUM(C8:C41) -> 1 | E42: =SUM(E29:E41) -> 1 | G42: =SUM(G40:G41) -> 1 | M42: =L40+L41 -> 81.666667
J44: PROMEDIO [ Ri ] = | K44: =AVERAGE(K8:K41) -> 77.547568 | M44: ∑ FApi = | N44: =SUM(N8:N42) -> 75.377117
J46: PROMEDIO ARITMÉTICO DE AVANCE DEL PLAN AÑO X (promedio de % de avance de actividades (Ai) ) | M46: PROMEDIO PONDERADO DE AVANCE DEL PLAN AÑO X (sumatoria de fracciones de % de avance ponderados de actividades (FApi) )

Sheet ANEXO 5-1 INGRESOS
A2: ANEXO No. 5-1. INFORME DE EJECUCIÓN PRESUPUESTAL DE INGRESOS
A3: CORPORACIÓN AUTÓNOMA REGIONAL DEL CESAR >CORPOCESAR<
A4: RECURSOS VIGENCIA: | C4: 2019
B6: NIVEL RENTISTICO | C6: APROPIADO | D6: RECAUDADO | E6: % Ejec
A7: 3000 | B7: INGRESOS PROPIOS | C7: =SUM(C8+C32) -> 2.6518326e+10 | D7: =SUM(D8+D32) -> 2.0812123e+10 | E7: =D7*100/C7 -> 78.482038
A8: 3100 | B8: INGRESOS CORRIENTES | C8: =SUM(C9+C13) -> 2.3438326e+10 | D8: =SUM(D9+D13) -> 1.7732123e+10 | E8: =D8*100/C8 -> 75.654391
A9: 3110 | B9: Tributarios | C9: =SUM(C10+C11+C12) -> 12000000000 | D9: =SUM(D10+D11+D12) -> 1.2252613e+10 | E9: =D9*100/C9 -> 102.10511
B10: Participación Ambiental Municipios | C10: 0 | D10: 0 | E10: 0
B11: Sobretasa Ambiental | C11: 12000000000 | D11: 1.2252613e+10 | E11: =D11*100/C11 -> 102.10511
B12: Otros | C12: 0 | D12: 0 | E12: 0
A13: 3120 | B13: No Tributarios | C13: =SUM(C14+C17+C18+C19+C20+C25) -> 1.1438326e+10 | D13: =SUM(D14+D17+D18+D19+D20+D25) -> 5.4795098e+09 | E13: =D13*100/C13 -> 47.904822
A14: 3121 | B14: Venta de Bienes y Servicios | C14: =SUM(C15:C16) -> 800000000 | D14: =SUM(D15:D16) -> 5.3377891e+08 | E14: =D14*100/C14 -> 66.722364
B15: Licencias, permisos y tramites ambientales | C15: 800000000 | D15: 5.3377891e+08 | E15: =D15*100/C15 -> 66.722364
B16: Otros por Venta de Bienes y Servicios | C16: 0 | D16: 0 | E16: 0
A17: 3123 | B17: Operaciones Comerciales | C17: 0 | D17: 0 | E17: 0
A18: 3124 | B18: Aportes Patronales | C18: 0 | D18: 0 | E18: 0
A19: 3125 | B19: Aportes de Afiliados | C19: 0 | D19: 0 | E19: 0
A20: 3126 | B20: Aportes de otras entidades | C20: =SUM(C21:C24) -> 4.5383262e+09 | D20: =SUM(D21:D24) -> 7.5286118e+08 | E20: =D20*100/C20 -> 16.588961
B21: Transferencias Sector Electrico | C21: 1000000000 | D21: 7.5286118e+08 | E21: =D21*100/C21 -> 75.286118
B22: Compensación Explotación Carbón | C22: 0 | D22: 0 | E22: 0
B23: Convenios | C23: 3.5383262e+09 | D23: 0 | E23: 0
B24: Otros Aportes de Otras Entidades | C24: 0 | D24: 0 | E24: 0
A25: 3128 | B25: Otros Ingresos | C25: =SUM(C26:C31) -> 6100000000 | D25: =SUM(D26:D31) -> 4.1928697e+09 | E25: =D25*100/C25 -> 68.735569
B26: Tasa Retributiva y Compensatoria | C26: 1000000000 | D26: 182223330 | E26: =D26*100/C26 -> 18.222333
B27: Tasa Material de Arrastre | C27: 0 | D27: 0 | E27: 0
B28: Tasa por Uso del Agua | C28: 500000000 | D28: 225360433 | E28: =D28*100/C28 -> 45.072087
B29: Tasa Aprovechamiento Forestal | C29: 1000000000 | D29: 2.8073441e+08 | E29: =D29*100/C29 -> 28.073441
B30: Multas y Sanciones | C30: 400000000 | D30: 3.1507627e+08 | E30: =D30*100/C30 -> 78.769067
B31: Otros Ingresos | C31: 3200000000 | D31: 3189475278 | E31: =D31*100/C31 -> 99.671102
A32: 3200 | B32: RECURSOS DE CAPITAL | C32: 3080000000 | D32: 3080000000 | E32: =D32*100/C32 -> 100
A33: 3210 | B33: Crédito externo | C33: 0 | D33: 0 | E33: 0
A34: 3211 | B34: Perfeccionado | C34: 0 | D34: 0 | E34: 0
A35: 3212 | B35: Autorizado | C35: 0 | D35: 0 | E35: 0
A36: 3220 | B36: Crédito Interno | C36: 0 | D36: 0 | E36: 0
A37: 3221 | B37: Perfeccionado | C37: 0 | D37: 0 | E37: 0
A38: 3222 | B38: Autorizado | C38: 0 | D38: 0 | E38: 0
