Workbook
Name GASTOS: [5]Formulas!$D$33:$D$34
Name Informe: [5]Formulas!$D$33:$D$34
Name ing: '[6]Datos Generales'!$H$5:$H$36
Name ing: '[6]Datos Generales'!$H$5:$H$36
Name ing: '[7]Datos Generales'!$H$5:$H$36
Name Lista.CAR: '[8]Datos Generales'!$H$5:$H$37
Name Lista_CAR: '[9]Datos Generales'!$H$5:$H$36
Name Lista_CAR: '[9]Datos Generales'!$H$5:$H$36
Name Lista_CAR: '[14]Datos Generales'!$H$5:$H$37
Name Lista_CAR: '[10]Datos Generales'!$H$5:$H$37
Name PROGRAMAS: '[1]Sectores-Programas-Subprogramas'!$C$4:$D$179
Name REPORTE: [9]Formulas!$F$33:$F$34
Name REPORTE: [9]Formulas!$F$33:$F$34
Name REPORTE: #REF!
Name REPORTE: #REF!
Name secores: '[2]Sectores y Programas'!$H$5:$I$34
Name SECTORES: [3]!SECTOR[#Data]
Name SI: [9]Formulas!$D$33:$D$34
Name SI: [9]Formulas!$D$33:$D$34
Name SI: #REF!
Name SI: #REF!
Name Vigencias: '[11]Datos Generales'!$H$38:$H$45
Name Vigencias: '[11]Datos Generales'!$H$38:$H$45

Sheet Detallado del Gasto 2025-1
A1: (1) ESTRUCTURA PLAN DE ACCIÓN INSTITUCIONAL 2024 - 2027 | B1: RECURSOS APROPIADOS TOTALES | C1: SOBRETASA AMBIENTAL -VIGENCIA ACTUAL | G1: Mayores ingresos no aforados de la vigencia Anterior - Sobretasa Ambiental Urbano | K1: Mayores ingresos no aforados de la vigencia Anterior - Intereses de mora multas y sanciones | O1: Mayores ingresos no aforados de la vigencia Anterior - Multas ambientales | S1: Mayores ingresos no aforados de la vigencia Anterior - Seguimiento de licencias y trámites ambientales | W1: Mayores ingresos no aforados de la vigencia Anterior - Evaluación de licencias y trámites ambientales | AA1: Mayores ingresos no aforados de la vigencia Anterior - Rendimientos Financieros | AE1: Mayores ingresos no aforados de la vigencia Anterior - Tasa por el Uso del Agua | AI1: Mayores ingresos no aforados de la vigencia Anterior - Tasa Retributiva | AM1: Tasa por aprovechamiento forestal | AQ1: DEPOSITO VIGENCIA ACTUAL | AU1: Contribución sector eléctrico - Generadores de energía convencional - Vigencia Actual | AY1: Tasa por el uso del agua | BC1: SPGR ASIGNACIONES DIRECTAS | BG1: Tasa retributiva | BK1: Servicios prestados a las empresas y servicios de producción - Vigencia Actual | BO1: Multas ambientales - Vigencia Anterior | BS1: Intereses de mora | BW1: APORTE FONDO DE COMPENSACIONES AMBIENTAL - FCA - VIGENCIA ACTUAL | CA1: APORTES DEL SISTEMA GENERAL DE PARTICIPACION - VIGENCIA ACTUAL | CE1: APORTES INVERSION FONDO NACIONAL AMBIENTAL - VIGENCIA ACTUAL | CI1: Evaluación de licencias y trámites ambientales - Vigencia Actual | CM1: De otras entidades del gobierno general | CQ1: Depósitos - Tasa de Aprovechamiento Forestal | CU1: Depósitos - Tasa por el Uso del Agua | CY1: Depósitos - Seguimiento de licencias y trámites ambientales | DC1: Depósitos - Evaluación de licencias y trámites ambientales | DG1: Depósitos - Tasa Retributiva | DK1: Depósitos - Contribución sector eléctrico - Generadores de energía convencional | DO1: Salvoconducto Único Nacional - Vigencia Actual | DS1: Seguimiento a licencias y trámites ambientales | DW1: TOTAL RECURSOS (7) | EA1: OBSERVACIONES (8)
B2: 2025 | C2: APROPIACIÓN | D2: COMPROMISOS | E2: OBLIGACIONES | F2: PAGOS | G2: APROPIACIÓN | H2: COMPROMISOS | I2: OBLIGACIONES | J2: PAGOS | K2: APROPIACIÓN | L2: COMPROMISOS | M2: OBLIGACIONES | N2: PAGOS | O2: APROPIACIÓN | P2: COMPROMISOS | Q2: OBLIGACIONES | R2: PAGOS | S2: APROPIACIÓN | T2: COMPROMISOS | U2: OBLIGACIONES | V2: PAGOS | W2: APROPIACIÓN | X2: COMPROMISOS | Y2: OBLIGACIONES | Z2: PAGOS | AA2: APROPIACIÓN | AB2: COMPROMISOS | AC2: OBLIGACIONES | AD2: PAGOS | AE2: APROPIACIÓN | AF2: COMPROMISOS | AG2: OBLIGACIONES | AH2: PAGOS | AI2: APROPIACIÓN | AJ2: COMPROMISOS | AK2: OBLIGACIONES | AL2: PAGOS | AM2: APROPIACIÓN | AN2: COMPROMISOS | AO2: OBLIGACIONES | AP2: PAGOS | AQ2: APROPIACIÓN | AR2: COMPROMISOS | AS2: OBLIGACIONES | AT2: PAGOS | AU2: APROPIACIÓN | AV2: COMPROMISOS | AW2: OBLIGACIONES | AX2: PAGOS | AY2: APROPIACIÓN | AZ2: COMPROMISOS | BA2: OBLIGACIONES | BB2: PAGOS | BC2: APROPIACIÓN | BD2: COMPROMISOS | BE2: OBLIGACIONES | BF2: PAGOS | BG2: APROPIACIÓN | BH2: COMPROMISOS | BI2: OBLIGACIONES | BJ2: PAGOS | BK2: APROPIACIÓN | BL2: COMPROMISOS | BM2: OBLIGACIONES | BN2: PAGOS | BO2: APROPIACIÓN | BP2: COMPROMISOS | BQ2: OBLIGACIONES | BR2: PAGOS | BS2: APROPIACIÓN | BT2: COMPROMISOS | BU2: OBLIGACIONES | BV2: PAGOS | BW2: APROPIACIÓN | BX2: COMPROMISOS | BY2: OBLIGACIONES | BZ2: PAGOS | CA2: APROPIACIÓN | CB2: COMPROMISOS | CC2: OBLIGACIONES | CD2: PAGOS | CE2: APROPIACIÓN | CF2: COMPROMISOS | CG2: OBLIGACIONES | CH2: PAGOS | CI2: APROPIACIÓN | CJ2: COMPROMISOS | CK2: OBLIGACIONES | CL2: PAGOS | CM2: APROPIACIÓN | CN2: COMPROMISOS | CO2: OBLIGACIONES | CP2: PAGOS | CQ2: APROPIACIÓN | CR2: COMPROMISOS | CS2: OBLIGACIONES | CT2: PAGOS | CU2: APROPIACIÓN | CV2: COMPROMISOS | CW2: OBLIGACIONES | CX2: PAGOS | CY2: APROPIACIÓN | CZ2: COMPROMISOS | DA2: OBLIGACIONES | DB2: PAGOS | DC2: APROPIACIÓN | DD2: COMPROMISOS | DE2: OBLIGACIONES | DF2: PAGOS | DG2: APROPIACIÓN | DH2: COMPROMISOS | DI2: OBLIGACIONES | DJ2: PAGOS | DK2: APROPIACIÓN | DL2: COMPROMISOS | DM2: OBLIGACIONES | DN2: PAGOS | DO2: APROPIACIÓN | DP2: COMPROMISOS | DQ2: OBLIGACIONES | DR2: PAGOS | DS2: APROPIACIÓN | DT2: COMPROMISOS | DU2: OBLIGACIONES | DV2: PAGOS | DW2: APROPIACIÓN | DX2: COMPROMISOS | DY2: OBLIGACIONES | DZ2: PAGOS
A3: LINEA ESTRATEGICA 4. GESTIÓN PARA LA PRODUCCIÓN SOSTENIBLE | B3: =+B4+B13 -> 1.6127489e+10 | C3: =+C4+C13 -> 1600000000 | D3: =+D4+D13 -> 1.0674882e+09 | E3: =+E4+E13 -> 7.1057526e+08 | F3: =+F4+F13 -> 6.8102647e+08 | G3: =+G4+G13 -> 863000000 | H3: =+H4+H13 -> 330000000 | I3: =+I4+I13 -> 0 | ... DV3: =+DV4+DV13 -> 0 | DW3: =+C3+G3+K3+O3+S3+W3+AA3+AE3+AI3+AM3+AQ3+AU3+AY3+BC3+BG3+BK3+BO3+BS3+BW3+CA3+CE3+CI3+CM3+CQ3+CU3+CY3+DC3+DG3+DK3+DO3+DS3 -> 1.6127489e+10 | DX3: =+D3+H3+L3+P3+T3+X3+AB3+AF3+AJ3+AN3+AR3+AV3+AZ3+BD3+BH3+BL3+BP3+BT3+BX3+CB3+CF3+CJ3+CN3+CR3+CV3+CZ3+DD3+DH3+DL3+DP3+DT3 -> 1.481916e+10 | DY3: =+E3+I3+M3+Q3+U3+Y3+AC3+AG3+AK3+AO3+AS3+AW3+BA3+BE3+BI3+BM3+BQ3+BU3+BY3+CC3+CG3+CK3+CO3+CS3+CW3+DA3+DE3+DI3+DM3+DQ3+DU3 -> 2.3814781e+09 | DZ3: =+F3+J3+N3+R3+V3+Z3+AD3+AH3+AL3+AP3+AT3+AX3+BB3+BF3+BJ3+BN3+BR3+BV3+BZ3+CD3+CH3+CL3+CP3+CT3+CX3+DB3+DF3+DJ3+DN3+DR3+DV3 -> 2.3519293e+09
A4: PROGRAMA 1. (3201): FORTALECIMIENTO DEL DESEMPEÑO AMBIENTAL DE LOS SECTORES PRODUCTIVOS | B4: =+B5+B9 -> 5.3276883e+09 | C4: =+C5+C9 -> 1000000000 | D4: =+D5+D9 -> 6.964656e+08 | E4: =+E5+E9 -> 3.9115191e+08 | F4: =+F5+F9 -> 3.7001288e+08 | G4: =+G5+G9 -> 143000000 | H4: =+H5+H9 -> 30000000 | I4: =+I5+I9 -> 0 | ... DV4: =+DV5+DV9 -> 0 | DW4: =+C4+G4+K4+O4+S4+W4+AA4+AE4+AI4+AM4+AQ4+AU4+AY4+BC4+BG4+BK4+BO4+BS4+BW4+CA4+CE4+CI4+CM4+CQ4+CU4+CY4+DC4+DG4+DK4+DO4+DS4 -> 5.3276883e+09 | DX4: =+D4+H4+L4+P4+T4+X4+AB4+AF4+AJ4+AN4+AR4+AV4+AZ4+BD4+BH4+BL4+BP4+BT4+BX4+CB4+CF4+CJ4+CN4+CR4+CV4+CZ4+DD4+DH4+DL4+DP4+DT4 -> 4.9111639e+09 | DY4: =+E4+I4+M4+Q4+U4+Y4+AC4+AG4+AK4+AO4+AS4+AW4+BA4+BE4+BI4+BM4+BQ4+BU4+BY4+CC4+CG4+CK4+CO4+CS4+CW4+DA4+DE4+DI4+DM4+DQ4+DU4 -> 1.7450873e+09 | DZ4: =+F4+J4+N4+R4+V4+Z4+AD4+AH4+AL4+AP4+AT4+AX4+BB4+BF4+BJ4+BN4+BR4+BV4+BZ4+CD4+CH4+CL4+CP4+CT4+CX4+DB4+DF4+DJ4+DN4+DR4+DV4 -> 1.7239482e+09
A5: PROYECTO 1.1. (3201.01). GESTIÓN E IMPLEMENTACIÓN DE ESTRATEGIAS PARA LA RECUPERACIÓN Y CONSERVACIÓN DE LA FLORA Y FAUNA EN EL DEPARTAMENTO DEL CESAR. | B5: =+SUM(B6:B8) -> 4.7626883e+09 | C5: =+SUM(C6:C8) -> 500000000 | D5: =+SUM(D6:D8) -> 2.4815507e+08 | E5: =+SUM(E6:E8) -> 134577581 | F5: =+SUM(F6:F8) -> 127161031 | G5: =+SUM(G6:G8) -> 78000000 | H5: =+SUM(H6:H8) -> 0 | I5: =+SUM(I6:I8) -> 0 | ... AP5: =+SUM(AP6:AP8) -> 0 | AQ5: =SUM(AQ6:AQ8) -> 0 | AR5: =SUM(AR6:AR8) -> 0 | AS5: =SUM(AS6:AS8) -> 0 | AT5: =SUM(AT6:AT8) -> 0 | AU5: =SUM(AU6:AU8) -> 0 | AV5: =SUM(AV6:AV8) -> 0 | AW5: =SUM(AW6:AW8) -> 0 | AX5: =SUM(AX6:AX8) -> 0 | ... DV5: =SUM(DV6:DV8) -> 0 | DW5: =+C5+G5+K5+O5+S5+W5+AA5+AE5+AI5+AM5+AQ5+AU5+AY5+BC5+BG5+BK5+BO5+BS5+BW5+CA5+CE5+CI5+CM5+CQ5+CU5+CY5+DC5+DG5+DK5+DO5+DS5 -> 4.7626883e+09 | DX5: =+D5+H5+L5+P5+T5+X5+AB5+AF5+AJ5+AN5+AR5+AV5+AZ5+BD5+BH5+BL5+BP5+BT5+BX5+CB5+CF5+CJ5+CN5+CR5+CV5+CZ5+DD5+DH5+DL5+DP5+DT5 -> 4.4328534e+09 | DY5: =+E5+I5+M5+Q5+U5+Y5+AC5+AG5+AK5+AO5+AS5+AW5+BA5+BE5+BI5+BM5+BQ5+BU5+BY5+CC5+CG5+CK5+CO5+CS5+CW5+DA5+DE5+DI5+DM5+DQ5+DU5 -> 1488512937 | DZ5: =+F5+J5+N5+R5+V5+Z5+AD5+AH5+AL5+AP5+AT5+AX5+BB5+BF5+BJ5+BN5+BR5+BV5+BZ5+CD5+CH5+CL5+CP5+CT5+CX5+DB5+DF5+DJ5+DN5+DR5+DV5 -> 1.4810964e+09 | EA5: =+SUM(DW6:DW8)-DW5 -> 0 | EB5: =+DW5-B5 -> 0
A6: ACT. 1.1.1. (3201.01.03). GESTIÓN DE SISTEMAS BAJO ESQUEMAS DE PSA E INCENTIVOS A LA CONSERVACIÓN: FORTALECIMIENTO DE CAPACIDADES (INSTRUMENTACIÓN JURÍDICA, GESTIÓN Y ARTICULACIÓN INSTITUCIONAL, EVALUACIÓN Y SEGUIMIENTO, Y SOSTENIBILIDAD FINANCIERA. IMPLEMENTACIÓN DEL BANCO DE PROYECTOS DE PSA DINAMIZACIÓN EL REGISTRO ÚNICO DE ECOSISTEMAS Y ÁREAS AMBIENTALES (REAA). | B6: =DW5 -> 4.7626883e+09 | C6: =500000000/3 -> 1.6666667e+08 | D6: =248155066.76/3 -> 82718356 | E6: =134577581/3 -> 44859194 | F6: =127161031/3 -> 42387010 | G6: =78000000/3 -> 26000000 | H6: 0 | I6: 0 | J6: 0 | K6: 0 | L6: 0 | M6: 0 | N6: 0 | O6: 0 | P6: 0 | Q6: 0 | R6: 0 | S6: 0 | T6: 0 | U6: 0 | V6: 0 | W6: 0 | X6: 0 | Y6: 0 | Z6: 0 | AA6: 0 | AB6: 0 | AC6: 0 | AD6: 0 | AE6: 0 | AF6: 0 | AG6: 0 | AH6: 0 | AI6: 0 | AJ6: 0 | AK6: 0 | AL6: 0 | AM6: 0 | AN6: 0 | AO6: 0 | AP6: 0 | AQ6: 0 | AR6: 0 | AS6: 0 | AT6: 0 | AU6: 0 | AV6: 0 | AW6: 0 | AX6: 0 | AY6: 0 | AZ6: 0 | BA6: 0 | BB6: 0 | BC6: =180582509.44+2012729780+1991376029.2 -> 4.1846883e+09 | BD6: =180592509.44+2012729780+1991376029.2 -> 4.1846983e+09 | BE6: =180592509.44+494353346.64+678989499.92 -> 1353935356 | BF6: =180592509+494353346.64+678989499.92 -> 1.3539354e+09 | BG6: 0 | BH6: 0 | BI6: 0 | BJ6: 0 | BK6: 0 | BL6: 0 | BM6: 0 | BN6: 0 | BO6: 0 | BP6: 0 | BQ6: 0 | BR6: 0 | BS6: 0 | BT6: 0 | BU6: 0 | BV6: 0 | BW6: 0 | BX6: 0 | BY6: 0 | BZ6: 0 | CA6: 0 | CB6: 0 | CC6: 0 | CD6: 0 | CE6: 0 | CF6: 0 | CG6: 0 | CH6: 0 | CI6: 0 | CJ6: 0 | CK6: 0 | CL6: 0 | CM6: 0 | CN6: 0 | CO6: 0 | CP6: 0 | CQ6: 0 | CR6: 0 | CS6: 0 | CT6: 0 | CU6: 0 | CV6: 0 | CW6: 0 | CX6: 0 | CY6: 0 | CZ6: 0 | DA6: 0 | DB6: 0 | DC6: 0 | DD6: 0 | DE6: 0 | DF6: 0 | DG6: 0 | DH6: 0 | DI6: 0 | DJ6: 0 | DK6: 0 | DL6: 0 | DM6: 0 | DN6: 0 | DO6: 0 | DP6: 0 | DQ6: 0 | DR6: 0 | DS6: 0 | DT6: 0 | DU6: 0 | DV6: 0 | DW6: =+C6+G6+K6+O6+S6+W6+AA6+AE6+AI6+AM6+AQ6+AU6+AY6+BC6+BG6+BK6+BO6+BS6+BW6+CA6+CE6+CI6+CM6+CQ6+CU6+CY6+DC6+DG6+DK6+DO6+DS6 -> 4.377355e+09 | DX6: =+D6+H6+L6+P6+T6+X6+AB6+AF6+AJ6+AN6+AR6+AV6+AZ6+BD6+BH6+BL6+BP6+BT6+BX6+CB6+CF6+CJ6+CN6+CR6+CV6+CZ6+DD6+DH6+DL6+DP6+DT6 -> 4.2674167e+09 | DY6: =+E6+I6+M6+Q6+U6+Y6+AC6+AG6+AK6+AO6+AS6+AW6+BA6+BE6+BI6+BM6+BQ6+BU6+BY6+CC6+CG6+CK6+CO6+CS6+CW6+DA6+DE6+DI6+DM6+DQ6+DU6 -> 1.3987945e+09 | DZ6: =+F6+J6+N6+R6+V6+Z6+AD6+AH6+AL6+AP6+AT6+AX6+BB6+BF6+BJ6+BN6+BR6+BV6+BZ6+CD6+CH6+CL6+CP6+CT6+CX6+DB6+DF6+DJ6+DN6+DR6+DV6 -> 1.3963224e+09
A7: ACT. 1.1.2 (3201.01.04) IMPLEMENTACIÓN DE ESTRATEGIA ENFOCADA A LA BIOECONOMÍA PARA LA SOSTENIBILIDAD PRODUCTIVA EN EL USO DE LOS RECURSOS NATURALES PARA LA CONSERVACIÓN DE ECOSISTEMAS ESTRATÉGICOS PRIORIZADOS EN ACUERDOS DE MESAS SUBREGIONALES. EN ARMONÍA CON EL PROYECTO 1.2. | C7: =500000000/3 -> 1.6666667e+08 | D7: =248155066.76/3 -> 82718356 | E7: =134577581/3 -> 44859194 | F7: =127161031/3 -> 42387010 | G7: =78000000/3 -> 26000000 | H7: 0 | I7: 0 | J7: 0 | K7: 0 | L7: 0 | M7: 0 | N7: 0 | O7: 0 | P7: 0 | Q7: 0 | R7: 0 | S7: 0 | T7: 0 | U7: 0 | V7: 0 | W7: 0 | X7: 0 | Y7: 0 | Z7: 0 | AA7: 0 | AB7: 0 | AC7: 0 | AD7: 0 | AE7: 0 | AF7: 0 | AG7: 0 | AH7: 0 | AI7: 0 | AJ7: 0 | AK7: 0 | AL7: 0 | AM7: 0 | AN7: 0 | AO7: 0 | AP7: 0 | AQ7: 0 | AR7: 0 | AS7: 0 | AT7: 0 | AU7: 0 | AV7: 0 | AW7: 0 | AX7: 0 | AY7: 0 | AZ7: 0 | BA7: 0 | BB7: 0 | BG7: 0 | BH7: 0 | BI7: 0 | BJ7: 0 | BK7: 0 | BL7: 0 | BM7: 0 | BN7: 0 | BO7: 0 | BP7: 0 | BQ7: 0 | BR7: 0 | BS7: 0 | BT7: 0 | BU7: 0 | BV7: 0 | BW7: 0 | BX7: 0 | BY7: 0 | BZ7: 0 | CA7: 0 | CB7: 0 | CC7: 0 | CD7: 0 | CE7: 0 | CF7: 0 | CG7: 0 | CH7: 0 | CI7: 0 | CJ7: 0 | CK7: 0 | CL7: 0 | CM7: 0 | CN7: 0 | CO7: 0 | CP7: 0 | CQ7: 0 | CR7: 0 | CS7: 0 | CT7: 0 | CU7: 0 | CV7: 0 | CW7: 0 | CX7: 0 | CY7: 0 | CZ7: 0 | DA7: 0 | DB7: 0 | DC7: 0 | DD7: 0 | DE7: 0 | DF7: 0 | DG7: 0 | DH7: 0 | DI7: 0 | DJ7: 0 | DK7: 0 | DL7: 0 | DM7: 0 | DN7: 0 | DO7: 0 | DP7: 0 | DQ7: 0 | DR7: 0 | DS7: 0 | DT7: 0 | DU7: 0 | DV7: 0 | DW7: =+C7+G7+K7+O7+S7+W7+AA7+AE7+AI7+AM7+AQ7+AU7+AY7+BC7+BG7+BK7+BO7+BS7+BW7+CA7+CE7+CI7+CM7+CQ7+CU7+CY7+DC7+DG7+DK7+DO7+DS7 -> 1.9266667e+08 | DX7: =+D7+H7+L7+P7+T7+X7+AB7+AF7+AJ7+AN7+AR7+AV7+AZ7+BD7+BH7+BL7+BP7+BT7+BX7+CB7+CF7+CJ7+CN7+CR7+CV7+CZ7+DD7+DH7+DL7+DP7+DT7 -> 82718356 | DY7: =+E7+I7+M7+Q7+U7+Y7+AC7+AG7+AK7+AO7+AS7+AW7+BA7+BE7+BI7+BM7+BQ7+BU7+BY7+CC7+CG7+CK7+CO7+CS7+CW7+DA7+DE7+DI7+DM7+DQ7+DU7 -> 44859194 | DZ7: =+F7+J7+N7+R7+V7+Z7+AD7+AH7+AL7+AP7+AT7+AX7+BB7+BF7+BJ7+BN7+BR7+BV7+BZ7+CD7+CH7+CL7+CP7+CT7+CX7+DB7+DF7+DJ7+DN7+DR7+DV7 -> 42387010
A8: ACT. 1.1.3 (3201.01.07). FORTALECIMIENTO DE LAS VENTANILLAS DE NEGOCIOS VERDES Y ARTICULACIÓN CON LOS INCENTIVOS EXISTENTES. (INCLUYE NUEVOS INCENTIVOS CONCERTAOS EN MESAS SUBREGIONALES. 2024). | C8: =500000000/3 -> 1.6666667e+08 | D8: =248155066.76/3 -> 82718356 | E8: =134577581/3 -> 44859194 | F8: =127161031/3 -> 42387010 | G8: =78000000/3 -> 26000000 | H8: 0 | I8: 0 | J8: 0 | K8: 0 | L8: 0 | M8: 0 | N8: 0 | O8: 0 | P8: 0 | Q8: 0 | R8: 0 | S8: 0 | T8: 0 | U8: 0 | V8: 0 | W8: 0 | X8: 0 | Y8: 0 | Z8: 0 | AA8: 0 | AB8: 0 | AC8: 0 | AD8: 0 | AE8: 0 | AF8: 0 | AG8: 0 | AH8: 0 | AI8: 0 | AJ8: 0 | AK8: 0 | AL8: 0 | AM8: 0 | AN8: 0 | AO8: 0 | AP8: 0 | AQ8: 0 | AR8: 0 | AS8: 0 | AT8: 0 | AU8: 0 | AV8: 0 | AW8: 0 | AX8: 0 | AY8: 0 | AZ8: 0 | BA8: 0 | BB8: 0 | BC8: 0 | BD8: 0 | BE8: 0 | BF8: 0 | BG8: 0 | BH8: 0 | BI8: 0 | BJ8: 0 | BK8: 0 | BL8: 0 | BM8: 0 | BN8: 0 | BO8: 0 | BP8: 0 | BQ8: 0 | BR8: 0 | BS8: 0 | BT8: 0 | BU8: 0 | BV8: 0 | BW8: 0 | BX8: 0 | BY8: 0 | BZ8: 0 | CA8: 0 | CB8: 0 | CC8: 0 | CD8: 0 | CE8: 0 | CF8: 0 | CG8: 0 | CH8: 0 | CI8: 0 | CJ8: 0 | CK8: 0 | CL8: 0 | CM8: 0 | CN8: 0 | CO8: 0 | CP8: 0 | CQ8: 0 | CR8: 0 | CS8: 0 | CT8: 0 | CU8: 0 | CV8: 0 | CW8: 0 | CX8: 0 | CY8: 0 | CZ8: 0 | DA8: 0 | DB8: 0 | DC8: 0 | DD8: 0 | DE8: 0 | DF8: 0 | DG8: 0 | DH8: 0 | DI8: 0 | DJ8: 0 | DK8: 0 | DL8: 0 | DM8: 0 | DN8: 0 | DO8: 0 | DP8: 0 | DQ8: 0 | DR8: 0 | DS8: 0 | DT8: 0 | DU8: 0 | DV8: 0 | DW8: =+C8+G8+K8+O8+S8+W8+AA8+AE8+AI8+AM8+AQ8+AU8+AY8+BC8+BG8+BK8+BO8+BS8+BW8+CA8+CE8+CI8+CM8+CQ8+CU8+CY8+DC8+DG8+DK8+DO8+DS8 -> 1.9266667e+08 | DX8: =+D8+H8+L8+P8+T8+X8+AB8+AF8+AJ8+AN8+AR8+AV8+AZ8+BD8+BH8+BL8+BP8+BT8+BX8+CB8+CF8+CJ8+CN8+CR8+CV8+CZ8+DD8+DH8+DL8+DP8+DT8 -> 82718356 | DY8: =+E8+I8+M8+Q8+U8+Y8+AC8+AG8+AK8+AO8+AS8+AW8+BA8+BE8+BI8+BM8+BQ8+BU8+BY8+CC8+CG8+CK8+CO8+CS8+CW8+DA8+DE8+DI8+DM8+DQ8+DU8 -> 44859194 | DZ8: =+F8+J8+N8+R8+V8+Z8+AD8+AH8+AL8+AP8+AT8+AX8+BB8+BF8+BJ8+BN8+BR8+BV8+BZ8+CD8+CH8+CL8+CP8+CT8+CX8+DB8+DF8+DJ8+DN8+DR8+DV8 -> 42387010 | EA8: =+SUM(DW6:DW8)-B6 -> 0
A9: PROYECTO1.2 (3201.03). GESTIÓN Y APOYO REGIONAL A LA IMPLEMENTACIÓN DE LA ESTRATEGIA NACIONAL DE ECONOMÍA CIRCULAR Y ECONOMÍA AMBIENTAL PARA LA PRODUCCIÓN SOSTENIBLE, ARTICULADO A LAS APUESTAS DEL PROYECTO 2.1 | B9: =SUM(B10:B12) -> 565000000 | C9: =SUM(C10:C12) -> 500000000 | D9: =SUM(D10:D12) -> 4.4831054e+08 | E9: =SUM(E10:E12) -> 2.5657433e+08 | F9: =SUM(F10:F12) -> 2.4285185e+08 | G9: =SUM(G10:G12) -> 65000000 | H9: =SUM(H10:H12) -> 30000000 | I9: =SUM(I10:I12) -> 0 | ... DV9: =SUM(DV10:DV12) -> 0 | DW9: =+C9+G9+K9+O9+S9+W9+AA9+AE9+AI9+AM9+AQ9+AU9+AY9+BC9+BG9+BK9+BO9+BS9+BW9+CA9+CE9+CI9+CM9+CQ9+CU9+CY9+DC9+DG9+DK9+DO9+DS9 -> 565000000 | DX9: =+D9+H9+L9+P9+T9+X9+AB9+AF9+AJ9+AN9+AR9+AV9+AZ9+BD9+BH9+BL9+BP9+BT9+BX9+CB9+CF9+CJ9+CN9+CR9+CV9+CZ9+DD9+DH9+DL9+DP9+DT9 -> 4.7831054e+08 | DY9: =+E9+I9+M9+Q9+U9+Y9+AC9+AG9+AK9+AO9+AS9+AW9+BA9+BE9+BI9+BM9+BQ9+BU9+BY9+CC9+CG9+CK9+CO9+CS9+CW9+DA9+DE9+DI9+DM9+DQ9+DU9 -> 2.5657433e+08 | DZ9: =+F9+J9+N9+R9+V9+Z9+AD9+AH9+AL9+AP9+AT9+AX9+BB9+BF9+BJ9+BN9+BR9+BV9+BZ9+CD9+CH9+CL9+CP9+CT9+CX9+DB9+DF9+DJ9+DN9+DR9+DV9 -> 2.4285185e+08 | EA9: =+SUM(DW10:DW12)-DW9 -> 0 | EB9: =+DW9-B9 -> 0
A10: ACT. 1.2.1 (3201001). DOCUMENTOS DE POLÍTICA PARA EL FORTALECIMIENTO DEL DESEMPEÑO AMBIENTAL DE LOS SECTORES PRODUCTIVOS (INCLUYE AGENDAS DE TRABAJO ENFOCADAS A ECONOMÍA CIRCULAR, COMO ELEMENTOS INFLUYENTES EN LA DESCARBONIZACIÓN DE LA ECONOMÍA, PRINCIPALMENTE EN LOS SECTORES DE AGRICULTURA, MANUFACTURA Y TURISMO. | B10: =DW9 -> 565000000 | C10: 1.6666667e+08 | D10: =448310535.88/3 -> 1.4943685e+08 | E10: =256574327.58/3 -> 85524776 | F10: =242851847.58/3 -> 80950616 | G10: =65000000/3 -> 21666667 | H10: =30000000/3 -> 10000000 | I10: 0 | J10: 0 | K10: 0 | L10: 0 | M10: 0 | N10: 0 | O10: 0 | P10: 0 | Q10: 0 | R10: 0 | S10: 0 | T10: 0 | U10: 0 | V10: 0 | W10: 0 | X10: 0 | Y10: 0 | Z10: 0 | AA10: 0 | AB10: 0 | AC10: 0 | AD10: 0 | AE10: 0 | AF10: 0 | AG10: 0 | AH10: 0 | AI10: 0 | AJ10: 0 | AK10: 0 | AL10: 0 | AM10: 0 | AN10: 0 | AO10: 0 | AP10: 0 | AQ10: 0 | AR10: 0 | AS10: 0 | AT10: 0 | AU10: 0 | AV10: 0 | AW10: 0 | AX10: 0 | AY10: 0 | AZ10: 0 | BA10: 0 | BB10: 0 | BC10: 0 | BD10: 0 | BE10: 0 | BF10: 0 | BG10: 0 | BH10: 0 | BI10: 0 | BJ10: 0 | BK10: 0 | BL10: 0 | BM10: 0 | BN10: 0 | BO10: 0 | BP10: 0 | BQ10: 0 | BR10: 0 | BS10: 0 | BT10: 0 | BU10: 0 | BV10: 0 | BW10: 0 | BX10: 0 | BY10: 0 | BZ10: 0 | CA10: 0 | CB10: 0 | CC10: 0 | CD10: 0 | CE10: 0 | CF10: 0 | CG10: 0 | CH10: 0 | CI10: 0 | CJ10: 0 | CK10: 0 | CL10: 0 | CM10: 0 | CN10: 0 | CO10: 0 | CP10: 0 | CQ10: 0 | CR10: 0 | CS10: 0 | CT10: 0 | CU10: 0 | CV10: 0 | CW10: 0 | CX10: 0 | CY10: 0 | CZ10: 0 | DA10: 0 | DB10: 0 | DC10: 0 | DD10: 0 | DE10: 0 | DF10: 0 | DG10: 0 | DH10: 0 | DI10: 0 | DJ10: 0 | DK10: 0 | DL10: 0 | DM10: 0 | DN10: 0 | DO10: 0 | DP10: 0 | DQ10: 0 | DR10: 0 | DS10: 0 | DT10: 0 | DU10: 0 | DV10: 0 | DW10: =+C10+G10+K10+O10+S10+W10+AA10+AE10+AI10+AM10+AQ10+AU10+AY10+BC10+BG10+BK10+BO10+BS10+BW10+CA10+CE10+CI10+CM10+CQ10+CU10+CY10+DC10+DG10+DK10+DO10+DS10 -> 1.8833333e+08 | DX10: =+D10+H10+L10+P10+T10+X10+AB10+AF10+AJ10+AN10+AR10+AV10+AZ10+BD10+BH10+BL10+BP10+BT10+BX10+CB10+CF10+CJ10+CN10+CR10+CV10+CZ10+DD10+DH10+DL10+DP10+DT10 -> 1.5943685e+08 | DY10: =+E10+I10+M10+Q10+U10+Y10+AC10+AG10+AK10+AO10+AS10+AW10+BA10+BE10+BI10+BM10+BQ10+BU10+BY10+CC10+CG10+CK10+CO10+CS10+CW10+DA10+DE10+DI10+DM10+DQ10+DU10 -> 85524776 | DZ10: =+F10+J10+N10+R10+V10+Z10+AD10+AH10+AL10+AP10+AT10+AX10+BB10+BF10+BJ10+BN10+BR10+BV10+BZ10+CD10+CH10+CL10+CP10+CT10+CX10+DB10+DF10+DJ10+DN10+DR10+DV10 -> 80950616
A11: ACT. 1.2.2 (3201.003): SERVICIO DE ASISTENCIA TÉCNICA PARA LA CONSOLIDACIÓN DE NEGOCIOS VERDES. PROMOVER MODELOS DE NEGOCIOS CON ENFOQUE EN ECONOMÍA CIRCULAR A TRAVÉS DE PROYECTOS DE CADENAS DE SUMINISTROS CIRCULARES, PLATAFORMAS COLABORATIVAS, MODELOS PARA EXTENDER LA VIDA ÚTIL DE LOS MATERIALES, RESPONSABILIDAD EXTENDIDA DEL PRODUCTOR, ENTRE OTROS, INCORPORANDO HABILITADORES COMO INCENTIVOS ECONÓMICOS Y NO ECONÓMICOS, GOBERNANZA, FINANCIAMIENTO, EMPLEOS VERDES E INNOVACIÓN TECNOLÓGICA. | C11: 1.6666667e+08 | D11: =448310535.88/3 -> 1.4943685e+08 | E11: =256574327.58/3 -> 85524776 | F11: =242851847.58/3 -> 80950616 | G11: =65000000/3 -> 21666667 | H11: =30000000/3 -> 10000000 | I11: 0 | J11: 0 | K11: 0 | L11: 0 | M11: 0 | N11: 0 | O11: 0 | P11: 0 | Q11: 0 | R11: 0 | S11: 0 | T11: 0 | U11: 0 | V11: 0 | W11: 0 | X11: 0 | Y11: 0 | Z11: 0 | AA11: 0 | AB11: 0 | AC11: 0 | AD11: 0 | AE11: 0 | AF11: 0 | AG11: 0 | AH11: 0 | AI11: 0 | AJ11: 0 | AK11: 0 | AL11: 0 | AM11: 0 | AN11: 0 | AO11: 0 | AP11: 0 | AQ11: 0 | AR11: 0 | AS11: 0 | AT11: 0 | AU11: 0 | AV11: 0 | AW11: 0 | AX11: 0 | AY11: 0 | AZ11: 0 | BA11: 0 | BB11: 0 | BC11: 0 | BD11: 0 | BE11: 0 | BF11: 0 | BG11: 0 | BH11: 0 | BI11: 0 | BJ11: 0 | BK11: 0 | BL11: 0 | BM11: 0 | BN11: 0 | BO11: 0 | BP11: 0 | BQ11: 0 | BR11: 0 | BS11: 0 | BT11: 0 | BU11: 0 | BV11: 0 | BW11: 0 | BX11: 0 | BY11: 0 | BZ11: 0 | CA11: 0 | CB11: 0 | CC11: 0 | CD11: 0 | CE11: 0 | CF11: 0 | CG11: 0 | CH11: 0 | CI11: 0 | CJ11: 0 | CK11: 0 | CL11: 0 | CM11: 0 | CN11: 0 | CO11: 0 | CP11: 0 | CQ11: 0 | CR11: 0 | CS11: 0 | CT11: 0 | CU11: 0 | CV11: 0 | CW11: 0 | CX11: 0 | CY11: 0 | CZ11: 0 | DA11: 0 | DB11: 0 | DC11: 0 | DD11: 0 | DE11: 0 | DF11: 0 | DG11: 0 | DH11: 0 | DI11: 0 | DJ11: 0 | DK11: 0 | DL11: 0 | DM11: 0 | DN11: 0 | DO11: 0 | DP11: 0 | DQ11: 0 | DR11: 0 | DS11: 0 | DT11: 0 | DU11: 0 | DV11: 0 | DW11: =+C11+G11+K11+O11+S11+W11+AA11+AE11+AI11+AM11+AQ11+AU11+AY11+BC11+BG11+BK11+BO11+BS11+BW11+CA11+CE11+CI11+CM11+CQ11+CU11+CY11+DC11+DG11+DK11+DO11+DS11 -> 1.8833333e+08 | DX11: =+D11+H11+L11+P11+T11+X11+AB11+AF11+AJ11+AN11+AR11+AV11+AZ11+BD11+BH11+BL11+BP11+BT11+BX11+CB11+CF11+CJ11+CN11+CR11+CV11+CZ11+DD11+DH11+DL11+DP11+DT11 -> 1.5943685e+08 | DY11: =+E11+I11+M11+Q11+U11+Y11+AC11+AG11+AK11+AO11+AS11+AW11+BA11+BE11+BI11+BM11+BQ11+BU11+BY11+CC11+CG11+CK11+CO11+CS11+CW11+DA11+DE11+DI11+DM11+DQ11+DU11 -> 85524776 | DZ11: =+F11+J11+N11+R11+V11+Z11+AD11+AH11+AL11+AP11+AT11+AX11+BB11+BF11+BJ11+BN11+BR11+BV11+BZ11+CD11+CH11+CL11+CP11+CT11+CX11+DB11+DF11+DJ11+DN11+DR11+DV11 -> 80950616
A12: ACT. 1.2.3. IMPLEMENTACIÓN DEL PROGRAMA INTEGRAL QUE PROMUEVA ACCIONES DE EDUCACIÓN AMBIENTAL, ECONOMÍA CIRCULAR Y NEGOCIOS VERDES EN EL MARCO DE LAS LOS CONOCIMIENTOS Y PRÁCTICAS TRADICIONALES DE LAS COMUNIDADES NEGRAS, AFROCOLOMBIANAS, RAIZALES Y PALENQUERAS. | C12: 1.6666667e+08 | D12: =448310535.88/3 -> 1.4943685e+08 | E12: =256574327.58/3 -> 85524776 | F12: =242851847.58/3 -> 80950616 | G12: =65000000/3 -> 21666667 | H12: =30000000/3 -> 10000000 | I12: 0 | J12: 0 | K12: 0 | L12: 0 | M12: 0 | N12: 0 | O12: 0 | P12: 0 | Q12: 0 | R12: 0 | S12: 0 | T12: 0 | U12: 0 | V12: 0 | W12: 0 | X12: 0 | Y12: 0 | Z12: 0 | AA12: 0 | AB12: 0 | AC12: 0 | AD12: 0 | AE12: 0 | AF12: 0 | AG12: 0 | AH12: 0 | AI12: 0 | AJ12: 0 | AK12: 0 | AL12: 0 | AM12: 0 | AN12: 0 | AO12: 0 | AP12: 0 | AQ12: 0 | AR12: 0 | AS12: 0 | AT12: 0 | AU12: 0 | AV12: 0 | AW12: 0 | AX12: 0 | AY12: 0 | AZ12: 0 | BA12: 0 | BB12: 0 | BC12: 0 | BD12: 0 | BE12: 0 | BF12: 0 | BG12: 0 | BH12: 0 | BI12: 0 | BJ12: 0 | BK12: 0 | BL12: 0 | BM12: 0 | BN12: 0 | BO12: 0 | BP12: 0 | BQ12: 0 | BR12: 0 | BS12: 0 | BT12: 0 | BU12: 0 | BV12: 0 | BW12: 0 | BX12: 0 | BY12: 0 | BZ12: 0 | CA12: 0 | CB12: 0 | CC12: 0 | CD12: 0 | CE12: 0 | CF12: 0 | CG12: 0 | CH12: 0 | CI12: 0 | CJ12: 0 | CK12: 0 | CL12: 0 | CM12: 0 | CN12: 0 | CO12: 0 | CP12: 0 | CQ12: 0 | CR12: 0 | CS12: 0 | CT12: 0 | CU12: 0 | CV12: 0 | CW12: 0 | CX12: 0 | CY12: 0 | CZ12: 0 | DA12: 0 | DB12: 0 | DC12: 0 | DD12: 0 | DE12: 0 | DF12: 0 | DG12: 0 | DH12: 0 | DI12: 0 | DJ12: 0 | DK12: 0 | DL12: 0 | DM12: 0 | DN12: 0 | DO12: 0 | DP12: 0 | DQ12: 0 | DR12: 0 | DS12: 0 | DT12: 0 | DU12: 0 | DV12: 0 | DW12: =+C12+G12+K12+O12+S12+W12+AA12+AE12+AI12+AM12+AQ12+AU12+AY12+BC12+BG12+BK12+BO12+BS12+BW12+CA12+CE12+CI12+CM12+CQ12+CU12+CY12+DC12+DG12+DK12+DO12+DS12 -> 1.8833333e+08 | DX12: =+D12+H12+L12+P12+T12+X12+AB12+AF12+AJ12+AN12+AR12+AV12+AZ12+BD12+BH12+BL12+BP12+BT12+BX12+CB12+CF12+CJ12+CN12+CR12+CV12+CZ12+DD12+DH12+DL12+DP12+DT12 -> 1.5943685e+08 | DY12: =+E12+I12+M12+Q12+U12+Y12+AC12+AG12+AK12+AO12+AS12+AW12+BA12+BE12+BI12+BM12+BQ12+BU12+BY12+CC12+CG12+CK12+CO12+CS12+CW12+DA12+DE12+DI12+DM12+DQ12+DU12 -> 85524776 | DZ12: =+F12+J12+N12+R12+V12+Z12+AD12+AH12+AL12+AP12+AT12+AX12+BB12+BF12+BJ12+BN12+BR12+BV12+BZ12+CD12+CH12+CL12+CP12+CT12+CX12+DB12+DF12+DJ12+DN12+DR12+DV12 -> 80950616 | EA12: =+SUM(DW10:DW12)-B10 -> 0
A13: PROGRAMA 2 (3206). GESTIÓN DEL CAMBIO CLIMÁTICO PARA UN DESARROLLO BAJO EN CARBONO Y RESILIENTE AL CLIMA. | B13: =+B14+B17 -> 1.0799801e+10 | C13: =+C14+C17 -> 600000000 | D13: =+D14+D17 -> 3.7102255e+08 | E13: =+E14+E17 -> 3.1942335e+08 | F13: =+F14+F17 -> 3.110136e+08 | G13: =+G14+G17 -> 720000000 | H13: =+H14+H17 -> 300000000 | I13: =+I14+I17 -> 0 | ... BS13: =+BS14+BS17 -> 0 | BW13: =+BW14+BW17 -> 0 | BX13: =+BX14+BX17 -> 0 | BY13: =+BY14+BY17 -> 0 | BZ13: =+BZ14+BZ17 -> 0 | CA13: =+CA14+CA17 -> 0 | CB13: =+CB14+CB17 -> 0 | CC13: =+CC14+CC17 -> 0 | CD13: =+CD14+CD17 -> 0 | ... DV13: =+DV14+DV17 -> 0 | DW13: =+C13+G13+K13+O13+S13+W13+AA13+AE13+AI13+AM13+AQ13+AU13+AY13+BC13+BG13+BK13+BO13+BS13+BW13+CA13+CE13+CI13+CM13+CQ13+CU13+CY13+DC13+DG13+DK13+DO13+DS13 -> 1.0799801e+10 | DX13: =+D13+H13+L13+P13+T13+X13+AB13+AF13+AJ13+AN13+AR13+AV13+AZ13+BD13+BH13+BL13+BP13+BT13+BX13+CB13+CF13+CJ13+CN13+CR13+CV13+CZ13+DD13+DH13+DL13+DP13+DT13 -> 9.9079962e+09 | DY13: =+E13+I13+M13+Q13+U13+Y13+AC13+AG13+AK13+AO13+AS13+AW13+BA13+BE13+BI13+BM13+BQ13+BU13+BY13+CC13+CG13+CK13+CO13+CS13+CW13+DA13+DE13+DI13+DM13+DQ13+DU13 -> 6.3639083e+08 | DZ13: =+F13+J13+N13+R13+V13+Z13+AD13+AH13+AL13+AP13+AT13+AX13+BB13+BF13+BJ13+BN13+BR13+BV13+BZ13+CD13+CH13+CL13+CP13+CT13+CX13+DB13+DF13+DJ13+DN13+DR13+DV13 -> 6.2798104e+08
A14: PROYECTO 2.1 (3206.03). SERVICIO DE APOYO TÉCNICO PARA LA IMPLEMENTACIÓN DE ACCIONES DE MITIGACIÓN Y ADAPTACIÓN AL CAMBIO CLIMÁTICO, A TRAVÉS DE LA PROMOCIÓN DE ALTERNATIVAS PARA LA EFICIENCIA DEL SECTOR ENERGÉTICO EN EL CESAR, EN ARMONÍA SISTÉMICA CON LA APUESTA DEL PROGRAMA 1. | B14: =SUM(B15:B16) -> 1020000000 | C14: =SUM(C15:C16) -> 300000000 | D14: =SUM(D15:D16) -> 1.7626861e+08 | E14: =SUM(E15:E16) -> 1.4636111e+08 | F14: =SUM(F15:F16) -> 1.4636111e+08 | G14: =SUM(G15:G16) -> 720000000 | H14: =SUM(H15:H16) -> 300000000 | I14: =SUM(I15:I16) -> 0 | ... BS14: =SUM(BS15:BS16) -> 0 | BW14: =SUM(BW15:BW16) -> 0 | BX14: =SUM(BX15:BX16) -> 0 | BY14: =SUM(BY15:BY16) -> 0 | BZ14: =SUM(BZ15:BZ16) -> 0 | CA14: =SUM(CA15:CA16) -> 0 | CB14: =SUM(CB15:CB16) -> 0 | CC14: =SUM(CC15:CC16) -> 0 | CD14: =SUM(CD15:CD16) -> 0 | ... DV14: =SUM(DV15:DV16) -> 0 | DW14: =+C14+G14+K14+O14+S14+W14+AA14+AE14+AI14+AM14+AQ14+AU14+AY14+BC14+BG14+BK14+BO14+BS14+BW14+CA14+CE14+CI14+CM14+CQ14+CU14+CY14+DC14+DG14+DK14+DO14+DS14 -> 1020000000 | DX14: =+D14+H14+L14+P14+T14+X14+AB14+AF14+AJ14+AN14+AR14+AV14+AZ14+BD14+BH14+BL14+BP14+BT14+BX14+CB14+CF14+CJ14+CN14+CR14+CV14+CZ14+DD14+DH14+DL14+DP14+DT14 -> 4.7626861e+08 | DY14: =+E14+I14+M14+Q14+U14+Y14+AC14+AG14+AK14+AO14+AS14+AW14+BA14+BE14+BI14+BM14+BQ14+BU14+BY14+CC14+CG14+CK14+CO14+CS14+CW14+DA14+DE14+DI14+DM14+DQ14+DU14 -> 1.4636111e+08 | DZ14: =+F14+J14+N14+R14+V14+Z14+AD14+AH14+AL14+AP14+AT14+AX14+BB14+BF14+BJ14+BN14+BR14+BV14+BZ14+CD14+CH14+CL14+CP14+CT14+CX14+DB14+DF14+DJ14+DN14+DR14+DV14 -> 1.4636111e+08 | EA14: =+SUM(DW15:DW16)-DW14 -> 0 | EB14: =+DW14-B14 -> 0
A15: ACT. 2.1.1 (3206.003.02). DOCUMENTOS TÉCNICOS DE PROPUESTAS DE ACCIONES DE MITIGACIÓN Y ADAPTACIÓN AL CAMBIO CLIMÁTICO EN FUNCIÓN DEL CUMPLIMIENTO DE METAS Y COMPROMISOS DE MITIGACIÓN Y DE ADAPTACIÓN DISEÑADOS. (IMPLEMENTACIÓN DE LAS AUDIENCIAS ENERGÉTICA, SEGÚN COMPETENCIA DE VIGILANCIA AMBIENTAL). INCLUYE CONTROL AMBIENTAL AL USO DE LOS RN Y USO RACIONAL DE LAS ENERGÍAS). GESTIÓN ANTE LOS REGULADORES DE LOS SECTORES AGUA Y ENERGÍA (CRA Y CREG) PARA PROMOVER EL URE Y LA VINCULACIÓN A LA GESTIÓN AMBIENTAL. | B15: =DW14 -> 1020000000 | C15: =300000000/2 -> 150000000 | D15: =176268606.82/2 -> 88134303 | E15: =146361106.82/2 -> 73180553 | F15: =146361106.82/2 -> 73180553 | G15: =720000000/2 -> 360000000 | H15: 300000000 | I15: 0 | J15: 0 | K15: 0 | L15: 0 | M15: 0 | N15: 0 | O15: 0 | P15: 0 | Q15: 0 | R15: 0 | S15: 0 | T15: 0 | U15: 0 | V15: 0 | W15: 0 | X15: 0 | Y15: 0 | Z15: 0 | AA15: 0 | AB15: 0 | AC15: 0 | AD15: 0 | AE15: 0 | AF15: 0 | AG15: 0 | AH15: 0 | AI15: 0 | AJ15: 0 | AK15: 0 | AL15: 0 | AM15: 0 | AN15: 0 | AO15: 0 | AP15: 0 | AQ15: 0 | AR15: 0 | AS15: 0 | AT15: 0 | AU15: 0 | AV15: 0 | AW15: 0 | AX15: 0 | AY15: 0 | AZ15: 0 | BA15: 0 | BB15: 0 | BC15: 0 | BD15: 0 | BE15: 0 | BF15: 0 | BG15: 0 | BH15: 0 | BI15: 0 | BJ15: 0 | BK15: 0 | BL15: 0 | BM15: 0 | BN15: 0 | BO15: 0 | BP15: 0 | BQ15: 0 | BR15: 0 | BW15: 0 | BX15: 0 | BY15: 0 | BZ15: 0 | CA15: 0 | CB15: 0 | CC15: 0 | CD15: 0 | CE15: 0 | CF15: 0 | CG15: 0 | CH15: 0 | CI15: 0 | CJ15: 0 | CK15: 0 | CL15: 0 | CM15: 0 | CN15: 0 | CO15: 0 | CP15: 0 | CQ15: 0 | CR15: 0 | CS15: 0 | CT15: 0 | CU15: 0 | CV15: 0 | CW15: 0 | CX15: 0 | CY15: 0 | CZ15: 0 | DA15: 0 | DB15: 0 | DC15: 0 | DD15: 0 | DE15: 0 | DF15: 0 | DG15: 0 | DH15: 0 | DI15: 0 | DJ15: 0 | DK15: 0 | DL15: 0 | DM15: 0 | DN15: 0 | DO15: 0 | DP15: 0 | DQ15: 0 | DR15: 0 | DS15: 0 | DT15: 0 | DU15: 0 | DV15: 0 | DW15: =+C15+G15+K15+O15+S15+W15+AA15+AE15+AI15+AM15+AQ15+AU15+AY15+BC15+BG15+BK15+BO15+BS15+BW15+CA15+CE15+CI15+CM15+CQ15+CU15+CY15+DC15+DG15+DK15+DO15+DS15 -> 510000000 | DX15: =+D15+H15+L15+P15+T15+X15+AB15+AF15+AJ15+AN15+AR15+AV15+AZ15+BD15+BH15+BL15+BP15+BT15+BX15+CB15+CF15+CJ15+CN15+CR15+CV15+CZ15+DD15+DH15+DL15+DP15+DT15 -> 3.881343e+08 | DY15: =+E15+I15+M15+Q15+U15+Y15+AC15+AG15+AK15+AO15+AS15+AW15+BA15+BE15+BI15+BM15+BQ15+BU15+BY15+CC15+CG15+CK15+CO15+CS15+CW15+DA15+DE15+DI15+DM15+DQ15+DU15 -> 73180553 | DZ15: =+F15+J15+N15+R15+V15+Z15+AD15+AH15+AL15+AP15+AT15+AX15+BB15+BF15+BJ15+BN15+BR15+BV15+BZ15+CD15+CH15+CL15+CP15+CT15+CX15+DB15+DF15+DJ15+DN15+DR15+DV15 -> 73180553
A16: ACT. 2.1.2. (3206.003.00). PILOTOS CON ACCIONES DE MITIGACIÓN Y ADAPTACIÓN AL CAMBIO CLIMÁTICO DESARROLLADOS INCLUYE, FORMULACIÓN E IMPLEMENTACIÓN DE INTERVENCIONES LOCALES ORIENTADAS A REDUCIR LAS EMISIONES DE GEI, AUMENTO DE SUMIDEROS DE CARBONO, REDUCCIÓN DE LA VULNERABILIDAD, Y AUMENTO DE LA RESILIENCIA A LA VARIABILIDAD Y AL CAMBIO CLIMÁTICO., APOYADA CON EL PROYECTO 6.2 (EDUCACIÓN AMBIENTAL). | C16: =300000000/2 -> 150000000 | D16: =176268606.82/2 -> 88134303 | E16: =146361106.82/2 -> 73180553 | F16: =146361106.82/2 -> 73180553 | G16: =720000000/2 -> 360000000 | H16: 0 | I16: 0 | J16: 0 | K16: 0 | L16: 0 | M16: 0 | N16: 0 | O16: 0 | P16: 0 | Q16: 0 | R16: 0 | S16: 0 | T16: 0 | U16: 0 | V16: 0 | W16: 0 | X16: 0 | Y16: 0 | Z16: 0 | AA16: 0 | AB16: 0 | AC16: 0 | AD16: 0 | AE16: 0 | AF16: 0 | AG16: 0 | AH16: 0 | AI16: 0 | AJ16: 0 | AK16: 0 | AL16: 0 | AM16: 0 | AN16: 0 | AO16: 0 | AP16: 0 | AQ16: 0 | AR16: 0 | AS16: 0 | AT16: 0 | AU16: 0 | AV16: 0 | AW16: 0 | AX16: 0 | AY16: 0 | AZ16: 0 | BA16: 0 | BB16: 0 | BC16: 0 | BD16: 0 | BE16: 0 | BF16: 0 | BG16: 0 | BH16: 0 | BI16: 0 | BJ16: 0 | BK16: 0 | BL16: 0 | BM16: 0 | BN16: 0 | BO16: 0 | BP16: 0 | BQ16: 0 | BR16: 0 | BW16: 0 | BX16: 0 | BY16: 0 | BZ16: 0 | CA16: 0 | CB16: 0 | CC16: 0 | CD16: 0 | CE16: 0 | CF16: 0 | CG16: 0 | CH16: 0 | CI16: 0 | CJ16: 0 | CK16: 0 | CL16: 0 | CM16: 0 | CN16: 0 | CO16: 0 | CP16: 0 | CQ16: 0 | CR16: 0 | CS16: 0 | CT16: 0 | CU16: 0 | CV16: 0 | CW16: 0 | CX16: 0 | CY16: 0 | CZ16: 0 | DA16: 0 | DB16: 0 | DC16: 0 | DD16: 0 | DE16: 0 | DF16: 0 | DG16: 0 | DH16: 0 | DI16: 0 | DJ16: 0 | DK16: 0 | DL16: 0 | DM16: 0 | DN16: 0 | DO16: 0 | DP16: 0 | DQ16: 0 | DR16: 0 | DS16: 0 | DT16: 0 | DU16: 0 | DV16: 0 | DW16: =+C16+G16+K16+O16+S16+W16+AA16+AE16+AI16+AM16+AQ16+AU16+AY16+BC16+BG16+BK16+BO16+BS16+BW16+CA16+CE16+CI16+CM16+CQ16+CU16+CY16+DC16+DG16+DK16+DO16+DS16 -> 510000000 | DX16: =+D16+H16+L16+P16+T16+X16+AB16+AF16+AJ16+AN16+AR16+AV16+AZ16+BD16+BH16+BL16+BP16+BT16+BX16+CB16+CF16+CJ16+CN16+CR16+CV16+CZ16+DD16+DH16+DL16+DP16+DT16 -> 88134303 | DY16: =+E16+I16+M16+Q16+U16+Y16+AC16+AG16+AK16+AO16+AS16+AW16+BA16+BE16+BI16+BM16+BQ16+BU16+BY16+CC16+CG16+CK16+CO16+CS16+CW16+DA16+DE16+DI16+DM16+DQ16+DU16 -> 73180553 | DZ16: =+F16+J16+N16+R16+V16+Z16+AD16+AH16+AL16+AP16+AT16+AX16+BB16+BF16+BJ16+BN16+BR16+BV16+BZ16+CD16+CH16+CL16+CP16+CT16+CX16+DB16+DF16+DJ16+DN16+DR16+DV16 -> 73180553 | EA16: =+SUM(DW15:DW16)-B15 -> 0
A17: PROYECTO 2.2 (3206.01). IMPLEMENTACIÓN Y EVALUACIÓN DE ACCIONES DEL PLAN INTEGRAL DE GESTIÓN DE CAMBIO CLIMÁTICO -PIGCC- TERRITORIAL DEL CESAR. | B17: =SUM(B18:B21) -> 9.7798009e+09 | C17: =SUM(C18:C21) -> 300000000 | D17: =SUM(D18:D21) -> 1.9475394e+08 | E17: =SUM(E18:E21) -> 1.7306224e+08 | F17: =SUM(F18:F21) -> 1.6465249e+08 | G17: =SUM(G19:G21) -> 0 | H17: =SUM(H19:H21) -> 0 | I17: =SUM(I19:I21) -> 0 | J17: =SUM(J19:J21) -> 0 | K17: =SUM(K19:K21) -> 0 | L17: =SUM(L19:L21) -> 0 | M17: =SUM(M19:M21) -> 0 | N17: =SUM(N19:N21) -> 0 | ... AL17: =SUM(AL19:AL21) -> 0 | AM17: =SUM(AM18:AM21) -> 0 | AN17: =SUM(AN18:AN21) -> 0 | AO17: =SUM(AO18:AO21) -> 0 | AP17: =SUM(AP18:AP21) -> 0 | AQ17: =SUM(AQ18:AQ21) -> 0 | AR17: =SUM(AR18:AR21) -> 0 | AS17: =SUM(AS18:AS21) -> 0 | AT17: =SUM(AT18:AT21) -> 0 | ... DV17: =SUM(DV18:DV21) -> 0 | DW17: =+C17+G17+K17+O17+S17+W17+AA17+AE17+AI17+AM17+AQ17+AU17+AY17+BC17+BG17+BK17+BO17+BS17+BW17+CA17+CE17+CI17+CM17+CQ17+CU17+CY17+DC17+DG17+DK17+DO17+DS17 -> 9.7798009e+09 | DX17: =+D17+H17+L17+P17+T17+X17+AB17+AF17+AJ17+AN17+AR17+AV17+AZ17+BD17+BH17+BL17+BP17+BT17+BX17+CB17+CF17+CJ17+CN17+CR17+CV17+CZ17+DD17+DH17+DL17+DP17+DT17 -> 9.4317276e+09 | DY17: =+E17+I17+M17+Q17+U17+Y17+AC17+AG17+AK17+AO17+AS17+AW17+BA17+BE17+BI17+BM17+BQ17+BU17+BY17+CC17+CG17+CK17+CO17+CS17+CW17+DA17+DE17+DI17+DM17+DQ17+DU17 -> 4.9002973e+08 | DZ17: =+F17+J17+N17+R17+V17+Z17+AD17+AH17+AL17+AP17+AT17+AX17+BB17+BF17+BJ17+BN17+BR17+BV17+BZ17+CD17+CH17+CL17+CP17+CT17+CX17+DB17+DF17+DJ17+DN17+DR17+DV17 -> 4.8161994e+08 | EA17: =+SUM(DW18:DW21)-DW17 -> 0 | EB17: =+DW17-B17 -> 0
A18: ACT. 2.2.1 (3206.01.01). GESTIÓN E IMPLEMENTACIÓN DE ESTRATEGIAS Y/O PROYECTOS DE MITIGACIÓN Y ADAPTACIÓN AL CAMBIO CLIMÁTICO, EN EL MARCO DE LOS PLANTEAMIENTOS DEL -PIGCC- CESAR, PRIORIZANDO LAS ACCIONES REALIZADAS CON EL PROYECTO 1.2 Y EL PROGRAMA 3202. | B18: =DW17 -> 9.7798009e+09 | C18: =300000000/4 -> 75000000 | D18: =194753940.87/4 -> 48688485 | E18: =173062239.97/4 -> 43265560 | F18: =164652489.1/4 -> 41163122 | G18: 0 | H18: 0 | I18: 0 | J18: 0 | K18: 0 | L18: 0 | M18: 0 | N18: 0 | O18: 0 | P18: 0 | Q18: 0 | R18: 0 | S18: 0 | T18: 0 | U18: 0 | V18: 0 | W18: 0 | X18: 0 | Y18: 0 | Z18: 0 | AA18: 0 | AB18: 0 | AC18: 0 | AD18: 0 | AE18: 0 | AF18: 0 | AG18: 0 | AH18: 0 | AI18: 0 | AJ18: 0 | AK18: 0 | AL18: 0 | AM18: 0 | AN18: 0 | AO18: 0 | AP18: 0 | AQ18: 0 | AR18: 0 | AS18: 0 | AT18: 0 | AU18: 0 | AV18: 0 | AW18: 0 | AX18: 0 | AY18: 0 | AZ18: 0 | BA18: 0 | BB18: 0 | BC18: 7.4468054e+09 | BD18: 7.4468054e+09 | BE18: 3.1696749e+08 | BF18: 3.1696745e+08 | BG18: 0 | BH18: 0 | BI18: 0 | BJ18: 0 | BK18: 0 | BL18: 0 | BM18: 0 | BN18: 0 | BO18: 0 | BP18: 0 | BQ18: 0 | BR18: 0 | BS18: 0 | BT18: 0 | BU18: 0 | BV18: 0 | BW18: 0 | BX18: 0 | BY18: 0 | BZ18: 0 | CA18: 0 | CB18: 0 | CC18: 0 | CD18: 0 | CE18: 0 | CF18: 0 | CG18: 0 | CH18: 0 | CI18: 0 | CJ18: 0 | CK18: 0 | CL18: 0 | CM18: 0 | CN18: 0 | CO18: 0 | CP18: 0 | CQ18: 0 | CR18: 0 | CS18: 0 | CT18: 0 | CU18: 0 | CV18: 0 | CW18: 0 | CX18: 0 | CY18: 0 | CZ18: 0 | DA18: 0 | DB18: 0 | DC18: 0 | DD18: 0 | DE18: 0 | DF18: 0 | DG18: 0 | DH18: 0 | DI18: 0 | DJ18: 0 | DK18: 0 | DL18: 0 | DM18: 0 | DN18: 0 | DO18: 0 | DP18: 0 | DQ18: 0 | DR18: 0 | DS18: 0 | DT18: 0 | DU18: 0 | DV18: 0 | DW18: =+C18+G18+K18+O18+S18+W18+AA18+AE18+AI18+AM18+AQ18+AU18+AY18+BC18+BG18+BK18+BO18+BS18+BW18+CA18+CE18+CI18+CM18+CQ18+CU18+CY18+DC18+DG18+DK18+DO18+DS18 -> 7.5218054e+09 | DX18: =+D18+H18+L18+P18+T18+X18+AB18+AF18+AJ18+AN18+AR18+AV18+AZ18+BD18+BH18+BL18+BP18+BT18+BX18+CB18+CF18+CJ18+CN18+CR18+CV18+CZ18+DD18+DH18+DL18+DP18+DT18 -> 7.4954939e+09 | DY18: =+E18+I18+M18+Q18+U18+Y18+AC18+AG18+AK18+AO18+AS18+AW18+BA18+BE18+BI18+BM18+BQ18+BU18+BY18+CC18+CG18+CK18+CO18+CS18+CW18+DA18+DE18+DI18+DM18+DQ18+DU18 -> 3.6023305e+08 | DZ18: =+F18+J18+N18+R18+V18+Z18+AD18+AH18+AL18+AP18+AT18+AX18+BB18+BF18+BJ18+BN18+BR18+BV18+BZ18+CD18+CH18+CL18+CP18+CT18+CX18+DB18+DF18+DJ18+DN18+DR18+DV18 -> 3.5813057e+08
A19: ACT. 2.2.2 (3206016). ESTUFA ECOEFICIENTE FIJA (INCLUYE LA CONSTRUCCIÓN E INSTALACIÓN DE ESTUFAS ARTESANALES FIJAS, QUE DISMINUYE EL CONSUMO DE LEÑA Y LA EMISIÓN DE GASES DE EFECTO INVERNADERO – GEI) | C19: =300000000/4 -> 75000000 | D19: =194753940.87/4 -> 48688485 | E19: =173062239.97/4 -> 43265560 | F19: =164652489.1/4 -> 41163122 | G19: 0 | H19: 0 | I19: 0 | J19: 0 | K19: 0 | L19: 0 | M19: 0 | N19: 0 | O19: 0 | P19: 0 | Q19: 0 | R19: 0 | S19: 0 | T19: 0 | U19: 0 | V19: 0 | W19: 0 | X19: 0 | Y19: 0 | Z19: 0 | AA19: 0 | AB19: 0 | AC19: 0 | AD19: 0 | AE19: 0 | AF19: 0 | AG19: 0 | AH19: 0 | AI19: 0 | AJ19: 0 | AK19: 0 | AL19: 0 | AM19: 0 | AN19: 0 | AO19: 0 | AP19: 0 | AQ19: 0 | AR19: 0 | AS19: 0 | AT19: 0 | AU19: 0 | AV19: 0 | AW19: 0 | AX19: 0 | AY19: 0 | AZ19: 0 | BA19: 0 | BB19: 0 | BC19: 2032995444 | BD19: 1790168238 | BG19: 0 | BH19: 0 | BI19: 0 | BJ19: 0 | BK19: 0 | BL19: 0 | BM19: 0 | BN19: 0 | BO19: 0 | BP19: 0 | BQ19: 0 | BR19: 0 | BS19: 0 | BT19: 0 | BU19: 0 | BV19: 0 | BW19: 0 | BX19: 0 | BY19: 0 | BZ19: 0 | CA19: 0 | CB19: 0 | CC19: 0 | CD19: 0 | CE19: 0 | CF19: 0 | CG19: 0 | CH19: 0 | CI19: 0 | CJ19: 0 | CK19: 0 | CL19: 0 | CM19: 0 | CN19: 0 | CO19: 0 | CP19: 0 | CQ19: 0 | CR19: 0 | CS19: 0 | CT19: 0 | CU19: 0 | CV19: 0 | CW19: 0 | CX19: 0 | CY19: 0 | CZ19: 0 | DA19: 0 | DB19: 0 | DC19: 0 | DD19: 0 | DE19: 0 | DF19: 0 | DG19: 0 | DH19: 0 | DI19: 0 | DJ19: 0 | DK19: 0 | DL19: 0 | DM19: 0 | DN19: 0 | DO19: 0 | DP19: 0 | DQ19: 0 | DR19: 0 | DS19: 0 | DT19: 0 | DU19: 0 | DV19: 0 | DW19: =+C19+G19+K19+O19+S19+W19+AA19+AE19+AI19+AM19+AQ19+AU19+AY19+BC19+BG19+BK19+BO19+BS19+BW19+CA19+CE19+CI19+CM19+CQ19+CU19+CY19+DC19+DG19+DK19+DO19+DS19 -> 2107995444 | DX19: =+D19+H19+L19+P19+T19+X19+AB19+AF19+AJ19+AN19+AR19+AV19+AZ19+BD19+BH19+BL19+BP19+BT19+BX19+CB19+CF19+CJ19+CN19+CR19+CV19+CZ19+DD19+DH19+DL19+DP19+DT19 -> 1.8388567e+09 | DY19: =+E19+I19+M19+Q19+U19+Y19+AC19+AG19+AK19+AO19+AS19+AW19+BA19+BE19+BI19+BM19+BQ19+BU19+BY19+CC19+CG19+CK19+CO19+CS19+CW19+DA19+DE19+DI19+DM19+DQ19+DU19 -> 43265560 | DZ19: =+F19+J19+N19+R19+V19+Z19+AD19+AH19+AL19+AP19+AT19+AX19+BB19+BF19+BJ19+BN19+BR19+BV19+BZ19+CD19+CH19+CL19+CP19+CT19+CX19+DB19+DF19+DJ19+DN19+DR19+DV19 -> 41163122
A20: ACT. 2.2.3. SERVICIOS DE INFORMACIÓN PARA EL SEGUIMIENTO A LOS COMPROMISOS EN CAMBIO CLIMÁTICO DE COLOMBIA. - INCLUYE TODAS LAS ACCIONES PROMOVIDAS POR EL GOBIERNO NACIONAL INTRA E INTERINSTITUCIONAL PARA INCIDIR CON CONSIDERACIONES DE CAMBIO CLIMÁTICO EN LOS INSTRUMENTOS DE PLANEACIÓN DE LOS SECTORES Y TERRITORIOS (INCLUYE SISTEMA MRV, SISCLIMA, ENTRE OTROS). | C20: =300000000/4 -> 75000000 | D20: =194753940.87/4 -> 48688485 | E20: =173062239.97/4 -> 43265560 | F20: =164652489.1/4 -> 41163122 | G20: 0 | H20: 0 | I20: 0 | J20: 0 | K20: 0 | L20: 0 | M20: 0 | N20: 0 | O20: 0 | P20: 0 | Q20: 0 | R20: 0 | S20: 0 | T20: 0 | U20: 0 | V20: 0 | W20: 0 | X20: 0 | Y20: 0 | Z20: 0 | AA20: 0 | AB20: 0 | AC20: 0 | AD20: 0 | AE20: 0 | AF20: 0 | AG20: 0 | AH20: 0 | AI20: 0 | AJ20: 0 | AK20: 0 | AL20: 0 | AM20: 0 | AN20: 0 | AO20: 0 | AP20: 0 | AQ20: 0 | AR20: 0 | AS20: 0 | AT20: 0 | AU20: 0 | AV20: 0 | AW20: 0 | AX20: 0 | AY20: 0 | AZ20: 0 | BA20: 0 | BB20: 0 | BG20: 0 | BH20: 0 | BI20: 0 | BJ20: 0 | BK20: 0 | BL20: 0 | BM20: 0 | BN20: 0 | BO20: 0 | BP20: 0 | BQ20: 0 | BR20: 0 | BS20: 0 | BT20: 0 | BU20: 0 | BV20: 0 | BW20: 0 | BX20: 0 | BY20: 0 | BZ20: 0 | CA20: 0 | CB20: 0 | CC20: 0 | CD20: 0 | CE20: 0 | CF20: 0 | CG20: 0 | CH20: 0 | CI20: 0 | CJ20: 0 | CK20: 0 | CL20: 0 | CM20: 0 | CN20: 0 | CO20: 0 | CP20: 0 | CQ20: 0 | CR20: 0 | CS20: 0 | CT20: 0 | CU20: 0 | CV20: 0 | CW20: 0 | CX20: 0 | CY20: 0 | CZ20: 0 | DA20: 0 | DB20: 0 | DC20: 0 | DD20: 0 | DE20: 0 | DF20: 0 | DG20: 0 | DH20: 0 | DI20: 0 | DJ20: 0 | DK20: 0 | DL20: 0 | DM20: 0 | DN20: 0 | DO20: 0 | DP20: 0 | DQ20: 0 | DR20: 0 | DS20: 0 | DT20: 0 | DU20: 0 | DV20: 0 | DW20: =+C20+G20+K20+O20+S20+W20+AA20+AE20+AI20+AM20+AQ20+AU20+AY20+BC20+BG20+BK20+BO20+BS20+BW20+CA20+CE20+CI20+CM20+CQ20+CU20+CY20+DC20+DG20+DK20+DO20+DS20 -> 75000000 | DX20: =+D20+H20+L20+P20+T20+X20+AB20+AF20+AJ20+AN20+AR20+AV20+AZ20+BD20+BH20+BL20+BP20+BT20+BX20+CB20+CF20+CJ20+CN20+CR20+CV20+CZ20+DD20+DH20+DL20+DP20+DT20 -> 48688485 | DY20: =+E20+I20+M20+Q20+U20+Y20+AC20+AG20+AK20+AO20+AS20+AW20+BA20+BE20+BI20+BM20+BQ20+BU20+BY20+CC20+CG20+CK20+CO20+CS20+CW20+DA20+DE20+DI20+DM20+DQ20+DU20 -> 43265560 | DZ20: =+F20+J20+N20+R20+V20+Z20+AD20+AH20+AL20+AP20+AT20+AX20+BB20+BF20+BJ20+BN20+BR20+BV20+BZ20+CD20+CH20+CL20+CP20+CT20+CX20+DB20+DF20+DJ20+DN20+DR20+DV20 -> 41163122
A21: ACT. 2.2.4. (3206.07). SERVICIO DE ARTICULACIÓN PARA LA GESTIÓN DEL CAMBIO CLIMÁTICO EN LA TOMA DE DECISIONES SECTORIALES Y TERRITORIALES. FORTALECIMIENTO DE LA PARTICIPACIÓN Y GESTIÓN DE CORPOCESAR, EN EL NODO REGIONAL DE CAMBIO CLIMÁTICO -NRCC- DEL CARIBE. INCLUYE TODAS LAS ACCIONES PROMOVIDAS POR EL GOBIERNO NACIONAL, INTRA, E INTERINSTITUCIONAL PARA INCIDIR CON CONSIDERACIONES DE CAMBIO CLIMÁTICO EN LOS INSTRUMENTOS DE PLANEACIÓN DE LOS SECTORES Y TERRITORIOS. | C21: =300000000/4 -> 75000000 | D21: =194753940.87/4 -> 48688485 | E21: =173062239.97/4 -> 43265560 | F21: =164652489.1/4 -> 41163122 | G21: 0 | H21: 0 | I21: 0 | J21: 0 | K21: 0 | L21: 0 | M21: 0 | N21: 0 | O21: 0 | P21: 0 | Q21: 0 | R21: 0 | S21: 0 | T21: 0 | U21: 0 | V21: 0 | W21: 0 | X21: 0 | Y21: 0 | Z21: 0 | AA21: 0 | AB21: 0 | AC21: 0 | AD21: 0 | AE21: 0 | AF21: 0 | AG21: 0 | AH21: 0 | AI21: 0 | AJ21: 0 | AK21: 0 | AL21: 0 | AM21: 0 | AN21: 0 | AO21: 0 | AP21: 0 | AQ21: 0 | AR21: 0 | AS21: 0 | AT21: 0 | AU21: 0 | AV21: 0 | AW21: 0 | AX21: 0 | AY21: 0 | AZ21: 0 | BA21: 0 | BB21: 0 | BC21: 0 | BD21: 0 | BE21: 0 | BF21: 0 | BG21: 0 | BH21: 0 | BI21: 0 | BJ21: 0 | BK21: 0 | BL21: 0 | BM21: 0 | BN21: 0 | BO21: 0 | BP21: 0 | BQ21: 0 | BR21: 0 | BS21: 0 | BT21: 0 | BU21: 0 | BV21: 0 | BW21: 0 | BX21: 0 | BY21: 0 | BZ21: 0 | CA21: 0 | CB21: 0 | CC21: 0 | CD21: 0 | CE21: 0 | CF21: 0 | CG21: 0 | CH21: 0 | CI21: 0 | CJ21: 0 | CK21: 0 | CL21: 0 | CM21: 0 | CN21: 0 | CO21: 0 | CP21: 0 | CQ21: 0 | CR21: 0 | CS21: 0 | CT21: 0 | CU21: 0 | CV21: 0 | CW21: 0 | CX21: 0 | CY21: 0 | CZ21: 0 | DA21: 0 | DB21: 0 | DC21: 0 | DD21: 0 | DE21: 0 | DF21: 0 | DG21: 0 | DH21: 0 | DI21: 0 | DJ21: 0 | DK21: 0 | DL21: 0 | DM21: 0 | DN21: 0 | DO21: 0 | DP21: 0 | DQ21: 0 | DR21: 0 | DS21: 0 | DT21: 0 | DU21: 0 | DV21: 0 | DW21: =+C21+G21+K21+O21+S21+W21+AA21+AE21+AI21+AM21+AQ21+AU21+AY21+BC21+BG21+BK21+BO21+BS21+BW21+CA21+CE21+CI21+CM21+CQ21+CU21+CY21+DC21+DG21+DK21+DO21+DS21 -> 75000000 | DX21: =+D21+H21+L21+P21+T21+X21+AB21+AF21+AJ21+AN21+AR21+AV21+AZ21+BD21+BH21+BL21+BP21+BT21+BX21+CB21+CF21+CJ21+CN21+CR21+CV21+CZ21+DD21+DH21+DL21+DP21+DT21 -> 48688485 | DY21: =+E21+I21+M21+Q21+U21+Y21+AC21+AG21+AK21+AO21+AS21+AW21+BA21+BE21+BI21+BM21+BQ21+BU21+BY21+CC21+CG21+CK21+CO21+CS21+CW21+DA21+DE21+DI21+DM21+DQ21+DU21 -> 43265560 | DZ21: =+F21+J21+N21+R21+V21+Z21+AD21+AH21+AL21+AP21+AT21+AX21+BB21+BF21+BJ21+BN21+BR21+BV21+BZ21+CD21+CH21+CL21+CP21+CT21+CX21+DB21+DF21+DJ21+DN21+DR21+DV21 -> 41163122 | EA21: =+SUM(DW18:DW21)-B18 -> 0
A22: LÍNEA ESTRATÉGICA TRANSVERSAL 3. GESTIÓN DEL ORDENAMIENTO AMBIENTAL TERRITORIAL Y GESTIÓN DEL RIESGO. | B22: =+B23+B41 -> 5.1226823e+10 | C22: =+C23+C41 -> 3750000000 | D22: =+D23+D41 -> 2.7710292e+09 | E22: =+E23+E41 -> 1.0365805e+09 | F22: =+F23+F41 -> 9.6373632e+08 | G22: =+G23+G41 -> 2603000000 | H22: =+H23+H41 -> 2378120954 | I22: =+I23+I41 -> 0 | ... DV22: =+DV23+DV41 -> 0 | DW22: =+C22+G22+K22+O22+S22+W22+AA22+AE22+AI22+AM22+AQ22+AU22+AY22+BC22+BG22+BK22+BO22+BS22+BW22+CA22+CE22+CI22+CM22+CQ22+CU22+CY22+DC22+DG22+DK22+DO22+DS22 -> 5.1226823e+10 | DX22: =+D22+H22+L22+P22+T22+X22+AB22+AF22+AJ22+AN22+AR22+AV22+AZ22+BD22+BH22+BL22+BP22+BT22+BX22+CB22+CF22+CJ22+CN22+CR22+CV22+CZ22+DD22+DH22+DL22+DP22+DT22 -> 3.9394097e+10 | DY22: =+E22+I22+M22+Q22+U22+Y22+AC22+AG22+AK22+AO22+AS22+AW22+BA22+BE22+BI22+BM22+BQ22+BU22+BY22+CC22+CG22+CK22+CO22+CS22+CW22+DA22+DE22+DI22+DM22+DQ22+DU22 -> 1.6986556e+10 | DZ22: =+F22+J22+N22+R22+V22+Z22+AD22+AH22+AL22+AP22+AT22+AX22+BB22+BF22+BJ22+BN22+BR22+BV22+BZ22+CD22+CH22+CL22+CP22+CT22+CX22+DB22+DF22+DJ22+DN22+DR22+DV22 -> 1.6913712e+10
A23: PROGRAMA 3 (3203). GESTIÓN INTEGRAL DEL RECURSO HÍDRICO. | B23: =+B24+B39 -> 8.3720325e+09 | C23: =+C24+C39 -> 1.43e+09 | D23: =+D24+D39 -> 8.299611e+08 | E23: =+E24+E39 -> 5.1516295e+08 | F23: =+F24+F39 -> 4.6419511e+08 | G23: =+G24+G39 -> 0 | H23: =+H24+H39 -> 0 | I23: =+I24+I39 -> 0 | ... DV23: =+DV24+DV39 -> 0 | DW23: =+C23+G23+K23+O23+S23+W23+AA23+AE23+AI23+AM23+AQ23+AU23+AY23+BC23+BG23+BK23+BO23+BS23+BW23+CA23+CE23+CI23+CM23+CQ23+CU23+CY23+DC23+DG23+DK23+DO23+DS23 -> 8.3720325e+09 | DX23: =+D23+H23+L23+P23+T23+X23+AB23+AF23+AJ23+AN23+AR23+AV23+AZ23+BD23+BH23+BL23+BP23+BT23+BX23+CB23+CF23+CJ23+CN23+CR23+CV23+CZ23+DD23+DH23+DL23+DP23+DT23 -> 3.6055926e+09 | DY23: =+E23+I23+M23+Q23+U23+Y23+AC23+AG23+AK23+AO23+AS23+AW23+BA23+BE23+BI23+BM23+BQ23+BU23+BY23+CC23+CG23+CK23+CO23+CS23+CW23+DA23+DE23+DI23+DM23+DQ23+DU23 -> 1.4427139e+09 | DZ23: =+F23+J23+N23+R23+V23+Z23+AD23+AH23+AL23+AP23+AT23+AX23+BB23+BF23+BJ23+BN23+BR23+BV23+BZ23+CD23+CH23+CL23+CP23+CT23+CX23+DB23+DF23+DJ23+DN23+DR23+DV23 -> 1.3917461e+09
A24: PROYECTO 3.1 (3203.01). DOCUMENTOS DE LINEAMIENTOS TÉCNICOS PARA LA GESTIÓN INTEGRAL DEL RECURSO HÍDRICO Y MATERIALIZACIÓN DE LA GOBERNANZA EN EL MARCO DE LA PNGIRH, EN EL DPTO. DEL CESAR. | B24: =SUM(B25:B38) -> 7.8920325e+09 | C24: =SUM(C25:C38) -> 1.13e+09 | D24: =SUM(D25:D38) -> 7.5712655e+08 | E24: =SUM(E25:E38) -> 4.4246696e+08 | F24: =SUM(F25:F38) -> 3.9149912e+08 | G24: =SUM(G25:G38) -> 0 | H24: =SUM(H25:H38) -> 0 | I24: =SUM(I25:I38) -> 0 | ... DV24: =SUM(DV25:DV38) -> 0 | DW24: =+C24+G24+K24+O24+S24+W24+AA24+AE24+AI24+AM24+AQ24+AU24+AY24+BC24+BG24+BK24+BO24+BS24+BW24+CA24+CE24+CI24+CM24+CQ24+CU24+CY24+DC24+DG24+DK24+DO24+DS24 -> 7.8920325e+09 | DX24: =+D24+H24+L24+P24+T24+X24+AB24+AF24+AJ24+AN24+AR24+AV24+AZ24+BD24+BH24+BL24+BP24+BT24+BX24+CB24+CF24+CJ24+CN24+CR24+CV24+CZ24+DD24+DH24+DL24+DP24+DT24 -> 3.532758e+09 | DY24: =+E24+I24+M24+Q24+U24+Y24+AC24+AG24+AK24+AO24+AS24+AW24+BA24+BE24+BI24+BM24+BQ24+BU24+BY24+CC24+CG24+CK24+CO24+CS24+CW24+DA24+DE24+DI24+DM24+DQ24+DU24 -> 1.3700179e+09 | DZ24: =+F24+J24+N24+R24+V24+Z24+AD24+AH24+AL24+AP24+AT24+AX24+BB24+BF24+BJ24+BN24+BR24+BV24+BZ24+CD24+CH24+CL24+CP24+CT24+CX24+DB24+DF24+DJ24+DN24+DR24+DV24 -> 1.3190501e+09 | EA24: =+SUM(DW25:DW38)-DW24 -> 0 | EB24: =+DW24-B24 -> 0
A25: ACT. 3.1.1. FORMULACION NUEVOS POMCAS (CUENCA LA FLORESTA - OTROS DIRECTOS AL MAGDALENA MEDIO, CUENCA RIO BADILLO Y OTROS DIRECTOS) | B25: =DW24 -> 7.8920325e+09 | C25: =1130000000/13 -> 86923077 | D25: =757126546.82/13 -> 58240504 | E25: =442466957.88/13 -> 34035920 | F25: =391499124/13 -> 30115317 | G25: 0 | H25: 0 | I25: 0 | J25: 0 | K25: 0 | L25: 0 | M25: 0 | N25: 0 | O25: 0 | P25: 0 | Q25: 0 | R25: 0 | S25: 0 | T25: 0 | U25: 0 | V25: 0 | W25: 0 | X25: 0 | Y25: 0 | Z25: 0 | AA25: 0 | AB25: 0 | AC25: 0 | AD25: 0 | AE25: =169878234.16/13 -> 13067556 | AF25: =11000000/13 -> 846153.85 | AG25: 0 | AH25: 0 | AI25: 0 | AJ25: 0 | AK25: 0 | AL25: 0 | AM25: 0 | AN25: 0 | AO25: 0 | AP25: 0 | AQ25: 0 | AR25: 0 | AS25: 0 | AT25: 0 | AU25: 0 | AV25: 0 | AW25: 0 | AX25: 0 | AY25: =170000000/13 -> 13076923 | AZ25: 0 | BA25: 0 | BB25: 0 | BC25: 2.1465997e+09 | BD25: 2.1465997e+09 | BE25: 8.4590921e+08 | BF25: 8.4590921e+08 | BG25: =660000000/13 -> 50769231 | BH25: =536390026.5/13 -> 41260771 | BI25: 0 | BJ25: 0 | BK25: 0 | BL25: 0 | BM25: 0 | BN25: 0 | BO25: 0 | BP25: 0 | BQ25: 0 | BR25: 0 | BS25: 0 | BT25: 0 | BU25: 0 | BV25: 0 | BW25: 0 | BX25: 0 | BY25: 0 | BZ25: 0 | CA25: 0 | CB25: 0 | CC25: 0 | CD25: 0 | CE25: 0 | CF25: 0 | CG25: 0 | CH25: 0 | CI25: 0 | CJ25: 0 | CK25: 0 | CL25: 0 | CM25: 0 | CN25: 0 | CO25: 0 | CP25: 0 | CQ25: 0 | CR25: 0 | CS25: 0 | CT25: 0 | CU25: 0 | CV25: 0 | CW25: 0 | CX25: 0 | CY25: 0 | CZ25: 0 | DA25: 0 | DB25: 0 | DC25: 0 | DD25: 0 | DE25: 0 | DF25: 0 | DG25: 0 | DH25: 0 | DI25: 0 | DJ25: 0 | DK25: 0 | DL25: 0 | DM25: 0 | DN25: 0 | DO25: 0 | DP25: 0 | DQ25: 0 | DR25: 0 | DS25: 0 | DT25: 0 | DU25: 0 | DV25: 0 | DW25: =+C25+G25+K25+O25+S25+W25+AA25+AE25+AI25+AM25+AQ25+AU25+AY25+BC25+BG25+BK25+BO25+BS25+BW25+CA25+CE25+CI25+CM25+CQ25+CU25+CY25+DC25+DG25+DK25+DO25+DS25 -> 2.3104365e+09 | DX25: =+D25+H25+L25+P25+T25+X25+AB25+AF25+AJ25+AN25+AR25+AV25+AZ25+BD25+BH25+BL25+BP25+BT25+BX25+CB25+CF25+CJ25+CN25+CR25+CV25+CZ25+DD25+DH25+DL25+DP25+DT25 -> 2.2469471e+09 | DY25: =+E25+I25+M25+Q25+U25+Y25+AC25+AG25+AK25+AO25+AS25+AW25+BA25+BE25+BI25+BM25+BQ25+BU25+BY25+CC25+CG25+CK25+CO25+CS25+CW25+DA25+DE25+DI25+DM25+DQ25+DU25 -> 8.7994513e+08 | DZ25: =+F25+J25+N25+R25+V25+Z25+AD25+AH25+AL25+AP25+AT25+AX25+BB25+BF25+BJ25+BN25+BR25+BV25+BZ25+CD25+CH25+CL25+CP25+CT25+CX25+DB25+DF25+DJ25+DN25+DR25+DV25 -> 8.7602453e+08
A26: ACT. 3.1.2. IMPLEMENTACION DE ACCIONES DE POMCA ADOPTADOS. | C26: =1130000000/13 -> 86923077 | D26: =757126546.82/13 -> 58240504 | E26: =442466957.88/13 -> 34035920 | F26: =391499124/13 -> 30115317 | G26: 0 | H26: 0 | I26: 0 | J26: 0 | K26: 0 | L26: 0 | M26: 0 | N26: 0 | O26: 0 | P26: 0 | Q26: 0 | R26: 0 | S26: 0 | T26: 0 | U26: 0 | V26: 0 | W26: 0 | X26: 0 | Y26: 0 | Z26: 0 | AA26: 0 | AB26: 0 | AC26: 0 | AD26: 0 | AE26: =169878234.16/13 -> 13067556 | AF26: =11000000/13 -> 846153.85 | AG26: 0 | AH26: 0 | AI26: 0 | AJ26: 0 | AK26: 0 | AL26: 0 | AM26: 0 | AN26: 0 | AO26: 0 | AP26: 0 | AQ26: 0 | AR26: 0 | AS26: 0 | AT26: 0 | AU26: 0 | AV26: 0 | AW26: 0 | AX26: 0 | AY26: =170000000/13 -> 13076923 | AZ26: 0 | BA26: 0 | BB26: 0 | BC26: 81641765 | BD26: 81641765 | BE26: 81641765 | BF26: 81641765 | BG26: =660000000/13 -> 50769231 | BH26: =536390026.5/13 -> 41260771 | BI26: 0 | BJ26: 0 | BK26: 0 | BL26: 0 | BM26: 0 | BN26: 0 | BO26: 0 | BP26: 0 | BQ26: 0 | BR26: 0 | BS26: 0 | BT26: 0 | BU26: 0 | BV26: 0 | BW26: 0 | BX26: 0 | BY26: 0 | BZ26: 0 | CA26: 0 | CB26: 0 | CC26: 0 | CD26: 0 | CE26: 0 | CF26: 0 | CG26: 0 | CH26: 0 | CI26: 0 | CJ26: 0 | CK26: 0 | CL26: 0 | CM26: 0 | CN26: 0 | CO26: 0 | CP26: 0 | CQ26: 0 | CR26: 0 | CS26: 0 | CT26: 0 | CU26: 0 | CV26: 0 | CW26: 0 | CX26: 0 | CY26: 0 | CZ26: 0 | DA26: 0 | DB26: 0 | DC26: 0 | DD26: 0 | DE26: 0 | DF26: 0 | DG26: 0 | DH26: 0 | DI26: 0 | DJ26: 0 | DK26: 0 | DL26: 0 | DM26: 0 | DN26: 0 | DO26: 0 | DP26: 0 | DQ26: 0 | DR26: 0 | DS26: 0 | DT26: 0 | DU26: 0 | DV26: 0 | DW26: =+C26+G26+K26+O26+S26+W26+AA26+AE26+AI26+AM26+AQ26+AU26+AY26+BC26+BG26+BK26+BO26+BS26+BW26+CA26+CE26+CI26+CM26+CQ26+CU26+CY26+DC26+DG26+DK26+DO26+DS26 -> 2.4547855e+08 | DX26: =+D26+H26+L26+P26+T26+X26+AB26+AF26+AJ26+AN26+AR26+AV26+AZ26+BD26+BH26+BL26+BP26+BT26+BX26+CB26+CF26+CJ26+CN26+CR26+CV26+CZ26+DD26+DH26+DL26+DP26+DT26 -> 1.8198919e+08 | DY26: =+E26+I26+M26+Q26+U26+Y26+AC26+AG26+AK26+AO26+AS26+AW26+BA26+BE26+BI26+BM26+BQ26+BU26+BY26+CC26+CG26+CK26+CO26+CS26+CW26+DA26+DE26+DI26+DM26+DQ26+DU26 -> 1.1567768e+08 | DZ26: =+F26+J26+N26+R26+V26+Z26+AD26+AH26+AL26+AP26+AT26+AX26+BB26+BF26+BJ26+BN26+BR26+BV26+BZ26+CD26+CH26+CL26+CP26+CT26+CX26+DB26+DF26+DJ26+DN26+DR26+DV26 -> 1.1175708e+08
A27: ACT. 3.1.3. GESTION, IMPLEMENTACION Y SEGUIMIENTO DE PMA ACUIFEROS. | C27: =1130000000/13 -> 86923077 | D27: =757126546.82/13 -> 58240504 | E27: =442466957.88/13 -> 34035920 | F27: =391499124/13 -> 30115317 | G27: 0 | H27: 0 | I27: 0 | J27: 0 | K27: 0 | L27: 0 | M27: 0 | N27: 0 | O27: 0 | P27: 0 | Q27: 0 | R27: 0 | S27: 0 | T27: 0 | U27: 0 | V27: 0 | W27: 0 | X27: 0 | Y27: 0 | Z27: 0 | AA27: 0 | AB27: 0 | AC27: 0 | AD27: 0 | AE27: =169878234.16/13 -> 13067556 | AF27: =11000000/13 -> 846153.85 | AG27: 0 | AH27: 0 | AI27: 0 | AJ27: 0 | AK27: 0 | AL27: 0 | AM27: 0 | AN27: 0 | AO27: 0 | AP27: 0 | AQ27: 0 | AR27: 0 | AS27: 0 | AT27: 0 | AU27: 0 | AV27: 0 | AW27: 0 | AX27: 0 | AY27: =170000000/13 -> 13076923 | AZ27: 0 | BA27: 0 | BB27: 0 | BC27: 3533912802 | BG27: =660000000/13 -> 50769231 | BH27: =536390026.5/13 -> 41260771 | BI27: 0 | BJ27: 0 | BK27: 0 | BL27: 0 | BM27: 0 | BN27: 0 | BO27: 0 | BP27: 0 | BQ27: 0 | BR27: 0 | BS27: 0 | BT27: 0 | BU27: 0 | BV27: 0 | BW27: 0 | BX27: 0 | BY27: 0 | BZ27: 0 | CA27: 0 | CB27: 0 | CC27: 0 | CD27: 0 | CE27: 0 | CF27: 0 | CG27: 0 | CH27: 0 | CI27: 0 | CJ27: 0 | CK27: 0 | CL27: 0 | CM27: 0 | CN27: 0 | CO27: 0 | CP27: 0 | CQ27: 0 | CR27: 0 | CS27: 0 | CT27: 0 | CU27: 0 | CV27: 0 | CW27: 0 | CX27: 0 | CY27: 0 | CZ27: 0 | DA27: 0 | DB27: 0 | DC27: 0 | DD27: 0 | DE27: 0 | DF27: 0 | DG27: 0 | DH27: 0 | DI27: 0 | DJ27: 0 | DK27: 0 | DL27: 0 | DM27: 0 | DN27: 0 | DO27: 0 | DP27: 0 | DQ27: 0 | DR27: 0 | DS27: 0 | DT27: 0 | DU27: 0 | DV27: 0 | DW27: =+C27+G27+K27+O27+S27+W27+AA27+AE27+AI27+AM27+AQ27+AU27+AY27+BC27+BG27+BK27+BO27+BS27+BW27+CA27+CE27+CI27+CM27+CQ27+CU27+CY27+DC27+DG27+DK27+DO27+DS27 -> 3.6977496e+09 | DX27: =+D27+H27+L27+P27+T27+X27+AB27+AF27+AJ27+AN27+AR27+AV27+AZ27+BD27+BH27+BL27+BP27+BT27+BX27+CB27+CF27+CJ27+CN27+CR27+CV27+CZ27+DD27+DH27+DL27+DP27+DT27 -> 1.0034743e+08 | DY27: =+E27+I27+M27+Q27+U27+Y27+AC27+AG27+AK27+AO27+AS27+AW27+BA27+BE27+BI27+BM27+BQ27+BU27+BY27+CC27+CG27+CK27+CO27+CS27+CW27+DA27+DE27+DI27+DM27+DQ27+DU27 -> 34035920 | DZ27: =+F27+J27+N27+R27+V27+Z27+AD27+AH27+AL27+AP27+AT27+AX27+BB27+BF27+BJ27+BN27+BR27+BV27+BZ27+CD27+CH27+CL27+CP27+CT27+CX27+DB27+DF27+DJ27+DN27+DR27+DV27 -> 30115317
A28: ACT. 3.1.4. FORMULACION DEL PLAN DE MANEJO DE MICROCUENCAS. | C28: =1130000000/13 -> 86923077 | D28: =757126546.82/13 -> 58240504 | E28: =442466957.88/13 -> 34035920 | F28: =391499124/13 -> 30115317 | G28: 0 | H28: 0 | I28: 0 | J28: 0 | K28: 0 | L28: 0 | M28: 0 | N28: 0 | O28: 0 | P28: 0 | Q28: 0 | R28: 0 | S28: 0 | T28: 0 | U28: 0 | V28: 0 | W28: 0 | X28: 0 | Y28: 0 | Z28: 0 | AA28: 0 | AB28: 0 | AC28: 0 | AD28: 0 | AE28: =169878234.16/13 -> 13067556 | AF28: =11000000/13 -> 846153.85 | AG28: 0 | AH28: 0 | AI28: 0 | AJ28: 0 | AK28: 0 | AL28: 0 | AM28: 0 | AN28: 0 | AO28: 0 | AP28: 0 | AQ28: 0 | AR28: 0 | AS28: 0 | AT28: 0 | AU28: 0 | AV28: 0 | AW28: 0 | AX28: 0 | AY28: =170000000/13 -> 13076923 | AZ28: 0 | BA28: 0 | BB28: 0 | BG28: =660000000/13 -> 50769231 | BH28: =536390026.5/13 -> 41260771 | BI28: 0 | BJ28: 0 | BK28: 0 | BL28: 0 | BM28: 0 | BN28: 0 | BO28: 0 | BP28: 0 | BQ28: 0 | BR28: 0 | BS28: 0 | BT28: 0 | BU28: 0 | BV28: 0 | BW28: 0 | BX28: 0 | BY28: 0 | BZ28: 0 | CA28: 0 | CB28: 0 | CC28: 0 | CD28: 0 | CE28: 0 | CF28: 0 | CG28: 0 | CH28: 0 | CI28: 0 | CJ28: 0 | CK28: 0 | CL28: 0 | CM28: 0 | CN28: 0 | CO28: 0 | CP28: 0 | CQ28: 0 | CR28: 0 | CS28: 0 | CT28: 0 | CU28: 0 | CV28: 0 | CW28: 0 | CX28: 0 | CY28: 0 | CZ28: 0 | DA28: 0 | DB28: 0 | DC28: 0 | DD28: 0 | DE28: 0 | DF28: 0 | DG28: 0 | DH28: 0 | DI28: 0 | DJ28: 0 | DK28: 0 | DL28: 0 | DM28: 0 | DN28: 0 | DO28: 0 | DP28: 0 | DQ28: 0 | DR28: 0 | DS28: 0 | DT28: 0 | DU28: 0 | DV28: 0 | DW28: =+C28+G28+K28+O28+S28+W28+AA28+AE28+AI28+AM28+AQ28+AU28+AY28+BC28+BG28+BK28+BO28+BS28+BW28+CA28+CE28+CI28+CM28+CQ28+CU28+CY28+DC28+DG28+DK28+DO28+DS28 -> 1.6383679e+08 | DX28: =+D28+H28+L28+P28+T28+X28+AB28+AF28+AJ28+AN28+AR28+AV28+AZ28+BD28+BH28+BL28+BP28+BT28+BX28+CB28+CF28+CJ28+CN28+CR28+CV28+CZ28+DD28+DH28+DL28+DP28+DT28 -> 1.0034743e+08 | DY28: =+E28+I28+M28+Q28+U28+Y28+AC28+AG28+AK28+AO28+AS28+AW28+BA28+BE28+BI28+BM28+BQ28+BU28+BY28+CC28+CG28+CK28+CO28+CS28+CW28+DA28+DE28+DI28+DM28+DQ28+DU28 -> 34035920 | DZ28: =+F28+J28+N28+R28+V28+Z28+AD28+AH28+AL28+AP28+AT28+AX28+BB28+BF28+BJ28+BN28+BR28+BV28+BZ28+CD28+CH28+CL28+CP28+CT28+CX28+DB28+DF28+DJ28+DN28+DR28+DV28 -> 30115317
A29: ACT 3.1.5. ACCIONES DE IMPLEMENTACION DEL PLAN DE MANEJO DE MICROCUENCAS | C29: =1130000000/13 -> 86923077 | D29: =757126546.82/13 -> 58240504 | E29: =442466957.88/13 -> 34035920 | F29: =391499124/13 -> 30115317 | G29: 0 | H29: 0 | I29: 0 | J29: 0 | K29: 0 | L29: 0 | M29: 0 | N29: 0 | O29: 0 | P29: 0 | Q29: 0 | R29: 0 | S29: 0 | T29: 0 | U29: 0 | V29: 0 | W29: 0 | X29: 0 | Y29: 0 | Z29: 0 | AA29: 0 | AB29: 0 | AC29: 0 | AD29: 0 | AE29: =169878234.16/13 -> 13067556 | AF29: =11000000/13 -> 846153.85 | AG29: 0 | AH29: 0 | AI29: 0 | AJ29: 0 | AK29: 0 | AL29: 0 | AM29: 0 | AN29: 0 | AO29: 0 | AP29: 0 | AQ29: 0 | AR29: 0 | AS29: 0 | AT29: 0 | AU29: 0 | AV29: 0 | AW29: 0 | AX29: 0 | AY29: =170000000/13 -> 13076923 | AZ29: 0 | BA29: 0 | BB29: 0 | BG29: =660000000/13 -> 50769231 | BH29: =536390026.5/13 -> 41260771 | BI29: 0 | BJ29: 0 | BK29: 0 | BL29: 0 | BM29: 0 | BN29: 0 | BO29: 0 | BP29: 0 | BQ29: 0 | BR29: 0 | BS29: 0 | BT29: 0 | BU29: 0 | BV29: 0 | BW29: 0 | BX29: 0 | BY29: 0 | BZ29: 0 | CA29: 0 | CB29: 0 | CC29: 0 | CD29: 0 | CE29: 0 | CF29: 0 | CG29: 0 | CH29: 0 | CI29: 0 | CJ29: 0 | CK29: 0 | CL29: 0 | CM29: 0 | CN29: 0 | CO29: 0 | CP29: 0 | CQ29: 0 | CR29: 0 | CS29: 0 | CT29: 0 | CU29: 0 | CV29: 0 | CW29: 0 | CX29: 0 | CY29: 0 | CZ29: 0 | DA29: 0 | DB29: 0 | DC29: 0 | DD29: 0 | DE29: 0 | DF29: 0 | DG29: 0 | DH29: 0 | DI29: 0 | DJ29: 0 | DK29: 0 | DL29: 0 | DM29: 0 | DN29: 0 | DO29: 0 | DP29: 0 | DQ29: 0 | DR29: 0 | DS29: 0 | DT29: 0 | DU29: 0 | DV29: 0 | DW29: =+C29+G29+K29+O29+S29+W29+AA29+AE29+AI29+AM29+AQ29+AU29+AY29+BC29+BG29+BK29+BO29+BS29+BW29+CA29+CE29+CI29+CM29+CQ29+CU29+CY29+DC29+DG29+DK29+DO29+DS29 -> 1.6383679e+08 | DX29: =+D29+H29+L29+P29+T29+X29+AB29+AF29+AJ29+AN29+AR29+AV29+AZ29+BD29+BH29+BL29+BP29+BT29+BX29+CB29+CF29+CJ29+CN29+CR29+CV29+CZ29+DD29+DH29+DL29+DP29+DT29 -> 1.0034743e+08 | DY29: =+E29+I29+M29+Q29+U29+Y29+AC29+AG29+AK29+AO29+AS29+AW29+BA29+BE29+BI29+BM29+BQ29+BU29+BY29+CC29+CG29+CK29+CO29+CS29+CW29+DA29+DE29+DI29+DM29+DQ29+DU29 -> 34035920 | DZ29: =+F29+J29+N29+R29+V29+Z29+AD29+AH29+AL29+AP29+AT29+AX29+BB29+BF29+BJ29+BN29+BR29+BV29+BZ29+CD29+CH29+CL29+CP29+CT29+CX29+DB29+DF29+DJ29+DN29+DR29+DV29 -> 30115317
A30: ACT. 3.1.6. FORMULACION DEL PROGRAMA INSTITUCIONAL REGIONAL DE MONITOREO DEL AGUA - PIRMA | C30: =1130000000/13 -> 86923077 | D30: =757126546.82/13 -> 58240504 | E30: =442466957.88/13 -> 34035920 | F30: =391499124/13 -> 30115317 | G30: 0 | H30: 0 | I30: 0 | J30: 0 | K30: 0 | L30: 0 | M30: 0 | N30: 0 | O30: 0 | P30: 0 | Q30: 0 | R30: 0 | S30: 0 | T30: 0 | U30: 0 | V30: 0 | W30: 0 | X30: 0 | Y30: 0 | Z30: 0 | AA30: 0 | AB30: 0 | AC30: 0 | AD30: 0 | AE30: =169878234.16/13 -> 13067556 | AF30: =11000000/13 -> 846153.85 | AG30: 0 | AH30: 0 | AI30: 0 | AJ30: 0 | AK30: 0 | AL30: 0 | AM30: 0 | AN30: 0 | AO30: 0 | AP30: 0 | AQ30: 0 | AR30: 0 | AS30: 0 | AT30: 0 | AU30: 0 | AV30: 0 | AW30: 0 | AX30: 0 | AY30: =170000000/13 -> 13076923 | AZ30: 0 | BA30: 0 | BB30: 0 | BG30: =660000000/13 -> 50769231 | BH30: =536390026.5/13 -> 41260771 | BI30: 0 | BJ30: 0 | BK30: 0 | BL30: 0 | BM30: 0 | BN30: 0 | BO30: 0 | BP30: 0 | BQ30: 0 | BR30: 0 | BS30: 0 | BT30: 0 | BU30: 0 | BV30: 0 | BW30: 0 | BX30: 0 | BY30: 0 | BZ30: 0 | CA30: 0 | CB30: 0 | CC30: 0 | CD30: 0 | CE30: 0 | CF30: 0 | CG30: 0 | CH30: 0 | CI30: 0 | CJ30: 0 | CK30: 0 | CL30: 0 | CM30: 0 | CN30: 0 | CO30: 0 | CP30: 0 | CQ30: 0 | CR30: 0 | CS30: 0 | CT30: 0 | CU30: 0 | CV30: 0 | CW30: 0 | CX30: 0 | CY30: 0 | CZ30: 0 | DA30: 0 | DB30: 0 | DC30: 0 | DD30: 0 | DE30: 0 | DF30: 0 | DG30: 0 | DH30: 0 | DI30: 0 | DJ30: 0 | DK30: 0 | DL30: 0 | DM30: 0 | DN30: 0 | DO30: 0 | DP30: 0 | DQ30: 0 | DR30: 0 | DS30: 0 | DT30: 0 | DU30: 0 | DV30: 0 | DW30: =+C30+G30+K30+O30+S30+W30+AA30+AE30+AI30+AM30+AQ30+AU30+AY30+BC30+BG30+BK30+BO30+BS30+BW30+CA30+CE30+CI30+CM30+CQ30+CU30+CY30+DC30+DG30+DK30+DO30+DS30 -> 1.6383679e+08 | DX30: =+D30+H30+L30+P30+T30+X30+AB30+AF30+AJ30+AN30+AR30+AV30+AZ30+BD30+BH30+BL30+BP30+BT30+BX30+CB30+CF30+CJ30+CN30+CR30+CV30+CZ30+DD30+DH30+DL30+DP30+DT30 -> 1.0034743e+08 | DY30: =+E30+I30+M30+Q30+U30+Y30+AC30+AG30+AK30+AO30+AS30+AW30+BA30+BE30+BI30+BM30+BQ30+BU30+BY30+CC30+CG30+CK30+CO30+CS30+CW30+DA30+DE30+DI30+DM30+DQ30+DU30 -> 34035920 | DZ30: =+F30+J30+N30+R30+V30+Z30+AD30+AH30+AL30+AP30+AT30+AX30+BB30+BF30+BJ30+BN30+BR30+BV30+BZ30+CD30+CH30+CL30+CP30+CT30+CX30+DB30+DF30+DJ30+DN30+DR30+DV30 -> 30115317
